PDS_VERSION_ID = PDS3
/* FILE DATA ELEMENTS */
RECORD_TYPE = STREAM
/* POINTERS TO DATA OBJECTS */
^COMPRESSED_FILE = "H5128_0000_P13.JP2"
/* IDENTIFICATION DATA ELEMENTS */
DATA_SET_ID = "MEX-M-HRSC-5-REFDR-MAPPROJECTED-V3.0"
DATA_SET_NAME = "MARS EXPRESS HRSC MAP PROJECTED REFDR V3.0"
DETECTOR_ID = MEX_HRSC_P1
EVENT_TYPE = "MARS-REGIONAL-MAPPING-Vo"
INSTRUMENT_HOST_ID = MEX
INSTRUMENT_HOST_NAME = "MARS EXPRESS"
INSTRUMENT_ID = HRSC
INSTRUMENT_NAME = "HIGH RESOLUTION STEREO CAMERA"
MISSION_NAME = "MARS EXPRESS"
MISSION_PHASE_NAME = ME_Phase_11
PROCESSING_LEVEL_ID = 3
PRODUCT_CREATION_TIME = 2016-04-27T00:54:51.000Z
PRODUCT_ID = "H5128_0000_P13.JP2"
RELEASE_ID = 0058
REVISION_ID = 0000
/* QUALITY DATA ELEMENTS */
DATA_QUALITY_ID = 2
DATA_QUALITY_DESC = "Data calculated based on photogrammetrically improved orbit and attitude data"
/* TIME DATA ELEMENTS */
SPACECRAFT_CLOCK_START_COUNT = "1/0147054923.08401"
SPACECRAFT_CLOCK_STOP_COUNT = "1/0147055146.32550"
START_TIME = 2007-12-30T00:35:39.125Z
STOP_TIME = 2007-12-30T00:38:21.232Z
/* ORBITAL DATA ELEMENTS */
ASCENDING_NODE_LONGITUDE = 121.41
MAXIMUM_RESOLUTION = 52.4
FOOTPRINT_POINT_LATITUDE = (17.712,17.7125,17.7121,17.7165,17.5102 ,17.3037,17.0971,16.8902,16.6827, 16.4754,16.2678,16.0601,15.8521,15.644, 15.4356,15.227,15.0182,14.8092,14.5999, 14.3905,14.181,13.9713,13.7612,13.5513, 13.3409,13.1304,12.9197,12.7089,12.4978 ,12.2867,12.0821,11.7749,11.57,11.3649, 11.0568,10.7486,10.543,10.3371,10.1311, 9.92498,9.7187,9.41177,9.01227,8.71215, 8.51202,8.31169,8.11125,7.91069,7.60957 ,7.40885,7.38106,7.38058,7.37904, 7.47899,7.67991,7.98068,8.18118,8.38158 ,8.68199,9.082,9.48171,9.68807,9.89428, 10.2035,10.4095,10.6152,10.8212,11.0268 ,11.2322,11.4376,11.6427,11.8477, 12.0525,12.2572,12.4675,12.6786,12.8895 ,13.1003,13.3109,13.5213,13.7316, 13.9417,14.1516,14.3613,14.5708,14.7801 ,15.0937,15.3026,15.5113,15.7197, 15.9279,16.1359,16.3437,16.5513,16.7588 ,16.9659,17.2763,17.4831,17.6897, 17.712)
FOOTPRINT_POINT_LONGITUDE = (245.953,245.628,245.278,244.891, 244.894,244.897,244.9,244.903,244.906, 244.909,244.912,244.915,244.917,244.92, 244.923,244.925,244.927,244.93,244.932, 244.934,244.936,244.939,244.941,244.943 ,244.945,244.946,244.948,244.95,244.952 ,244.953,244.955,244.957,244.958, 244.959,244.961,244.963,244.964,244.965 ,244.966,244.967,244.968,244.969, 244.971,244.972,244.972,244.973,244.973 ,244.974,244.974,244.974,245.36,245.599 ,245.902,246.094,246.096,246.099,246.1, 246.102,246.105,246.109,246.114,246.116 ,246.118,246.121,246.124,246.126, 246.128,246.131,246.133,246.136,246.138 ,246.141,246.143,246.146,246.148, 246.151,246.154,246.156,246.159,246.162 ,246.165,246.168,246.171,246.174, 246.176,246.179,246.184,246.187,246.19, 246.193,246.196,246.199,246.203,246.206 ,246.209,246.212,246.217,246.221, 246.224,245.953)
ORBIT_NUMBER = 5128
ORBITAL_ECCENTRICITY = 0.575
ORBITAL_INCLINATION = 86.72
ORBITAL_SEMIMAJOR_AXIS = 8743.35
PERIAPSIS_ALTITUDE = 317.5
PERIAPSIS_ARGUMENT_ANGLE = 176.18
PERIAPSIS_TIME = 2007-12-30T00:39:34.000Z
SPACECRAFT_ORIENTATION = (0.0,-1.0,0.0)
^MEX_ORIENTATION_DESC = "MEX_ORIENTATION_DESC.TXT"
SPACECRAFT_POINTING_MODE = NADIR
^MEX_POINTING_DESC = "MEX_POINTING_DESC.TXT"
RIGHT_ASCENSION = -1e+32
DECLINATION = -1e+32
OFFSET_ANGLE = -1e+32
SPACECRAFT_SOLAR_DISTANCE = 2.36637e+08
TARGET_NAME = MARS
/* CAMERA DATA ELEMENTS */
DETECTOR_TEMPERATURE = 17.5549
FOCAL_PLANE_TEMPERATURE = 7.7677
INST_CMPRS_NAME = "DISCRETE COSINE TRANSFORMATION (DCT)"
INST_CMPRS_RATIO = 15.0851
INST_CMPRS_QUALITY = 0
INST_CMPRS_QUANTZ_TBL_ID = 0
INSTRUMENT_TEMPERATURE = 11.234
LENS_TEMPERATURE = 8.3794
MACROPIXEL_SIZE = 4
MISSING_FRAMES = 0
PIXEL_SUBSAMPLING_FLAG = N
SIGNAL_CHAIN_ID = 3
/* RADIOMETRIC DATA ELEMENTS */
BANDWIDTH = 174.0
CENTER_FILTER_WAVELENGTH = 675.0
RADIANCE_OFFSET = 2.55292
RADIANCE_SCALING_FACTOR = 0.0184082
REFLECTANCE_SCALING_FACTOR = 0.000554447
MEX:REFLECTANCE_OFFSET = 0.076893
/* IMAGE OBJECT DEFINITIONS */
OBJECT = IMAGE
  INTERCHANGE_FORMAT = BINARY
  LINES = 12263
  LINE_SAMPLES = 1577
  SAMPLE_TYPE = UNSIGNED_INTEGER
  SAMPLE_BITS = 8
  BANDS = 1
  BAND_STORAGE_TYPE = BAND_SEQUENTIAL
  MAXIMUM = 255
  MEAN = 118.093
  MINIMUM = 1
  STANDARD_DEVIATION = 13.9804
END_OBJECT = IMAGE
/* MAP OBJECT DEFINITIONS */
OBJECT = IMAGE_MAP_PROJECTION
  ^DATA_SET_MAP_PROJECTION_CATALOG= "DSMAP.CAT"
  A_AXIS_RADIUS = 3396.0
  B_AXIS_RADIUS = 3396.0
  C_AXIS_RADIUS = 3396.0
  CENTER_LATITUDE = 0.0
  CENTER_LONGITUDE = 246.0
  COORDINATE_SYSTEM_NAME = PLANETOGRAPHIC
  COORDINATE_SYSTEM_TYPE = "BODY-FIXED ROTATING"
  EASTERNMOST_LONGITUDE = 246.224
  FIRST_STANDARD_PARALLEL = "N/A"
  LINE_FIRST_PIXEL = 1
  LINE_LAST_PIXEL = 12263
  LINE_PROJECTION_OFFSET = 21000.625
  MAP_PROJECTION_ROTATION = 0.0
  MAP_PROJECTION_TYPE = SINUSOIDAL
  MAP_RESOLUTION = 1185.42760773333
  MAP_SCALE = 0.05
  MAXIMUM_LATITUDE = 17.7165
  MINIMUM_LATITUDE = 7.37904
  POSITIVE_LONGITUDE_DIRECTION = EAST
  REFERENCE_LATITUDE = "N/A"
  REFERENCE_LONGITUDE = "N/A"
  SAMPLE_FIRST_PIXEL = 1
  SAMPLE_LAST_PIXEL = 1577
  SAMPLE_PROJECTION_OFFSET = 1294.375
  SECOND_STANDARD_PARALLEL = "N/A"
  WESTERNMOST_LONGITUDE = 244.891
END_OBJECT = IMAGE_MAP_PROJECTION
/* The JPEG2000 image data file associated with this label. */
OBJECT = COMPRESSED_FILE
  FILE_NAME = "H5128_0000_P13.JP2"
  RECORD_TYPE = UNDEFINED
  FILE_RECORDS = UNK
  ENCODING_TYPE = "JP2"
  INTERCHANGE_FORMAT = BINARY
  UNCOMPRESSED_FILE_NAME = "H5128_0000_P13.IMG"
  REQUIRED_STORAGE_BYTES = "19357675"
  ^DESCRIPTION = "JP2INFO.TXT"
END_OBJECT = COMPRESSED_FILE
END
