PDS_VERSION_ID = PDS3
/* FILE DATA ELEMENTS */
RECORD_TYPE = STREAM
/* POINTERS TO DATA OBJECTS */
^COMPRESSED_FILE = "H5130_0000_P23.JP2"
/* IDENTIFICATION DATA ELEMENTS */
DATA_SET_ID = "MEX-M-HRSC-5-REFDR-MAPPROJECTED-V3.0"
DATA_SET_NAME = "MARS EXPRESS HRSC MAP PROJECTED REFDR V3.0"
DETECTOR_ID = MEX_HRSC_P2
EVENT_TYPE = "MARS-REGIONAL-MAPPING-Im-Fl-Lc"
INSTRUMENT_HOST_ID = MEX
INSTRUMENT_HOST_NAME = "MARS EXPRESS"
INSTRUMENT_ID = HRSC
INSTRUMENT_NAME = "HIGH RESOLUTION STEREO CAMERA"
MISSION_NAME = "MARS EXPRESS"
MISSION_PHASE_NAME = ME_Phase_11
PROCESSING_LEVEL_ID = 3
PRODUCT_CREATION_TIME = 2016-04-27T00:54:51.000Z
PRODUCT_ID = "H5130_0000_P23.JP2"
RELEASE_ID = 0058
REVISION_ID = 0000
/* QUALITY DATA ELEMENTS */
DATA_QUALITY_ID = 2
DATA_QUALITY_DESC = "Data calculated based on photogrammetrically improved orbit and attitude data"
/* TIME DATA ELEMENTS */
SPACECRAFT_CLOCK_START_COUNT = "1/0147104389.07283"
SPACECRAFT_CLOCK_STOP_COUNT = "1/0147104651.64045"
START_TIME = 2007-12-30T14:20:39.823Z
STOP_TIME = 2007-12-30T14:24:02.512Z
/* ORBITAL DATA ELEMENTS */
ASCENDING_NODE_LONGITUDE = 121.36
MAXIMUM_RESOLUTION = 52.1
FOOTPRINT_POINT_LATITUDE = (4.92467,4.92325,4.92185,4.65508, 4.39594,4.13927,3.87994,3.62424,3.36763 ,3.1102,2.85306,2.5949,2.21089,1.95468, 1.69677,1.43694,1.1826,0.929561, 0.677248,0.422167,0.166798,-0.0885976, -0.344743,-0.732171,-1.11253,-1.36657, -1.61989,-1.87455,-2.13559,-2.39755, -2.65613,-2.91818,-3.17914,-3.44339, -3.70374,-3.96398,-4.35427,-4.74461, -5.01166,-5.27957,-5.68068,-5.94833, -6.21566,-6.4822,-6.74914,-7.01512, -7.28171,-7.54709,-7.94406,-8.14469, -8.1447,-8.14341,-8.1418,-8.13981, -7.74378,-7.34611,-7.08118,-6.8149, -6.41527,-6.14877,-5.88082,-5.61256, -5.34485,-5.07659,-4.8087,-4.54801, -4.28864,-4.02736,-3.7677,-3.50666, -3.24637,-2.98472,-2.59275,-2.33083, -2.06813,-1.80916,-1.55575,-1.3019, -1.0475,-0.793749,-0.539251,-0.157326, 0.224467,0.608304,0.864601,1.12132, 1.37774,1.63312,1.88971,2.14678,2.53382 ,2.91888,3.17611,3.43388,3.69144, 4.07794,4.33576,4.59345,4.85153, 4.92467)
FOOTPRINT_POINT_LONGITUDE = (45.9492,45.6364,45.2007,45.0235, 45.0227,45.0212,45.0204,45.0185,45.0169 ,45.0155,45.0139,45.0127,45.0098,45.008 ,45.0066,45.0059,45.0034,45.0005, 44.9974,44.9952,44.993,44.9908,44.9889, 44.9869,44.9828,44.9803,44.9775,44.9751 ,44.9725,44.9697,44.9657,44.9629, 44.9598,44.9577,44.9544,44.9511,44.9461 ,44.9413,44.9376,44.934,44.9284,44.9249 ,44.9212,44.9174,44.9137,44.9097,44.906 ,44.902,44.8957,44.9961,45.3681,45.7413 ,45.952,46.1436,46.1401,46.1374,46.1353 ,46.1339,46.1317,46.1301,46.1293, 46.1286,46.1274,46.1265,46.1252,46.1239 ,46.1226,46.1223,46.121,46.1204,46.1194 ,46.119,46.118,46.1176,46.1176,46.1176, 46.1172,46.1169,46.1169,46.1165,46.1164 ,46.1164,46.1161,46.1169,46.1176, 46.1186,46.1193,46.1193,46.1201,46.1211 ,46.1233,46.1243,46.1253,46.1265, 46.1276,46.1293,46.1305,46.1316,46.1329 ,45.9492)
ORBIT_NUMBER = 5130
ORBITAL_ECCENTRICITY = 0.575
ORBITAL_INCLINATION = 86.72
ORBITAL_SEMIMAJOR_AXIS = 8733.42
PERIAPSIS_ALTITUDE = 317.74
PERIAPSIS_ARGUMENT_ANGLE = 175.86
PERIAPSIS_TIME = 2007-12-30T14:20:33.000Z
SPACECRAFT_ORIENTATION = (0.0,-1.0,0.0)
^MEX_ORIENTATION_DESC = "MEX_ORIENTATION_DESC.TXT"
SPACECRAFT_POINTING_MODE = ACROSSTRACK
^MEX_POINTING_DESC = "MEX_POINTING_DESC.TXT"
RIGHT_ASCENSION = -1e+32
DECLINATION = -1e+32
OFFSET_ANGLE = 0.17
SPACECRAFT_SOLAR_DISTANCE = 2.36735e+08
TARGET_NAME = MARS
/* CAMERA DATA ELEMENTS */
DETECTOR_TEMPERATURE = 18.5744
FOCAL_PLANE_TEMPERATURE = 8.1755
INST_CMPRS_NAME = "DISCRETE COSINE TRANSFORMATION (DCT)"
INST_CMPRS_RATIO = 7.39836
INST_CMPRS_QUALITY = 0
INST_CMPRS_QUANTZ_TBL_ID = 0
INSTRUMENT_TEMPERATURE = 11.234
LENS_TEMPERATURE = 8.5833
MACROPIXEL_SIZE = 4
MISSING_FRAMES = 0
PIXEL_SUBSAMPLING_FLAG = N
SIGNAL_CHAIN_ID = 3
/* RADIOMETRIC DATA ELEMENTS */
BANDWIDTH = 177.0
CENTER_FILTER_WAVELENGTH = 676.5
RADIANCE_OFFSET = 2.21484
RADIANCE_SCALING_FACTOR = 0.0155896
REFLECTANCE_SCALING_FACTOR = 0.000463252
MEX:REFLECTANCE_OFFSET = 0.0658148
/* IMAGE OBJECT DEFINITIONS */
OBJECT = IMAGE
  INTERCHANGE_FORMAT = BINARY
  LINES = 15483
  LINE_SAMPLES = 1542
  SAMPLE_TYPE = UNSIGNED_INTEGER
  SAMPLE_BITS = 8
  BANDS = 1
  BAND_STORAGE_TYPE = BAND_SEQUENTIAL
  MAXIMUM = 255
  MEAN = 120.303
  MINIMUM = 1
  STANDARD_DEVIATION = 23.8942
END_OBJECT = IMAGE
/* MAP OBJECT DEFINITIONS */
OBJECT = IMAGE_MAP_PROJECTION
  ^DATA_SET_MAP_PROJECTION_CATALOG= "DSMAP.CAT"
  A_AXIS_RADIUS = 3396.0
  B_AXIS_RADIUS = 3396.0
  C_AXIS_RADIUS = 3396.0
  CENTER_LATITUDE = 0.0
  CENTER_LONGITUDE = 46.0
  COORDINATE_SYSTEM_NAME = PLANETOGRAPHIC
  COORDINATE_SYSTEM_TYPE = "BODY-FIXED ROTATING"
  EASTERNMOST_LONGITUDE = 46.1436
  FIRST_STANDARD_PARALLEL = "N/A"
  LINE_FIRST_PIXEL = 1
  LINE_LAST_PIXEL = 15483
  LINE_PROJECTION_OFFSET = 5847.625
  MAP_PROJECTION_ROTATION = 0.0
  MAP_PROJECTION_TYPE = SINUSOIDAL
  MAP_RESOLUTION = 1185.42760773333
  MAP_SCALE = 0.05
  MAXIMUM_LATITUDE = 4.92467
  MINIMUM_LATITUDE = -8.1447
  POSITIVE_LONGITUDE_DIRECTION = EAST
  REFERENCE_LATITUDE = "N/A"
  REFERENCE_LONGITUDE = "N/A"
  SAMPLE_FIRST_PIXEL = 1
  SAMPLE_LAST_PIXEL = 1542
  SAMPLE_PROJECTION_OFFSET = 1321.125
  SECOND_STANDARD_PARALLEL = "N/A"
  WESTERNMOST_LONGITUDE = 44.8957
END_OBJECT = IMAGE_MAP_PROJECTION
/* The JPEG2000 image data file associated with this label. */
OBJECT = COMPRESSED_FILE
  FILE_NAME = "H5130_0000_P23.JP2"
  RECORD_TYPE = UNDEFINED
  FILE_RECORDS = UNK
  ENCODING_TYPE = "JP2"
  INTERCHANGE_FORMAT = BINARY
  UNCOMPRESSED_FILE_NAME = "H5130_0000_P23.IMG"
  REQUIRED_STORAGE_BYTES = "23894832"
  ^DESCRIPTION = "JP2INFO.TXT"
END_OBJECT = COMPRESSED_FILE
END
