PDS_VERSION_ID = PDS3
/* FILE DATA ELEMENTS */
RECORD_TYPE = STREAM
/* POINTERS TO DATA OBJECTS */
^COMPRESSED_FILE = "H5132_0000_GR3.JP2"
/* IDENTIFICATION DATA ELEMENTS */
DATA_SET_ID = "MEX-M-HRSC-5-REFDR-MAPPROJECTED-V3.0"
DATA_SET_NAME = "MARS EXPRESS HRSC MAP PROJECTED REFDR V3.0"
DETECTOR_ID = MEX_HRSC_GREEN
EVENT_TYPE = "MARS-REGIONAL-MAPPING-Vo-Fl-Eo"
INSTRUMENT_HOST_ID = MEX
INSTRUMENT_HOST_NAME = "MARS EXPRESS"
INSTRUMENT_ID = HRSC
INSTRUMENT_NAME = "HIGH RESOLUTION STEREO CAMERA"
MISSION_NAME = "MARS EXPRESS"
MISSION_PHASE_NAME = ME_Phase_11
PROCESSING_LEVEL_ID = 3
PRODUCT_CREATION_TIME = 2016-04-27T00:54:51.000Z
PRODUCT_ID = "H5132_0000_GR3.JP2"
RELEASE_ID = 0058
REVISION_ID = 0000
/* QUALITY DATA ELEMENTS */
DATA_QUALITY_ID = 2
DATA_QUALITY_DESC = "Data calculated based on photogrammetrically improved orbit and attitude data"
/* TIME DATA ELEMENTS */
SPACECRAFT_CLOCK_START_COUNT = "1/0147153484.08243"
SPACECRAFT_CLOCK_STOP_COUNT = "1/0147153871.32029"
START_TIME = 2007-12-31T03:58:34.783Z
STOP_TIME = 2007-12-31T04:03:56.949Z
/* ORBITAL DATA ELEMENTS */
ASCENDING_NODE_LONGITUDE = 121.33
MAXIMUM_RESOLUTION = 103.1
FOOTPRINT_POINT_LATITUDE = (15.4161,15.4167,15.4094,14.9731, 14.5363,14.0989,13.6611,13.2369,12.8123 ,12.3872,11.9616,11.5357,11.1095, 10.6842,10.2715,9.85851,9.44522,9.03161 ,8.61778,8.20371,7.7894,7.37489,6.96018 ,6.54528,6.13023,5.71508,5.092,4.6766, 4.26098,3.63773,3.22175,2.80612,2.39071 ,1.9746,1.35106,0.936309,0.521165, 0.105063,-0.518082,-0.933102,-1.5553, -2.17734,-2.79878,-3.22256,-3.65226, -4.07955,-4.50735,-4.93502,-5.36248, -5.62933,-5.63179,-5.20501,-4.77762, -4.35001,-3.92198,-3.49455,-2.85529, -2.44013,-2.02551,-1.6106,-1.19557, -0.780544,-0.365267,0.0502562,0.674324, 1.09022,1.50582,2.12928,2.75286,3.16866 ,3.58443,4.00015,4.41582,4.83141, 5.24692,5.66234,6.07766,6.49279,6.90778 ,7.32262,7.73724,8.15166,8.5659,8.97986 ,9.39359,9.80706,10.2202,10.6332,11.057 ,11.4834,11.9095,12.3352,12.7605, 13.1854,13.6097,14.0463,14.4839,14.921, 15.3575,15.4161)
FOOTPRINT_POINT_LONGITUDE = (205.471,205.124,204.725,204.73,204.734 ,204.738,204.741,204.745,204.748,204.75 ,204.753,204.755,204.757,204.758,204.76 ,204.761,204.762,204.763,204.764, 204.764,204.765,204.765,204.764,204.764 ,204.764,204.763,204.761,204.76,204.759 ,204.757,204.755,204.753,204.751, 204.748,204.745,204.744,204.742,204.738 ,204.733,204.73,204.725,204.72,204.715, 204.709,204.702,204.699,204.695,204.689 ,204.684,205.043,205.531,205.859, 205.858,205.857,205.856,205.857,205.857 ,205.856,205.856,205.856,205.857, 205.858,205.858,205.859,205.859,205.86, 205.862,205.864,205.867,205.869,205.871 ,205.873,205.875,205.878,205.88,205.883 ,205.886,205.889,205.892,205.895, 205.898,205.901,205.905,205.909,205.912 ,205.916,205.92,205.924,205.928,205.933 ,205.937,205.942,205.947,205.952, 205.957,205.962,205.968,205.973,205.979 ,205.471)
ORBIT_NUMBER = 5132
ORBITAL_ECCENTRICITY = 0.574
ORBITAL_INCLINATION = 86.72
ORBITAL_SEMIMAJOR_AXIS = 8727.58
PERIAPSIS_ALTITUDE = 318.32
PERIAPSIS_ARGUMENT_ANGLE = 175.47
PERIAPSIS_TIME = 2007-12-31T04:01:26.000Z
SPACECRAFT_ORIENTATION = (0.0,-1.0,0.0)
^MEX_ORIENTATION_DESC = "MEX_ORIENTATION_DESC.TXT"
SPACECRAFT_POINTING_MODE = NADIR
^MEX_POINTING_DESC = "MEX_POINTING_DESC.TXT"
RIGHT_ASCENSION = -1e+32
DECLINATION = -1e+32
OFFSET_ANGLE = -1e+32
SPACECRAFT_SOLAR_DISTANCE = 2.36832e+08
TARGET_NAME = MARS
/* CAMERA DATA ELEMENTS */
DETECTOR_TEMPERATURE = 18.5744
FOCAL_PLANE_TEMPERATURE = 8.5833
INST_CMPRS_NAME = "DISCRETE COSINE TRANSFORMATION (DCT)"
INST_CMPRS_RATIO = 10.1778
INST_CMPRS_QUALITY = 0
INST_CMPRS_QUANTZ_TBL_ID = 0
INSTRUMENT_TEMPERATURE = 11.0301
LENS_TEMPERATURE = 8.7872
MACROPIXEL_SIZE = 8
MISSING_FRAMES = 0
PIXEL_SUBSAMPLING_FLAG = N
SIGNAL_CHAIN_ID = 2
/* RADIOMETRIC DATA ELEMENTS */
BANDWIDTH = 88.0
CENTER_FILTER_WAVELENGTH = 538.0
RADIANCE_OFFSET = 0.946912
RADIANCE_SCALING_FACTOR = 0.00394547
REFLECTANCE_SCALING_FACTOR = 0.000190531
MEX:REFLECTANCE_OFFSET = 0.0457276
/* IMAGE OBJECT DEFINITIONS */
OBJECT = IMAGE
  INTERCHANGE_FORMAT = BINARY
  LINES = 12472
  LINE_SAMPLES = 797
  SAMPLE_TYPE = UNSIGNED_INTEGER
  SAMPLE_BITS = 8
  BANDS = 1
  BAND_STORAGE_TYPE = BAND_SEQUENTIAL
  MAXIMUM = 255
  MEAN = 125.895
  MINIMUM = 1
  STANDARD_DEVIATION = 30.1712
END_OBJECT = IMAGE
/* MAP OBJECT DEFINITIONS */
OBJECT = IMAGE_MAP_PROJECTION
  ^DATA_SET_MAP_PROJECTION_CATALOG= "DSMAP.CAT"
  A_AXIS_RADIUS = 3396.0
  B_AXIS_RADIUS = 3396.0
  C_AXIS_RADIUS = 3396.0
  CENTER_LATITUDE = 0.0
  CENTER_LONGITUDE = 205.0
  COORDINATE_SYSTEM_NAME = PLANETOGRAPHIC
  COORDINATE_SYSTEM_TYPE = "BODY-FIXED ROTATING"
  EASTERNMOST_LONGITUDE = 205.979
  FIRST_STANDARD_PARALLEL = "N/A"
  LINE_FIRST_PIXEL = 1
  LINE_LAST_PIXEL = 12472
  LINE_PROJECTION_OFFSET = 9140.6875
  MAP_PROJECTION_ROTATION = 0.0
  MAP_PROJECTION_TYPE = SINUSOIDAL
  MAP_RESOLUTION = 592.713803866667
  MAP_SCALE = 0.1
  MAXIMUM_LATITUDE = 15.4167
  MINIMUM_LATITUDE = -5.63179
  POSITIVE_LONGITUDE_DIRECTION = EAST
  REFERENCE_LATITUDE = "N/A"
  REFERENCE_LONGITUDE = "N/A"
  SAMPLE_FIRST_PIXEL = 1
  SAMPLE_LAST_PIXEL = 797
  SAMPLE_PROJECTION_OFFSET = 220.8125
  SECOND_STANDARD_PARALLEL = "N/A"
  WESTERNMOST_LONGITUDE = 204.684
END_OBJECT = IMAGE_MAP_PROJECTION
/* The JPEG2000 image data file associated with this label. */
OBJECT = COMPRESSED_FILE
  FILE_NAME = "H5132_0000_GR3.JP2"
  RECORD_TYPE = UNDEFINED
  FILE_RECORDS = UNK
  ENCODING_TYPE = "JP2"
  INTERCHANGE_FORMAT = BINARY
  UNCOMPRESSED_FILE_NAME = "H5132_0000_GR3.IMG"
  REQUIRED_STORAGE_BYTES = "9957718"
  ^DESCRIPTION = "JP2INFO.TXT"
END_OBJECT = COMPRESSED_FILE
END
