PDS_VERSION_ID = PDS3
/* FILE DATA ELEMENTS */
RECORD_TYPE = STREAM
/* POINTERS TO DATA OBJECTS */
^COMPRESSED_FILE = "H5133_0000_ND3.JP2"
/* IDENTIFICATION DATA ELEMENTS */
DATA_SET_ID = "MEX-M-HRSC-5-REFDR-MAPPROJECTED-V3.0"
DATA_SET_NAME = "MARS EXPRESS HRSC MAP PROJECTED REFDR V3.0"
DETECTOR_ID = MEX_HRSC_NADIR
EVENT_TYPE = "MARS-REGIONAL-MAPPING-Te-Pf-Mw"
INSTRUMENT_HOST_ID = MEX
INSTRUMENT_HOST_NAME = "MARS EXPRESS"
INSTRUMENT_ID = HRSC
INSTRUMENT_NAME = "HIGH RESOLUTION STEREO CAMERA"
MISSION_NAME = "MARS EXPRESS"
MISSION_PHASE_NAME = ME_Phase_11
PROCESSING_LEVEL_ID = 3
PRODUCT_CREATION_TIME = 2016-04-27T00:54:51.000Z
PRODUCT_ID = "H5133_0000_ND3.JP2"
RELEASE_ID = 0058
REVISION_ID = 0000
/* QUALITY DATA ELEMENTS */
DATA_QUALITY_ID = 1
DATA_QUALITY_DESC = "Data calculated based on original SPICE kernels"
/* TIME DATA ELEMENTS */
SPACECRAFT_CLOCK_START_COUNT = "1/0147178009.07293"
SPACECRAFT_CLOCK_STOP_COUNT = "1/0147178332.06085"
START_TIME = 2007-12-31T10:47:30.694Z
STOP_TIME = 2007-12-31T10:51:44.709Z
/* ORBITAL DATA ELEMENTS */
ASCENDING_NODE_LONGITUDE = 121.3
MAXIMUM_RESOLUTION = 12.9
FOOTPRINT_POINT_LATITUDE = (22.0323,22.0281,22.0209,21.6421, 21.2627,20.8828,20.5023,20.1213,19.7398 ,19.3578,18.7956,18.4746,18.1532, 17.8315,17.5095,17.1872,16.8646,16.5417 ,16.2185,15.895,15.5713,15.2473,14.923, 14.5986,14.2738,13.9488,13.6237,13.2982 ,12.9726,12.6468,12.161,11.8452,11.5293 ,11.0551,10.7388,10.4224,10.1058, 9.78904,9.47225,9.15533,8.83829,8.52116 ,8.2039,7.73136,7.11762,6.50367,5.88959 ,5.58249,5.56482,5.56366,5.71575, 6.02304,6.33028,6.63748,7.09826,7.40538 ,7.71246,8.02608,8.34358,8.661,8.97834, 9.29559,9.61272,9.92972,10.2466,10.5634 ,10.8801,11.1967,11.513,11.8292,12.1453 ,12.631,12.9572,13.2832,13.6089,13.9345 ,14.2598,14.5849,14.9097,15.2344, 15.5587,15.8829,16.2067,16.5303,16.8537 ,17.1767,17.4995,17.8219,18.1441, 18.4659,18.7874,19.3471,19.7298,20.1119 ,20.4935,20.8746,21.2552,21.6353, 22.0148,22.0323)
FOOTPRINT_POINT_LONGITUDE = (104.25,103.78,103.176,103.188,103.199, 103.211,103.222,103.233,103.243,103.253 ,103.266,103.274,103.281,103.289, 103.296,103.302,103.31,103.316,103.323, 103.329,103.336,103.341,103.347,103.352 ,103.357,103.362,103.367,103.371, 103.375,103.381,103.385,103.388,103.393 ,103.405,103.407,103.404,103.409, 103.412,103.41,103.411,103.413,103.415, 103.419,103.418,103.421,103.422,103.421 ,103.421,103.81,104.162,104.61,104.612, 104.614,104.616,104.617,104.618,104.619 ,104.62,104.622,104.623,104.625,104.626 ,104.628,104.63,104.632,104.634,104.633 ,104.635,104.636,104.638,104.639, 104.641,104.643,104.645,104.646,104.648 ,104.65,104.651,104.653,104.655,104.657 ,104.659,104.66,104.662,104.664,104.666 ,104.668,104.669,104.671,104.673, 104.675,104.679,104.681,104.684,104.686 ,104.689,104.691,104.694,104.696, 104.25)
ORBIT_NUMBER = 5133
ORBITAL_ECCENTRICITY = 0.575
ORBITAL_INCLINATION = 86.72
ORBITAL_SEMIMAJOR_AXIS = 8732.78
PERIAPSIS_ALTITUDE = 317.99
PERIAPSIS_ARGUMENT_ANGLE = 175.3
PERIAPSIS_TIME = 2007-12-31T10:51:58.000Z
SPACECRAFT_ORIENTATION = (0.0,-1.0,0.0)
^MEX_ORIENTATION_DESC = "MEX_ORIENTATION_DESC.TXT"
SPACECRAFT_POINTING_MODE = ACROSSTRACK
^MEX_POINTING_DESC = "MEX_POINTING_DESC.TXT"
RIGHT_ASCENSION = -1e+32
DECLINATION = -1e+32
OFFSET_ANGLE = -1.2
SPACECRAFT_SOLAR_DISTANCE = 2.3688e+08
TARGET_NAME = MARS
/* CAMERA DATA ELEMENTS */
DETECTOR_TEMPERATURE = 18.3705
FOCAL_PLANE_TEMPERATURE = 7.9716
INST_CMPRS_NAME = "DISCRETE COSINE TRANSFORMATION (DCT)"
INST_CMPRS_RATIO = 5.31638
INST_CMPRS_QUALITY = 0
INST_CMPRS_QUANTZ_TBL_ID = 0
INSTRUMENT_TEMPERATURE = 11.234
LENS_TEMPERATURE = 8.5833
MACROPIXEL_SIZE = 1
MISSING_FRAMES = 0
PIXEL_SUBSAMPLING_FLAG = N
SIGNAL_CHAIN_ID = 0
/* RADIOMETRIC DATA ELEMENTS */
BANDWIDTH = 177.0
CENTER_FILTER_WAVELENGTH = 677.5
RADIANCE_OFFSET = 2.36414
RADIANCE_SCALING_FACTOR = 0.015052
REFLECTANCE_SCALING_FACTOR = 0.000448677
MEX:REFLECTANCE_OFFSET = 0.0704715
/* IMAGE OBJECT DEFINITIONS */
OBJECT = IMAGE
  INTERCHANGE_FORMAT = BINARY
  LINES = 78113
  LINE_SAMPLES = 7129
  SAMPLE_TYPE = UNSIGNED_INTEGER
  SAMPLE_BITS = 8
  BANDS = 1
  BAND_STORAGE_TYPE = BAND_SEQUENTIAL
  MAXIMUM = 255
  MEAN = 103.528
  MINIMUM = 1
  STANDARD_DEVIATION = 20.2444
END_OBJECT = IMAGE
/* MAP OBJECT DEFINITIONS */
OBJECT = IMAGE_MAP_PROJECTION
  ^DATA_SET_MAP_PROJECTION_CATALOG= "DSMAP.CAT"
  A_AXIS_RADIUS = 3396.0
  B_AXIS_RADIUS = 3396.0
  C_AXIS_RADIUS = 3396.0
  CENTER_LATITUDE = 0.0
  CENTER_LONGITUDE = 104.0
  COORDINATE_SYSTEM_NAME = PLANETOGRAPHIC
  COORDINATE_SYSTEM_TYPE = "BODY-FIXED ROTATING"
  EASTERNMOST_LONGITUDE = 104.696
  FIRST_STANDARD_PARALLEL = "N/A"
  LINE_FIRST_PIXEL = 1
  LINE_LAST_PIXEL = 78113
  LINE_PROJECTION_OFFSET = 104485.0
  MAP_PROJECTION_ROTATION = 0.0
  MAP_PROJECTION_TYPE = SINUSOIDAL
  MAP_RESOLUTION = 4741.71043093333
  MAP_SCALE = 0.0125
  MAXIMUM_LATITUDE = 22.0323
  MINIMUM_LATITUDE = 5.56366
  POSITIVE_LONGITUDE_DIRECTION = EAST
  REFERENCE_LATITUDE = "N/A"
  REFERENCE_LONGITUDE = "N/A"
  SAMPLE_FIRST_PIXEL = 1
  SAMPLE_LAST_PIXEL = 7129
  SAMPLE_PROJECTION_OFFSET = 4023.0
  SECOND_STANDARD_PARALLEL = "N/A"
  WESTERNMOST_LONGITUDE = 103.176
END_OBJECT = IMAGE_MAP_PROJECTION
/* The JPEG2000 image data file associated with this label. */
OBJECT = COMPRESSED_FILE
  FILE_NAME = "H5133_0000_ND3.JP2"
  RECORD_TYPE = UNDEFINED
  FILE_RECORDS = UNK
  ENCODING_TYPE = "JP2"
  INTERCHANGE_FORMAT = BINARY
  UNCOMPRESSED_FILE_NAME = "H5133_0000_ND3.IMG"
  REQUIRED_STORAGE_BYTES = "556896093"
  ^DESCRIPTION = "JP2INFO.TXT"
END_OBJECT = COMPRESSED_FILE
END
