PDS_VERSION_ID = PDS3
/* FILE DATA ELEMENTS */
RECORD_TYPE = STREAM
/* POINTERS TO DATA OBJECTS */
^COMPRESSED_FILE = "H5133_0000_P13.JP2"
/* IDENTIFICATION DATA ELEMENTS */
DATA_SET_ID = "MEX-M-HRSC-5-REFDR-MAPPROJECTED-V3.0"
DATA_SET_NAME = "MARS EXPRESS HRSC MAP PROJECTED REFDR V3.0"
DETECTOR_ID = MEX_HRSC_P1
EVENT_TYPE = "MARS-REGIONAL-MAPPING-Te-Pf-Mw"
INSTRUMENT_HOST_ID = MEX
INSTRUMENT_HOST_NAME = "MARS EXPRESS"
INSTRUMENT_ID = HRSC
INSTRUMENT_NAME = "HIGH RESOLUTION STEREO CAMERA"
MISSION_NAME = "MARS EXPRESS"
MISSION_PHASE_NAME = ME_Phase_11
PROCESSING_LEVEL_ID = 3
PRODUCT_CREATION_TIME = 2016-04-27T00:54:51.000Z
PRODUCT_ID = "H5133_0000_P13.JP2"
RELEASE_ID = 0058
REVISION_ID = 0000
/* QUALITY DATA ELEMENTS */
DATA_QUALITY_ID = 1
DATA_QUALITY_DESC = "Data calculated based on original SPICE kernels"
/* TIME DATA ELEMENTS */
SPACECRAFT_CLOCK_START_COUNT = "1/0147178009.07293"
SPACECRAFT_CLOCK_STOP_COUNT = "1/0147178332.06085"
START_TIME = 2007-12-31T10:47:06.218Z
STOP_TIME = 2007-12-31T10:51:25.688Z
/* ORBITAL DATA ELEMENTS */
ASCENDING_NODE_LONGITUDE = 121.3
MAXIMUM_RESOLUTION = 53.1
FOOTPRINT_POINT_LATITUDE = (22.0801,22.0585,22.0468,22.0344, 22.0214,21.9768,21.6125,21.2474,20.8817 ,20.3312,19.964,19.5952,19.2257,18.8554 ,18.4845,18.1128,17.7407,17.2155, 16.7457,16.4319,15.9601,15.6453,15.3295 ,15.0136,14.6968,14.2209,13.9033, 13.5851,13.1073,12.7887,12.3102,11.9888 ,11.6691,11.1922,10.7167,10.3992, 10.0916,9.77994,9.46482,9.15079,8.83788 ,8.52486,8.05464,7.73953,7.42529, 7.11104,6.79572,6.48402,6.17735,5.87205 ,5.56686,5.53619,5.55506,5.57063, 5.73491,6.04042,6.34711,6.6562,6.97076, 7.28555,7.59948,8.07013,8.38497,8.69964 ,9.01328,9.32597,9.79836,10.112,10.4236 ,10.8876,11.2051,11.527,12.0102,12.3296 ,12.6484,12.9676,13.2872,13.6061, 13.9244,14.2429,14.7194,15.0362,15.5109 ,15.8267,16.1418,16.6143,16.9281, 17.3988,17.9449,18.3175,18.6895,19.0601 ,19.6163,19.9856,20.3543,20.7225, 21.0897,21.456,21.8214,22.0801)
FOOTPRINT_POINT_LONGITUDE = (104.617,104.17,103.943,103.712,103.478 ,103.158,103.169,103.181,103.193, 103.209,103.22,103.231,103.241,103.25, 103.259,103.269,103.278,103.289,103.3, 103.307,103.317,103.323,103.329,103.335 ,103.341,103.348,103.353,103.358, 103.365,103.371,103.378,103.38,103.385, 103.397,103.401,103.396,103.405,103.408 ,103.407,103.407,103.41,103.412,103.415 ,103.415,103.417,103.418,103.419, 103.422,103.42,103.42,103.421,103.72, 104.079,104.394,104.61,104.612,104.614, 104.617,104.618,104.619,104.62,104.622, 104.624,104.626,104.628,104.629,104.633 ,104.636,104.637,104.638,104.639, 104.641,104.645,104.647,104.648,104.65, 104.652,104.654,104.656,104.658,104.661 ,104.663,104.667,104.669,104.671, 104.674,104.676,104.68,104.684,104.687, 104.69,104.692,104.697,104.7,104.703, 104.706,104.709,104.712,104.715, 104.617)
ORBIT_NUMBER = 5133
ORBITAL_ECCENTRICITY = 0.575
ORBITAL_INCLINATION = 86.72
ORBITAL_SEMIMAJOR_AXIS = 8732.78
PERIAPSIS_ALTITUDE = 317.99
PERIAPSIS_ARGUMENT_ANGLE = 175.3
PERIAPSIS_TIME = 2007-12-31T10:51:58.000Z
SPACECRAFT_ORIENTATION = (0.0,-1.0,0.0)
^MEX_ORIENTATION_DESC = "MEX_ORIENTATION_DESC.TXT"
SPACECRAFT_POINTING_MODE = ACROSSTRACK
^MEX_POINTING_DESC = "MEX_POINTING_DESC.TXT"
RIGHT_ASCENSION = -1e+32
DECLINATION = -1e+32
OFFSET_ANGLE = -1.2
SPACECRAFT_SOLAR_DISTANCE = 2.3688e+08
TARGET_NAME = MARS
/* CAMERA DATA ELEMENTS */
DETECTOR_TEMPERATURE = 17.9627
FOCAL_PLANE_TEMPERATURE = 7.9716
INST_CMPRS_NAME = "DISCRETE COSINE TRANSFORMATION (DCT)"
INST_CMPRS_RATIO = 6.13454
INST_CMPRS_QUALITY = 0
INST_CMPRS_QUANTZ_TBL_ID = 0
INSTRUMENT_TEMPERATURE = 11.234
LENS_TEMPERATURE = 8.5833
MACROPIXEL_SIZE = 4
MISSING_FRAMES = 0
PIXEL_SUBSAMPLING_FLAG = N
SIGNAL_CHAIN_ID = 3
/* RADIOMETRIC DATA ELEMENTS */
BANDWIDTH = 174.0
CENTER_FILTER_WAVELENGTH = 675.0
RADIANCE_OFFSET = 2.66757
RADIANCE_SCALING_FACTOR = 0.0155014
REFLECTANCE_SCALING_FACTOR = 0.000467856
MEX:REFLECTANCE_OFFSET = 0.0805114
/* IMAGE OBJECT DEFINITIONS */
OBJECT = IMAGE
  INTERCHANGE_FORMAT = BINARY
  LINES = 19529
  LINE_SAMPLES = 1783
  SAMPLE_TYPE = UNSIGNED_INTEGER
  SAMPLE_BITS = 8
  BANDS = 1
  BAND_STORAGE_TYPE = BAND_SEQUENTIAL
  MAXIMUM = 255
  MEAN = 106.724
  MINIMUM = 1
  STANDARD_DEVIATION = 19.5043
END_OBJECT = IMAGE
/* MAP OBJECT DEFINITIONS */
OBJECT = IMAGE_MAP_PROJECTION
  ^DATA_SET_MAP_PROJECTION_CATALOG= "DSMAP.CAT"
  A_AXIS_RADIUS = 3396.0
  B_AXIS_RADIUS = 3396.0
  C_AXIS_RADIUS = 3396.0
  CENTER_LATITUDE = 0.0
  CENTER_LONGITUDE = 104.0
  COORDINATE_SYSTEM_NAME = PLANETOGRAPHIC
  COORDINATE_SYSTEM_TYPE = "BODY-FIXED ROTATING"
  EASTERNMOST_LONGITUDE = 104.715
  FIRST_STANDARD_PARALLEL = "N/A"
  LINE_FIRST_PIXEL = 1
  LINE_LAST_PIXEL = 19529
  LINE_PROJECTION_OFFSET = 26120.875
  MAP_PROJECTION_ROTATION = 0.0
  MAP_PROJECTION_TYPE = SINUSOIDAL
  MAP_RESOLUTION = 1185.42760773333
  MAP_SCALE = 0.05
  MAXIMUM_LATITUDE = 22.0801
  MINIMUM_LATITUDE = 5.53619
  POSITIVE_LONGITUDE_DIRECTION = EAST
  REFERENCE_LATITUDE = "N/A"
  REFERENCE_LONGITUDE = "N/A"
  SAMPLE_FIRST_PIXEL = 1
  SAMPLE_LAST_PIXEL = 1783
  SAMPLE_PROJECTION_OFFSET = 1005.375
  SECOND_STANDARD_PARALLEL = "N/A"
  WESTERNMOST_LONGITUDE = 103.158
END_OBJECT = IMAGE_MAP_PROJECTION
/* The JPEG2000 image data file associated with this label. */
OBJECT = COMPRESSED_FILE
  FILE_NAME = "H5133_0000_P13.JP2"
  RECORD_TYPE = UNDEFINED
  FILE_RECORDS = UNK
  ENCODING_TYPE = "JP2"
  INTERCHANGE_FORMAT = BINARY
  UNCOMPRESSED_FILE_NAME = "H5133_0000_P13.IMG"
  REQUIRED_STORAGE_BYTES = "34839820"
  ^DESCRIPTION = "JP2INFO.TXT"
END_OBJECT = COMPRESSED_FILE
END
