PDS_VERSION_ID = PDS3
/* FILE DATA ELEMENTS */
RECORD_TYPE = STREAM
/* POINTERS TO DATA OBJECTS */
^COMPRESSED_FILE = "H5134_0000_P23.JP2"
/* IDENTIFICATION DATA ELEMENTS */
DATA_SET_ID = "MEX-M-HRSC-5-REFDR-MAPPROJECTED-V3.0"
DATA_SET_NAME = "MARS EXPRESS HRSC MAP PROJECTED REFDR V3.0"
DETECTOR_ID = MEX_HRSC_P2
EVENT_TYPE = "MARS-REGIONAL-MAPPING-Im-La"
INSTRUMENT_HOST_ID = MEX
INSTRUMENT_HOST_NAME = "MARS EXPRESS"
INSTRUMENT_ID = HRSC
INSTRUMENT_NAME = "HIGH RESOLUTION STEREO CAMERA"
MISSION_NAME = "MARS EXPRESS"
MISSION_PHASE_NAME = ME_Phase_11
PROCESSING_LEVEL_ID = 3
PRODUCT_CREATION_TIME = 2016-04-27T00:54:51.000Z
PRODUCT_ID = "H5134_0000_P23.JP2"
RELEASE_ID = 0058
REVISION_ID = 0000
/* QUALITY DATA ELEMENTS */
DATA_QUALITY_ID = 2
DATA_QUALITY_DESC = "Data calculated based on photogrammetrically improved orbit and attitude data"
/* TIME DATA ELEMENTS */
SPACECRAFT_CLOCK_START_COUNT = "1/0147202676.08235"
SPACECRAFT_CLOCK_STOP_COUNT = "1/0147202916.08660"
START_TIME = 2007-12-31T17:38:56.838Z
STOP_TIME = 2007-12-31T17:41:48.285Z
/* ORBITAL DATA ELEMENTS */
ASCENDING_NODE_LONGITUDE = 121.29
MAXIMUM_RESOLUTION = 53
FOOTPRINT_POINT_LATITUDE = (19.8631,19.87,19.8735,19.8769,19.8803, 19.9016,19.6706,19.4392,19.092,18.8604, 18.6293,18.3977,18.1659,17.9335,17.7015 ,17.3549,17.1215,16.8908,16.5485, 16.1972,15.9615,15.7296,15.5017,15.2711 ,15.0406,14.8142,14.5899,14.253,14.0281 ,13.8037,13.5793,13.2421,13.0172, 12.7921,12.5676,12.3462,12.1224,11.788, 11.5711,11.3544,11.1374,10.9203,10.703, 10.377,10.1601,9.94264,9.61929,9.3999, 9.07524,8.8585,8.6422,8.59566,8.58608, 8.57747,8.68025,9.00543,9.22255,9.4417, 9.6554,9.87295,10.2002,10.416,10.6331, 10.9591,11.2844,11.502,11.7192,11.9369, 12.161,12.4981,12.7228,12.9473,13.1723, 13.3973,13.7349,13.9594,14.1841,14.4089 ,14.6331,14.8572,15.2019,15.4349, 15.6672,15.8993,16.1287,16.3557,16.587, 16.8228,17.0588,17.2914,17.639,17.8668, 18.0963,18.3281,18.6776,18.9099,19.255, 19.4869,19.7185,19.8631)
FOOTPRINT_POINT_LONGITUDE = (5.18925,4.79407,4.59457,4.39395, 4.19187,3.98094,3.98541,3.99012,3.99689 ,4.00135,4.00514,4.00931,4.01346,4.018, 4.02198,4.02652,4.03147,4.03392,4.0339, 4.04167,4.04795,4.05082,4.05,4.05149, 4.05669,4.06074,4.0629,4.06624,4.06866, 4.07054,4.07242,4.07547,4.07749,4.07967 ,4.0812,4.0799,4.08075,4.08666,4.08774, 4.08865,4.08975,4.09081,4.09211,4.09395 ,4.09479,4.09602,4.09534,4.0982,4.09856 ,4.09903,4.09909,4.31686,4.66242, 4.97154,5.24951,5.25131,5.25256,5.25389 ,5.25505,5.25637,5.25843,5.25974, 5.26112,5.26324,5.26537,5.26685,5.26833 ,5.26986,5.27144,5.27384,5.27548, 5.27712,5.27881,5.28051,5.28311,5.28485 ,5.28662,5.28841,5.29019,5.29198,5.2951 ,5.29709,5.29906,5.30105,5.3029,5.30463 ,5.30662,5.30891,5.31124,5.31339, 5.31657,5.31846,5.32047,5.32266,5.32611 ,5.3284,5.33162,5.33393,5.33624, 5.18925)
ORBIT_NUMBER = 5134
ORBITAL_ECCENTRICITY = 0.574
ORBITAL_INCLINATION = 86.71
ORBITAL_SEMIMAJOR_AXIS = 8728.48
PERIAPSIS_ALTITUDE = 318.79
PERIAPSIS_ARGUMENT_ANGLE = 175.12
PERIAPSIS_TIME = 2007-12-31T17:42:26.000Z
SPACECRAFT_ORIENTATION = (0.0,-1.0,0.0)
^MEX_ORIENTATION_DESC = "MEX_ORIENTATION_DESC.TXT"
SPACECRAFT_POINTING_MODE = ACROSSTRACK
^MEX_POINTING_DESC = "MEX_POINTING_DESC.TXT"
RIGHT_ASCENSION = -1e+32
DECLINATION = -1e+32
OFFSET_ANGLE = -0.52
SPACECRAFT_SOLAR_DISTANCE = 2.36929e+08
TARGET_NAME = MARS
/* CAMERA DATA ELEMENTS */
DETECTOR_TEMPERATURE = 18.7783
FOCAL_PLANE_TEMPERATURE = 7.7677
INST_CMPRS_NAME = "DISCRETE COSINE TRANSFORMATION (DCT)"
INST_CMPRS_RATIO = 6.71002
INST_CMPRS_QUALITY = 0
INST_CMPRS_QUANTZ_TBL_ID = 0
INSTRUMENT_TEMPERATURE = 11.0301
LENS_TEMPERATURE = 8.3794
MACROPIXEL_SIZE = 4
MISSING_FRAMES = 0
PIXEL_SUBSAMPLING_FLAG = N
SIGNAL_CHAIN_ID = 3
/* RADIOMETRIC DATA ELEMENTS */
BANDWIDTH = 177.0
CENTER_FILTER_WAVELENGTH = 676.5
RADIANCE_OFFSET = 2.66917
RADIANCE_SCALING_FACTOR = 0.0152556
REFLECTANCE_SCALING_FACTOR = 0.000454067
MEX:REFLECTANCE_OFFSET = 0.0794451
/* IMAGE OBJECT DEFINITIONS */
OBJECT = IMAGE
  INTERCHANGE_FORMAT = BINARY
  LINES = 13385
  LINE_SAMPLES = 1611
  SAMPLE_TYPE = UNSIGNED_INTEGER
  SAMPLE_BITS = 8
  BANDS = 1
  BAND_STORAGE_TYPE = BAND_SEQUENTIAL
  MAXIMUM = 255
  MEAN = 111.753
  MINIMUM = 1
  STANDARD_DEVIATION = 24.1593
END_OBJECT = IMAGE
/* MAP OBJECT DEFINITIONS */
OBJECT = IMAGE_MAP_PROJECTION
  ^DATA_SET_MAP_PROJECTION_CATALOG= "DSMAP.CAT"
  A_AXIS_RADIUS = 3396.0
  B_AXIS_RADIUS = 3396.0
  C_AXIS_RADIUS = 3396.0
  CENTER_LATITUDE = 0.0
  CENTER_LONGITUDE = 5.0
  COORDINATE_SYSTEM_NAME = PLANETOGRAPHIC
  COORDINATE_SYSTEM_TYPE = "BODY-FIXED ROTATING"
  EASTERNMOST_LONGITUDE = 5.33624
  FIRST_STANDARD_PARALLEL = "N/A"
  LINE_FIRST_PIXEL = 1
  LINE_LAST_PIXEL = 13385
  LINE_PROJECTION_OFFSET = 23573.875
  MAP_PROJECTION_ROTATION = 0.0
  MAP_PROJECTION_TYPE = SINUSOIDAL
  MAP_RESOLUTION = 1185.42760773333
  MAP_SCALE = 0.05
  MAXIMUM_LATITUDE = 19.9016
  MINIMUM_LATITUDE = 8.57747
  POSITIVE_LONGITUDE_DIRECTION = EAST
  REFERENCE_LATITUDE = "N/A"
  REFERENCE_LONGITUDE = "N/A"
  SAMPLE_FIRST_PIXEL = 1
  SAMPLE_LAST_PIXEL = 1611
  SAMPLE_PROJECTION_OFFSET = 1212.125
  SECOND_STANDARD_PARALLEL = "N/A"
  WESTERNMOST_LONGITUDE = 3.98094
END_OBJECT = IMAGE_MAP_PROJECTION
/* The JPEG2000 image data file associated with this label. */
OBJECT = COMPRESSED_FILE
  FILE_NAME = "H5134_0000_P23.JP2"
  RECORD_TYPE = UNDEFINED
  FILE_RECORDS = UNK
  ENCODING_TYPE = "JP2"
  INTERCHANGE_FORMAT = BINARY
  UNCOMPRESSED_FILE_NAME = "H5134_0000_P23.IMG"
  REQUIRED_STORAGE_BYTES = "21582567"
  ^DESCRIPTION = "JP2INFO.TXT"
END_OBJECT = COMPRESSED_FILE
END
