PDS_VERSION_ID = PDS3
/* FILE DATA ELEMENTS */
RECORD_TYPE = STREAM
/* POINTERS TO DATA OBJECTS */
^COMPRESSED_FILE = "H5134_0000_S13.JP2"
/* IDENTIFICATION DATA ELEMENTS */
DATA_SET_ID = "MEX-M-HRSC-5-REFDR-MAPPROJECTED-V3.0"
DATA_SET_NAME = "MARS EXPRESS HRSC MAP PROJECTED REFDR V3.0"
DETECTOR_ID = MEX_HRSC_S1
EVENT_TYPE = "MARS-REGIONAL-MAPPING-Im-La"
INSTRUMENT_HOST_ID = MEX
INSTRUMENT_HOST_NAME = "MARS EXPRESS"
INSTRUMENT_ID = HRSC
INSTRUMENT_NAME = "HIGH RESOLUTION STEREO CAMERA"
MISSION_NAME = "MARS EXPRESS"
MISSION_PHASE_NAME = ME_Phase_11
PROCESSING_LEVEL_ID = 3
PRODUCT_CREATION_TIME = 2016-04-27T00:54:51.000Z
PRODUCT_ID = "H5134_0000_S13.JP2"
RELEASE_ID = 0058
REVISION_ID = 0000
/* QUALITY DATA ELEMENTS */
DATA_QUALITY_ID = 2
DATA_QUALITY_DESC = "Data calculated based on photogrammetrically improved orbit and attitude data"
/* TIME DATA ELEMENTS */
SPACECRAFT_CLOCK_START_COUNT = "1/0147202676.08235"
SPACECRAFT_CLOCK_STOP_COUNT = "1/0147202916.08660"
START_TIME = 2007-12-31T17:37:59.964Z
STOP_TIME = 2007-12-31T17:41:00.084Z
/* ORBITAL DATA ELEMENTS */
ASCENDING_NODE_LONGITUDE = 121.29
MAXIMUM_RESOLUTION = 27.8
FOOTPRINT_POINT_LATITUDE = (19.9208,19.907,19.8909,19.7209,19.4658 ,19.2108,18.9554,18.5702,18.3137, 17.9292,17.6683,17.4359,17.2238,17.0081 ,16.7901,16.5626,16.3436,15.9181, 15.5848,15.3615,15.1426,14.9285,14.7088 ,14.4888,14.2675,14.0476,13.7149, 13.4929,13.2716,13.0496,12.8282,12.4904 ,12.2637,12.0411,11.826,11.5009,11.284, 10.9585,10.7414,10.5247,10.3069,10.0895 ,9.87241,9.65147,9.32585,9.10711,8.8881 ,8.56656,8.57588,8.58395,8.59506, 8.71261,9.03793,9.25653,9.47197,9.69543 ,9.91089,10.1287,10.3481,10.5663, 10.8923,11.1095,11.3273,11.5437,11.8681 ,12.0902,12.3136,12.5367,12.7595, 12.9826,13.2046,13.4263,13.6477,13.8696 ,14.0912,14.3121,14.5336,14.7552,14.974 ,15.1861,15.515,15.7343,15.9536,16.1758 ,16.4044,16.6217,16.832,17.0454,17.2629 ,17.4794,17.7154,17.9788,18.2375, 18.4947,18.7483,19.0078,19.2643,19.5193 ,19.774,19.9208)
FOOTPRINT_POINT_LONGITUDE = (5.1633,4.72294,4.2775,3.93578,3.94169, 3.94786,3.95389,3.96193,3.96759,3.9765, 3.97998,3.98394,3.99071,3.99551,3.99912 ,3.99735,4.00049,4.01423,4.01656, 4.01757,4.0212,4.0277,4.03097,4.03419, 4.03674,4.04011,4.04373,4.04607,4.0489, 4.05141,4.05428,4.05548,4.05543,4.05787 ,4.06403,4.06656,4.06824,4.07077, 4.07249,4.07448,4.07585,4.07752,4.0794, 4.07908,4.08209,4.08318,4.08415,4.08514 ,4.33925,4.55703,4.87461,5.2597,5.26231 ,5.26411,5.266,5.26772,5.26966,5.27156, 5.27344,5.27537,5.27833,5.28033,5.28234 ,5.2844,5.28753,5.2897,5.2919,5.29413, 5.29638,5.29864,5.30096,5.3033,5.30567, 5.30803,5.31042,5.31286,5.31528,5.31771 ,5.32027,5.32315,5.32703,5.32962, 5.33222,5.33469,5.33682,5.33954,5.34266 ,5.34562,5.34837,5.35119,5.35395, 5.35702,5.36037,5.36383,5.36752,5.37083 ,5.37434,5.37796,5.38161,5.1633)
ORBIT_NUMBER = 5134
ORBITAL_ECCENTRICITY = 0.574
ORBITAL_INCLINATION = 86.71
ORBITAL_SEMIMAJOR_AXIS = 8728.48
PERIAPSIS_ALTITUDE = 318.79
PERIAPSIS_ARGUMENT_ANGLE = 175.12
PERIAPSIS_TIME = 2007-12-31T17:42:26.000Z
SPACECRAFT_ORIENTATION = (0.0,-1.0,0.0)
^MEX_ORIENTATION_DESC = "MEX_ORIENTATION_DESC.TXT"
SPACECRAFT_POINTING_MODE = ACROSSTRACK
^MEX_POINTING_DESC = "MEX_POINTING_DESC.TXT"
RIGHT_ASCENSION = -1e+32
DECLINATION = -1e+32
OFFSET_ANGLE = -0.52
SPACECRAFT_SOLAR_DISTANCE = 2.36929e+08
TARGET_NAME = MARS
/* CAMERA DATA ELEMENTS */
DETECTOR_TEMPERATURE = 16.9432
FOCAL_PLANE_TEMPERATURE = 7.7677
INST_CMPRS_NAME = "DISCRETE COSINE TRANSFORMATION (DCT)"
INST_CMPRS_RATIO = 8.25829
INST_CMPRS_QUALITY = 0
INST_CMPRS_QUANTZ_TBL_ID = 0
INSTRUMENT_TEMPERATURE = 11.0301
LENS_TEMPERATURE = 8.3794
MACROPIXEL_SIZE = 2
MISSING_FRAMES = 0
PIXEL_SUBSAMPLING_FLAG = N
SIGNAL_CHAIN_ID = 1
/* RADIOMETRIC DATA ELEMENTS */
BANDWIDTH = 180.0
CENTER_FILTER_WAVELENGTH = 677.0
RADIANCE_OFFSET = 2.91738
RADIANCE_SCALING_FACTOR = 0.016641
REFLECTANCE_SCALING_FACTOR = 0.000487366
MEX:REFLECTANCE_OFFSET = 0.0854414
/* IMAGE OBJECT DEFINITIONS */
OBJECT = IMAGE
  INTERCHANGE_FORMAT = BINARY
  LINES = 26770
  LINE_SAMPLES = 3222
  SAMPLE_TYPE = UNSIGNED_INTEGER
  SAMPLE_BITS = 8
  BANDS = 1
  BAND_STORAGE_TYPE = BAND_SEQUENTIAL
  MAXIMUM = 255
  MEAN = 114.167
  MINIMUM = 1
  STANDARD_DEVIATION = 24.1554
END_OBJECT = IMAGE
/* MAP OBJECT DEFINITIONS */
OBJECT = IMAGE_MAP_PROJECTION
  ^DATA_SET_MAP_PROJECTION_CATALOG= "DSMAP.CAT"
  A_AXIS_RADIUS = 3396.0
  B_AXIS_RADIUS = 3396.0
  C_AXIS_RADIUS = 3396.0
  CENTER_LATITUDE = 0.0
  CENTER_LONGITUDE = 5.0
  COORDINATE_SYSTEM_NAME = PLANETOGRAPHIC
  COORDINATE_SYSTEM_TYPE = "BODY-FIXED ROTATING"
  EASTERNMOST_LONGITUDE = 5.38161
  FIRST_STANDARD_PARALLEL = "N/A"
  LINE_FIRST_PIXEL = 1
  LINE_LAST_PIXEL = 26770
  LINE_PROJECTION_OFFSET = 47148.25
  MAP_PROJECTION_ROTATION = 0.0
  MAP_PROJECTION_TYPE = SINUSOIDAL
  MAP_RESOLUTION = 2370.85521546667
  MAP_SCALE = 0.025
  MAXIMUM_LATITUDE = 19.9208
  MINIMUM_LATITUDE = 8.566560000000001
  POSITIVE_LONGITUDE_DIRECTION = EAST
  REFERENCE_LATITUDE = "N/A"
  REFERENCE_LONGITUDE = "N/A"
  SAMPLE_FIRST_PIXEL = 1
  SAMPLE_LAST_PIXEL = 3222
  SAMPLE_PROJECTION_OFFSET = 2424.75
  SECOND_STANDARD_PARALLEL = "N/A"
  WESTERNMOST_LONGITUDE = 3.93578
END_OBJECT = IMAGE_MAP_PROJECTION
/* The JPEG2000 image data file associated with this label. */
OBJECT = COMPRESSED_FILE
  FILE_NAME = "H5134_0000_S13.JP2"
  RECORD_TYPE = UNDEFINED
  FILE_RECORDS = UNK
  ENCODING_TYPE = "JP2"
  INTERCHANGE_FORMAT = BINARY
  UNCOMPRESSED_FILE_NAME = "H5134_0000_S13.IMG"
  REQUIRED_STORAGE_BYTES = "86275494"
  ^DESCRIPTION = "JP2INFO.TXT"
END_OBJECT = COMPRESSED_FILE
END
