PDS_VERSION_ID = PDS3
/* FILE DATA ELEMENTS */
RECORD_TYPE = STREAM
/* POINTERS TO DATA OBJECTS */
^COMPRESSED_FILE = "H5136_0000_P23.JP2"
/* IDENTIFICATION DATA ELEMENTS */
DATA_SET_ID = "MEX-M-HRSC-5-REFDR-MAPPROJECTED-V3.0"
DATA_SET_NAME = "MARS EXPRESS HRSC MAP PROJECTED REFDR V3.0"
DETECTOR_ID = MEX_HRSC_P2
EVENT_TYPE = "MARS-REGIONAL-MAPPING-Vo-Te-Mw"
INSTRUMENT_HOST_ID = MEX
INSTRUMENT_HOST_NAME = "MARS EXPRESS"
INSTRUMENT_ID = HRSC
INSTRUMENT_NAME = "HIGH RESOLUTION STEREO CAMERA"
MISSION_NAME = "MARS EXPRESS"
MISSION_PHASE_NAME = ME_Phase_11
PROCESSING_LEVEL_ID = 3
PRODUCT_CREATION_TIME = 2016-04-27T02:54:28.000Z
PRODUCT_ID = "H5136_0000_P23.JP2"
RELEASE_ID = 0059
REVISION_ID = 0000
/* QUALITY DATA ELEMENTS */
DATA_QUALITY_ID = 2
DATA_QUALITY_DESC = "Data calculated based on photogrammetrically improved orbit and attitude data"
/* TIME DATA ELEMENTS */
SPACECRAFT_CLOCK_START_COUNT = "1/0147252021.07275"
SPACECRAFT_CLOCK_STOP_COUNT = "1/0147252292.39280"
START_TIME = 2008-01-01T07:21:16.470Z
STOP_TIME = 2008-01-01T07:24:44.504Z
/* ORBITAL DATA ELEMENTS */
ASCENDING_NODE_LONGITUDE = 121.23
MAXIMUM_RESOLUTION = 53.2
FOOTPRINT_POINT_LATITUDE = (14.944,14.9443,14.9446,14.9448,14.9452 ,14.9456,14.8217,14.3961,14.1103, 13.8338,13.5482,13.2693,12.9883,12.5694 ,12.1603,11.888,11.6157,11.343,10.9344, 10.5255,10.2531,9.84505,9.43691,9.0289, 8.75687,8.48494,8.07644,7.66952,7.2624, 6.991,6.71971,6.44856,6.1775,5.9066, 5.63588,5.36525,5.09474,4.82445,4.55422 ,4.28412,4.0142,3.74445,3.47485,3.20544 ,2.93619,2.53265,2.26371,1.86095,1.5926 ,1.309,1.30714,1.30612,1.30503,1.30541, 1.57358,1.84195,2.11053,2.3793,2.64823, 2.91735,3.18663,3.45608,3.72569,3.99551 ,4.40052,4.67063,4.94096,5.21146, 5.48211,5.75288,6.02378,6.29476,6.56591 ,6.83719,7.10858,7.38003,7.65169,7.9235 ,8.33109,8.73929,9.01132,9.41916,9.6907 ,9.96348,10.2363,10.6447,10.9175, 11.1903,11.4621,11.8717,12.2807,12.5533 ,12.8309,13.113,13.5363,13.8186,14.1008 ,14.5236,14.8064,14.944)
FOOTPRINT_POINT_LONGITUDE = (165.617,165.437,165.279,165.111, 164.852,164.605,164.493,164.497,164.501 ,164.5,164.504,164.504,164.505,164.507, 164.508,164.509,164.51,164.511,164.512, 164.513,164.513,164.514,164.514,164.514 ,164.514,164.514,164.514,164.513, 164.512,164.512,164.511,164.51,164.509, 164.508,164.507,164.506,164.505,164.504 ,164.502,164.501,164.499,164.498, 164.496,164.495,164.493,164.49,164.488, 164.485,164.483,164.629,164.939,165.153 ,165.463,165.628,165.628,165.629, 165.629,165.63,165.63,165.631,165.632, 165.633,165.634,165.635,165.636,165.637 ,165.638,165.639,165.641,165.642, 165.643,165.645,165.646,165.648,165.649 ,165.651,165.653,165.654,165.657,165.66 ,165.662,165.665,165.666,165.669, 165.671,165.674,165.677,165.679,165.681 ,165.685,165.689,165.691,165.694, 165.697,165.701,165.704,165.707,165.711 ,165.714,165.617)
ORBIT_NUMBER = 5136
ORBITAL_ECCENTRICITY = 0.574
ORBITAL_INCLINATION = 86.73
ORBITAL_SEMIMAJOR_AXIS = 8723.73
PERIAPSIS_ALTITUDE = 319.05
PERIAPSIS_ARGUMENT_ANGLE = 174.79
PERIAPSIS_TIME = 2008-01-01T07:23:26.000Z
SPACECRAFT_ORIENTATION = (0.0,-1.0,0.0)
^MEX_ORIENTATION_DESC = "MEX_ORIENTATION_DESC.TXT"
SPACECRAFT_POINTING_MODE = NADIR
^MEX_POINTING_DESC = "MEX_POINTING_DESC.TXT"
RIGHT_ASCENSION = -1e+32
DECLINATION = -1e+32
OFFSET_ANGLE = -1e+32
SPACECRAFT_SOLAR_DISTANCE = 2.37026e+08
TARGET_NAME = MARS
/* CAMERA DATA ELEMENTS */
DETECTOR_TEMPERATURE = 18.3705
FOCAL_PLANE_TEMPERATURE = 8.1755
INST_CMPRS_NAME = "DISCRETE COSINE TRANSFORMATION (DCT)"
INST_CMPRS_RATIO = 8.55706
INST_CMPRS_QUALITY = 0
INST_CMPRS_QUANTZ_TBL_ID = 0
INSTRUMENT_TEMPERATURE = 11.0301
LENS_TEMPERATURE = 8.7872
MACROPIXEL_SIZE = 4
MISSING_FRAMES = 0
PIXEL_SUBSAMPLING_FLAG = N
SIGNAL_CHAIN_ID = 3
/* RADIOMETRIC DATA ELEMENTS */
BANDWIDTH = 177.0
CENTER_FILTER_WAVELENGTH = 676.5
RADIANCE_OFFSET = 2.62978
RADIANCE_SCALING_FACTOR = 0.0130957
REFLECTANCE_SCALING_FACTOR = 0.000390099
MEX:REFLECTANCE_OFFSET = 0.0783367
/* IMAGE OBJECT DEFINITIONS */
OBJECT = IMAGE
  INTERCHANGE_FORMAT = BINARY
  LINES = 16213
  LINE_SAMPLES = 1516
  SAMPLE_TYPE = UNSIGNED_INTEGER
  SAMPLE_BITS = 8
  BANDS = 1
  BAND_STORAGE_TYPE = BAND_SEQUENTIAL
  MAXIMUM = 255
  MEAN = 133.945
  MINIMUM = 1
  STANDARD_DEVIATION = 20.1701
END_OBJECT = IMAGE
/* MAP OBJECT DEFINITIONS */
OBJECT = IMAGE_MAP_PROJECTION
  ^DATA_SET_MAP_PROJECTION_CATALOG= "DSMAP.CAT"
  A_AXIS_RADIUS = 3396.0
  B_AXIS_RADIUS = 3396.0
  C_AXIS_RADIUS = 3396.0
  CENTER_LATITUDE = 0.0
  CENTER_LONGITUDE = 165.0
  COORDINATE_SYSTEM_NAME = PLANETOGRAPHIC
  COORDINATE_SYSTEM_TYPE = "BODY-FIXED ROTATING"
  EASTERNMOST_LONGITUDE = 165.714
  FIRST_STANDARD_PARALLEL = "N/A"
  LINE_FIRST_PIXEL = 1
  LINE_LAST_PIXEL = 16213
  LINE_PROJECTION_OFFSET = 17748.875
  MAP_PROJECTION_ROTATION = 0.0
  MAP_PROJECTION_TYPE = SINUSOIDAL
  MAP_RESOLUTION = 1185.42760773333
  MAP_SCALE = 0.05
  MAXIMUM_LATITUDE = 14.9456
  MINIMUM_LATITUDE = 1.30503
  POSITIVE_LONGITUDE_DIRECTION = EAST
  REFERENCE_LATITUDE = "N/A"
  REFERENCE_LONGITUDE = "N/A"
  SAMPLE_FIRST_PIXEL = 1
  SAMPLE_LAST_PIXEL = 1516
  SAMPLE_PROJECTION_OFFSET = 651.125
  SECOND_STANDARD_PARALLEL = "N/A"
  WESTERNMOST_LONGITUDE = 164.483
END_OBJECT = IMAGE_MAP_PROJECTION
/* The JPEG2000 image data file associated with this label. */
OBJECT = COMPRESSED_FILE
  FILE_NAME = "H5136_0000_P23.JP2"
  RECORD_TYPE = UNDEFINED
  FILE_RECORDS = UNK
  ENCODING_TYPE = "JP2"
  INTERCHANGE_FORMAT = BINARY
  UNCOMPRESSED_FILE_NAME = "H5136_0000_P23.IMG"
  REQUIRED_STORAGE_BYTES = "24598616"
  ^DESCRIPTION = "JP2INFO.TXT"
END_OBJECT = COMPRESSED_FILE
END
