PDS_VERSION_ID = PDS3
/* FILE DATA ELEMENTS */
RECORD_TYPE = STREAM
/* POINTERS TO DATA OBJECTS */
^COMPRESSED_FILE = "H5142_0000_P13.JP2"
/* IDENTIFICATION DATA ELEMENTS */
DATA_SET_ID = "MEX-M-HRSC-5-REFDR-MAPPROJECTED-V3.0"
DATA_SET_NAME = "MARS EXPRESS HRSC MAP PROJECTED REFDR V3.0"
DETECTOR_ID = MEX_HRSC_P1
EVENT_TYPE = "MARS-REGIONAL-STEREO-Vo-Lc-La"
INSTRUMENT_HOST_ID = MEX
INSTRUMENT_HOST_NAME = "MARS EXPRESS"
INSTRUMENT_ID = HRSC
INSTRUMENT_NAME = "HIGH RESOLUTION STEREO CAMERA"
MISSION_NAME = "MARS EXPRESS"
MISSION_PHASE_NAME = ME_Phase_11
PROCESSING_LEVEL_ID = 3
PRODUCT_CREATION_TIME = 2016-04-27T02:54:28.000Z
PRODUCT_ID = "H5142_0000_P13.JP2"
RELEASE_ID = 0059
REVISION_ID = 0000
/* QUALITY DATA ELEMENTS */
DATA_QUALITY_ID = 2
DATA_QUALITY_DESC = "Data calculated based on photogrammetrically improved orbit and attitude data"
/* TIME DATA ELEMENTS */
SPACECRAFT_CLOCK_START_COUNT = "1/0147399997.07301"
SPACECRAFT_CLOCK_STOP_COUNT = "1/0147400313.24424"
START_TIME = 2008-01-03T00:26:50.595Z
STOP_TIME = 2008-01-03T00:30:52.846Z
/* ORBITAL DATA ELEMENTS */
ASCENDING_NODE_LONGITUDE = 121.11
MAXIMUM_RESOLUTION = 26.1
FOOTPRINT_POINT_LATITUDE = (2.61037,2.61179,2.61398,2.62696, 2.33041,2.03168,1.73399,1.43457,1.13523 ,0.687715,0.23859,-0.0610544,-0.379068, -0.68072,-0.980985,-1.27026,-1.58276, -1.86542,-2.15883,-2.4687,-2.77857, -3.24337,-3.70652,-4.01647,-4.49087, -4.97209,-5.43525,-5.74693,-6.07319, -6.55264,-6.87228,-7.17872,-7.50807, -8.00001,-8.32281,-8.63987,-8.96161, -9.43937,-9.90939,-10.37,-10.6856, -11.0096,-11.1991,-11.5779,-12.1459, -12.5243,-12.7138,-13.0913,-13.2986, -13.2994,-13.3011,-13.3018,-13.3031, -12.9252,-12.5473,-12.1823,-11.9885, -11.6247,-11.435,-11.2456,-10.8876, -10.565,-10.2455,-9.93816,-9.623, -9.30487,-8.98286,-8.66525,-8.34647, -8.01683,-7.52193,-7.21622,-6.89842, -6.58646,-6.2684,-5.94692,-5.62474, -5.30943,-4.98109,-4.50278,-4.05186, -3.72844,-3.26374,-2.95386,-2.6439, -2.17972,-1.88356,-1.60981,-1.15229, -0.688891,-0.380968,-0.0817503,0.21793, 0.667425,1.11677,1.41633,1.71502, 2.01359,2.31113,2.61037)
FOOTPRINT_POINT_LONGITUDE = (285.205,284.977,284.521,284.198, 284.197,284.195,284.194,284.191,284.189 ,284.186,284.183,284.18,284.169,284.165 ,284.162,284.163,284.154,284.159,284.16 ,284.156,284.153,284.148,284.143, 284.139,284.128,284.114,284.113,284.112 ,284.105,284.098,284.093,284.094, 284.085,284.071,284.064,284.059,284.052 ,284.044,284.039,284.039,284.034, 284.028,284.024,284.017,284.006,283.998 ,283.994,283.986,284.182,284.436, 284.783,285.037,285.363,285.358,285.354 ,285.356,285.352,285.355,285.353, 285.351,285.347,285.342,285.339,285.341 ,285.34,285.338,285.334,285.332,285.33, 285.323,285.313,285.318,285.317,285.319 ,285.318,285.316,285.314,285.315, 285.308,285.3,285.306,285.299,285.298, 285.298,285.298,285.298,285.3,285.312, 285.309,285.302,285.299,285.299,285.3, 285.3,285.301,285.302,285.303,285.304, 285.306,285.205)
ORBIT_NUMBER = 5142
ORBITAL_ECCENTRICITY = 0.575
ORBITAL_INCLINATION = 86.72
ORBITAL_SEMIMAJOR_AXIS = 8733.02
PERIAPSIS_ALTITUDE = 318.89
PERIAPSIS_ARGUMENT_ANGLE = 173.74
PERIAPSIS_TIME = 2008-01-03T00:26:14.000Z
SPACECRAFT_ORIENTATION = (0.0,-1.0,0.0)
^MEX_ORIENTATION_DESC = "MEX_ORIENTATION_DESC.TXT"
SPACECRAFT_POINTING_MODE = NADIR
^MEX_POINTING_DESC = "MEX_POINTING_DESC.TXT"
RIGHT_ASCENSION = -1e+32
DECLINATION = -1e+32
OFFSET_ANGLE = -1e+32
SPACECRAFT_SOLAR_DISTANCE = 2.37314e+08
TARGET_NAME = MARS
/* CAMERA DATA ELEMENTS */
DETECTOR_TEMPERATURE = 15.9237
FOCAL_PLANE_TEMPERATURE = 7.7677
INST_CMPRS_NAME = "DISCRETE COSINE TRANSFORMATION (DCT)"
INST_CMPRS_RATIO = 10.7111
INST_CMPRS_QUALITY = 0
INST_CMPRS_QUANTZ_TBL_ID = 0
INSTRUMENT_TEMPERATURE = 11.0301
LENS_TEMPERATURE = 8.5833
MACROPIXEL_SIZE = 2
MISSING_FRAMES = 0
PIXEL_SUBSAMPLING_FLAG = N
SIGNAL_CHAIN_ID = 3
/* RADIOMETRIC DATA ELEMENTS */
BANDWIDTH = 174.0
CENTER_FILTER_WAVELENGTH = 675.0
RADIANCE_OFFSET = 1.38751
RADIANCE_SCALING_FACTOR = 0.0238453
REFLECTANCE_SCALING_FACTOR = 0.000722329
MEX:REFLECTANCE_OFFSET = 0.0420308
/* IMAGE OBJECT DEFINITIONS */
OBJECT = IMAGE
  INTERCHANGE_FORMAT = BINARY
  LINES = 37755
  LINE_SAMPLES = 3481
  SAMPLE_TYPE = UNSIGNED_INTEGER
  SAMPLE_BITS = 8
  BANDS = 1
  BAND_STORAGE_TYPE = BAND_SEQUENTIAL
  MAXIMUM = 255
  MEAN = 88.7318
  MINIMUM = 1
  STANDARD_DEVIATION = 32.4398
END_OBJECT = IMAGE
/* MAP OBJECT DEFINITIONS */
OBJECT = IMAGE_MAP_PROJECTION
  ^DATA_SET_MAP_PROJECTION_CATALOG= "DSMAP.CAT"
  A_AXIS_RADIUS = 3396.0
  B_AXIS_RADIUS = 3396.0
  C_AXIS_RADIUS = 3396.0
  CENTER_LATITUDE = 0.0
  CENTER_LONGITUDE = 285.0
  COORDINATE_SYSTEM_NAME = PLANETOGRAPHIC
  COORDINATE_SYSTEM_TYPE = "BODY-FIXED ROTATING"
  EASTERNMOST_LONGITUDE = 285.363
  FIRST_STANDARD_PARALLEL = "N/A"
  LINE_FIRST_PIXEL = 1
  LINE_LAST_PIXEL = 37755
  LINE_PROJECTION_OFFSET = 6221.75
  MAP_PROJECTION_ROTATION = 0.0
  MAP_PROJECTION_TYPE = SINUSOIDAL
  MAP_RESOLUTION = 2370.85521546667
  MAP_SCALE = 0.025
  MAXIMUM_LATITUDE = 2.62696
  MINIMUM_LATITUDE = -13.3031
  POSITIVE_LONGITUDE_DIRECTION = EAST
  REFERENCE_LATITUDE = "N/A"
  REFERENCE_LONGITUDE = "N/A"
  SAMPLE_FIRST_PIXEL = 1
  SAMPLE_LAST_PIXEL = 3481
  SAMPLE_PROJECTION_OFFSET = 2492.75
  SECOND_STANDARD_PARALLEL = "N/A"
  WESTERNMOST_LONGITUDE = 283.986
END_OBJECT = IMAGE_MAP_PROJECTION
/* The JPEG2000 image data file associated with this label. */
OBJECT = COMPRESSED_FILE
  FILE_NAME = "H5142_0000_P13.JP2"
  RECORD_TYPE = UNDEFINED
  FILE_RECORDS = UNK
  ENCODING_TYPE = "JP2"
  INTERCHANGE_FORMAT = BINARY
  UNCOMPRESSED_FILE_NAME = "H5142_0000_P13.IMG"
  REQUIRED_STORAGE_BYTES = "131449522"
  ^DESCRIPTION = "JP2INFO.TXT"
END_OBJECT = COMPRESSED_FILE
END
