PDS_VERSION_ID = PDS3
/* FILE DATA ELEMENTS */
RECORD_TYPE = STREAM
/* POINTERS TO DATA OBJECTS */
^COMPRESSED_FILE = "H5145_0008_SR3.JP2"
/* IDENTIFICATION DATA ELEMENTS */
DATA_SET_ID = "MEX-M-HRSC-5-REFDR-MAPPROJECTED-V3.0"
DATA_SET_NAME = "MARS EXPRESS HRSC MAP PROJECTED REFDR V3.0"
DETECTOR_ID = MEX_HRSC_SRC
EVENT_TYPE = "MARS-LOCAL-STEREO-Fl-La-Tc"
INSTRUMENT_HOST_ID = MEX
INSTRUMENT_HOST_NAME = "MARS EXPRESS"
INSTRUMENT_ID = HRSC
INSTRUMENT_NAME = "HIGH RESOLUTION STEREO CAMERA"
MISSION_NAME = "MARS EXPRESS"
MISSION_PHASE_NAME = ME_Phase_11
PROCESSING_LEVEL_ID = 3
PRODUCT_CREATION_TIME = 2016-04-27T02:54:28.000Z
PRODUCT_ID = "H5145_0008_SR3.JP2"
RELEASE_ID = 0059
REVISION_ID = 0000
/* QUALITY DATA ELEMENTS */
DATA_QUALITY_ID = 1
DATA_QUALITY_DESC = "Data calculated based on original SPICE kernels"
/* TIME DATA ELEMENTS */
SPACECRAFT_CLOCK_START_COUNT = "1/0147473532.08242"
SPACECRAFT_CLOCK_STOP_COUNT = "1/0147473717.41514"
IMAGE_TIME = 2008-01-03T20:53:49.435Z
START_TIME = 2008-01-03T20:53:49.432Z
STOP_TIME = 2008-01-03T20:53:49.437Z
/* ORBITAL DATA ELEMENTS */
ASCENDING_NODE_LONGITUDE = 121.06
MAXIMUM_RESOLUTION = 3.362
FOOTPRINT_POINT_LATITUDE = (21.1551,21.1568,21.1591,21.1618, 21.1643,21.1671,21.1692,21.1727,21.1754 ,21.1776,21.1794,21.1812,21.1845, 21.1866,21.1882,21.1902,21.1922,21.1949 ,21.1984,21.2014,21.2037,21.2063,21.209 ,21.2107,21.2107,21.2107,21.2107, 21.2107,21.2107,21.2107,21.2107,21.2107 ,21.2107,21.2107,21.2107,21.2107, 21.2108,21.2108,21.2108,21.2108,21.2108 ,21.2108,21.2108,21.2108,21.2108, 21.2108,21.2108,21.2108,21.2108,21.2081 ,21.2058,21.2042,21.202,21.2002,21.198, 21.1954,21.1926,21.1896,21.1872,21.1847 ,21.1818,21.1795,21.1763,21.1739,21.171 ,21.1692,21.1669,21.1644,21.1618, 21.1598,21.1568,21.1551,21.1536,21.1536 ,21.1536,21.1536,21.1536,21.1536, 21.1536,21.1536,21.1535,21.1535,21.1535 ,21.1535,21.1535,21.1535,21.1535, 21.1535,21.1535,21.1535,21.1535,21.1535 ,21.1535,21.1535,21.1535,21.1535, 21.1535,21.1534,21.1534,21.1551)
FOOTPRINT_POINT_LONGITUDE = (344.645,344.645,344.645,344.645, 344.645,344.645,344.645,344.645,344.645 ,344.645,344.645,344.645,344.645, 344.645,344.645,344.645,344.645,344.645 ,344.645,344.645,344.645,344.645, 344.645,344.645,344.647,344.65,344.652, 344.654,344.656,344.659,344.661,344.664 ,344.666,344.669,344.672,344.674, 344.677,344.679,344.681,344.684,344.686 ,344.689,344.691,344.694,344.696, 344.699,344.701,344.703,344.706,344.707 ,344.707,344.707,344.707,344.707, 344.707,344.707,344.707,344.707,344.707 ,344.707,344.707,344.707,344.707, 344.707,344.707,344.707,344.707,344.707 ,344.707,344.707,344.707,344.707, 344.706,344.704,344.702,344.7,344.697, 344.694,344.691,344.689,344.687,344.684 ,344.681,344.679,344.677,344.675, 344.673,344.67,344.667,344.665,344.663, 344.661,344.659,344.656,344.654,344.652 ,344.65,344.648,344.646,344.645)
ORBIT_NUMBER = 5145
ORBITAL_ECCENTRICITY = 0.574
ORBITAL_INCLINATION = 86.73
ORBITAL_SEMIMAJOR_AXIS = 8724.29
PERIAPSIS_ALTITUDE = 319.81
PERIAPSIS_ARGUMENT_ANGLE = 173.18
PERIAPSIS_TIME = 2008-01-03T20:57:31.000Z
SPACECRAFT_ORIENTATION = (0.0,-1.0,0.0)
^MEX_ORIENTATION_DESC = "MEX_ORIENTATION_DESC.TXT"
SPACECRAFT_POINTING_MODE = NADIR
^MEX_POINTING_DESC = "MEX_POINTING_DESC.TXT"
RIGHT_ASCENSION = -1e+32
DECLINATION = -1e+32
OFFSET_ANGLE = -1e+32
SPACECRAFT_SOLAR_DISTANCE = 2.37457e+08
TARGET_NAME = MARS
/* CAMERA DATA ELEMENTS */
BUFFER_MODE_ID = BUFFER_8
EXPOSURE_DURATION = 5.04
INST_CMPRS_NAME = NONE
INST_CMPRS_RATIO = 1.0
INST_CMPRS_QUALITY = -2147483648
INST_CMPRS_QUANTZ_TBL_ID = -2147483648
INSTRUMENT_TEMPERATURE = 5.66222
MISSING_FRAMES = 0
START_BIT = 0
/* RADIOMETRIC DATA ELEMENTS */
BANDWIDTH = 250.0
CENTER_FILTER_WAVELENGTH = 600.0
RADIANCE_OFFSET = -9.99e+31
RADIANCE_SCALING_FACTOR = -9.99e+31
REFLECTANCE_SCALING_FACTOR = -9.99e+31
MEX:REFLECTANCE_OFFSET = -9.99e+31
/* IMAGE OBJECT DEFINITIONS */
OBJECT = IMAGE
  INTERCHANGE_FORMAT = BINARY
  LINES = 1411
  LINE_SAMPLES = 1422
  SAMPLE_TYPE = UNSIGNED_INTEGER
  SAMPLE_BITS = 8
  BANDS = 1
  BAND_STORAGE_TYPE = BAND_SEQUENTIAL
  MAXIMUM = 255
  MEAN = 112.271
  MINIMUM = 1
  STANDARD_DEVIATION = 21.8289
END_OBJECT = IMAGE
/* MAP OBJECT DEFINITIONS */
OBJECT = IMAGE_MAP_PROJECTION
  ^DATA_SET_MAP_PROJECTION_CATALOG= "DSMAP.CAT"
  A_AXIS_RADIUS = 3396.19
  B_AXIS_RADIUS = 3396.19
  C_AXIS_RADIUS = 3396.19
  CENTER_LATITUDE = 0.0
  CENTER_LONGITUDE = 345.0
  COORDINATE_SYSTEM_NAME = PLANETOGRAPHIC
  COORDINATE_SYSTEM_TYPE = "BODY-FIXED ROTATING"
  EASTERNMOST_LONGITUDE = 344.707
  FIRST_STANDARD_PARALLEL = "N/A"
  LINE_FIRST_PIXEL = 1
  LINE_LAST_PIXEL = 1411
  LINE_PROJECTION_OFFSET = 502792.0
  MAP_PROJECTION_ROTATION = 0.0
  MAP_PROJECTION_TYPE = SINUSOIDAL
  MAP_RESOLUTION = 23709.8786048756
  MAP_SCALE = 0.0025
  MAXIMUM_LATITUDE = 21.2108
  MINIMUM_LATITUDE = 21.1534
  POSITIVE_LONGITUDE_DIRECTION = EAST
  REFERENCE_LATITUDE = "N/A"
  REFERENCE_LONGITUDE = "N/A"
  SAMPLE_FIRST_PIXEL = 1
  SAMPLE_LAST_PIXEL = 1422
  SAMPLE_PROJECTION_OFFSET = 7869.0
  SECOND_STANDARD_PARALLEL = "N/A"
  WESTERNMOST_LONGITUDE = 344.645
END_OBJECT = IMAGE_MAP_PROJECTION
/* The JPEG2000 image data file associated with this label. */
OBJECT = COMPRESSED_FILE
  FILE_NAME = "H5145_0008_SR3.JP2"
  RECORD_TYPE = UNDEFINED
  FILE_RECORDS = UNK
  ENCODING_TYPE = "JP2"
  INTERCHANGE_FORMAT = BINARY
  UNCOMPRESSED_FILE_NAME = "H5145_0008_SR3.IMG"
  REQUIRED_STORAGE_BYTES = "2026350"
  ^DESCRIPTION = "JP2INFO.TXT"
END_OBJECT = COMPRESSED_FILE
END
