PDS_VERSION_ID = PDS3
/* FILE DATA ELEMENTS */
RECORD_TYPE = STREAM
/* POINTERS TO DATA OBJECTS */
^COMPRESSED_FILE = "H5146_0009_P13.JP2"
/* IDENTIFICATION DATA ELEMENTS */
DATA_SET_ID = "MEX-M-HRSC-5-REFDR-MAPPROJECTED-V3.0"
DATA_SET_NAME = "MARS EXPRESS HRSC MAP PROJECTED REFDR V3.0"
DETECTOR_ID = MEX_HRSC_P1
EVENT_TYPE = "MARS-REGIONAL-MAPPING-Vo"
INSTRUMENT_HOST_ID = MEX
INSTRUMENT_HOST_NAME = "MARS EXPRESS"
INSTRUMENT_ID = HRSC
INSTRUMENT_NAME = "HIGH RESOLUTION STEREO CAMERA"
MISSION_NAME = "MARS EXPRESS"
MISSION_PHASE_NAME = ME_Phase_11
PROCESSING_LEVEL_ID = 3
PRODUCT_CREATION_TIME = 2016-04-27T02:54:28.000Z
PRODUCT_ID = "H5146_0009_P13.JP2"
RELEASE_ID = 0059
REVISION_ID = 0000
/* QUALITY DATA ELEMENTS */
DATA_QUALITY_ID = 2
DATA_QUALITY_DESC = "Data calculated based on photogrammetrically improved orbit and attitude data"
/* TIME DATA ELEMENTS */
SPACECRAFT_CLOCK_START_COUNT = "1/0147498282.09067"
SPACECRAFT_CLOCK_STOP_COUNT = "1/0147498505.26193"
START_TIME = 2008-01-04T03:44:57.208Z
STOP_TIME = 2008-01-04T03:47:40.227Z
/* ORBITAL DATA ELEMENTS */
ASCENDING_NODE_LONGITUDE = 121.04
MAXIMUM_RESOLUTION = 51.9
FOOTPRINT_POINT_LATITUDE = (17.5105,17.5112,17.5113,17.5109, 17.5151,17.3005,17.086,16.8712,16.6563, 16.4411,16.2257,16.0102,15.7945,15.5787 ,15.3625,15.1462,14.8225,14.6128, 14.4028,14.1927,13.9825,13.7721,13.5616 ,13.3509,13.14,12.9289,12.7178,12.4006, 12.1891,11.9775,11.7691,11.5642,11.3592 ,11.1542,10.949,10.6409,10.4356,10.2298 ,10.0242,9.71539,9.50946,9.20008, 8.99386,8.78748,8.58107,8.3745,8.16786, 7.96109,7.75446,7.44392,7.23684,7.0054, 7.00492,7.00354,7.00237,7.31304,7.62363 ,7.83074,8.03758,8.34767,8.55435, 8.76086,8.96722,9.17356,9.37969,9.68888 ,9.8948,10.2035,10.4092,10.6148,10.8202 ,11.0256,11.2308,11.5384,11.7433, 12.0571,12.2688,12.4803,12.7975,13.0087 ,13.3251,13.6413,13.8519,14.0623, 14.2725,14.5878,14.7978,15.0126,15.2292 ,15.4455,15.6617,15.8776,16.0935, 16.3091,16.5245,16.7398,16.9548,17.1698 ,17.3845,17.5105)
FOOTPRINT_POINT_LONGITUDE = (245.142,244.868,244.548,244.358,243.99 ,243.992,243.995,243.998,244.0,244.003, 244.005,244.008,244.01,244.012,244.014, 244.016,244.019,244.021,244.023,244.025 ,244.026,244.028,244.029,244.031, 244.032,244.033,244.035,244.036,244.037 ,244.038,244.039,244.04,244.041,244.042 ,244.043,244.044,244.044,244.045, 244.045,244.046,244.046,244.047,244.047 ,244.047,244.047,244.047,244.047, 244.047,244.047,244.047,244.047,244.139 ,244.448,244.81,245.154,245.156,245.158 ,245.16,245.161,245.163,245.165,245.166 ,245.168,245.17,245.171,245.174,245.176 ,245.178,245.18,245.182,245.184,245.185 ,245.187,245.19,245.192,245.195,245.197 ,245.199,245.202,245.205,245.208, 245.211,245.213,245.216,245.218,245.222 ,245.224,245.226,245.229,245.231, 245.234,245.237,245.239,245.242,245.244 ,245.247,245.25,245.253,245.255, 245.142)
ORBIT_NUMBER = 5146
ORBITAL_ECCENTRICITY = 0.575
ORBITAL_INCLINATION = 86.72
ORBITAL_SEMIMAJOR_AXIS = 8741.62
PERIAPSIS_ALTITUDE = 319.17
PERIAPSIS_ARGUMENT_ANGLE = 173.02
PERIAPSIS_TIME = 2008-01-04T03:47:59.000Z
SPACECRAFT_ORIENTATION = (0.0,-1.0,0.0)
^MEX_ORIENTATION_DESC = "MEX_ORIENTATION_DESC.TXT"
SPACECRAFT_POINTING_MODE = NADIR
^MEX_POINTING_DESC = "MEX_POINTING_DESC.TXT"
RIGHT_ASCENSION = -1e+32
DECLINATION = -1e+32
OFFSET_ANGLE = -1e+32
SPACECRAFT_SOLAR_DISTANCE = 2.37504e+08
TARGET_NAME = MARS
/* CAMERA DATA ELEMENTS */
DETECTOR_TEMPERATURE = 17.9627
FOCAL_PLANE_TEMPERATURE = 8.5833
INST_CMPRS_NAME = "DISCRETE COSINE TRANSFORMATION (DCT)"
INST_CMPRS_RATIO = 9.74478
INST_CMPRS_QUALITY = 0
INST_CMPRS_QUANTZ_TBL_ID = 0
INSTRUMENT_TEMPERATURE = 11.4379
LENS_TEMPERATURE = 8.7872
MACROPIXEL_SIZE = 4
MISSING_FRAMES = 0
PIXEL_SUBSAMPLING_FLAG = N
SIGNAL_CHAIN_ID = 3
/* RADIOMETRIC DATA ELEMENTS */
BANDWIDTH = 174.0
CENTER_FILTER_WAVELENGTH = 675.0
RADIANCE_OFFSET = 2.79998
RADIANCE_SCALING_FACTOR = 0.0182467
REFLECTANCE_SCALING_FACTOR = 0.00055362
MEX:REFLECTANCE_OFFSET = 0.0849538
/* IMAGE OBJECT DEFINITIONS */
OBJECT = IMAGE
  INTERCHANGE_FORMAT = BINARY
  LINES = 12474
  LINE_SAMPLES = 1518
  SAMPLE_TYPE = UNSIGNED_INTEGER
  SAMPLE_BITS = 8
  BANDS = 1
  BAND_STORAGE_TYPE = BAND_SEQUENTIAL
  MAXIMUM = 255
  MEAN = 139.33
  MINIMUM = 1
  STANDARD_DEVIATION = 11.9865
END_OBJECT = IMAGE
/* MAP OBJECT DEFINITIONS */
OBJECT = IMAGE_MAP_PROJECTION
  ^DATA_SET_MAP_PROJECTION_CATALOG= "DSMAP.CAT"
  A_AXIS_RADIUS = 3396.0
  B_AXIS_RADIUS = 3396.0
  C_AXIS_RADIUS = 3396.0
  CENTER_LATITUDE = 0.0
  CENTER_LONGITUDE = 245.0
  COORDINATE_SYSTEM_NAME = PLANETOGRAPHIC
  COORDINATE_SYSTEM_TYPE = "BODY-FIXED ROTATING"
  EASTERNMOST_LONGITUDE = 245.255
  FIRST_STANDARD_PARALLEL = "N/A"
  LINE_FIRST_PIXEL = 1
  LINE_LAST_PIXEL = 12474
  LINE_PROJECTION_OFFSET = 20759.125
  MAP_PROJECTION_ROTATION = 0.0
  MAP_PROJECTION_TYPE = SINUSOIDAL
  MAP_RESOLUTION = 1185.42760773333
  MAP_SCALE = 0.05
  MAXIMUM_LATITUDE = 17.5151
  MINIMUM_LATITUDE = 7.00237
  POSITIVE_LONGITUDE_DIRECTION = EAST
  REFERENCE_LATITUDE = "N/A"
  REFERENCE_LONGITUDE = "N/A"
  SAMPLE_FIRST_PIXEL = 1
  SAMPLE_LAST_PIXEL = 1518
  SAMPLE_PROJECTION_OFFSET = 1190.125
  SECOND_STANDARD_PARALLEL = "N/A"
  WESTERNMOST_LONGITUDE = 243.99
END_OBJECT = IMAGE_MAP_PROJECTION
/* The JPEG2000 image data file associated with this label. */
OBJECT = COMPRESSED_FILE
  FILE_NAME = "H5146_0009_P13.JP2"
  RECORD_TYPE = UNDEFINED
  FILE_RECORDS = UNK
  ENCODING_TYPE = "JP2"
  INTERCHANGE_FORMAT = BINARY
  UNCOMPRESSED_FILE_NAME = "H5146_0009_P13.IMG"
  REQUIRED_STORAGE_BYTES = "18955266"
  ^DESCRIPTION = "JP2INFO.TXT"
END_OBJECT = COMPRESSED_FILE
END
