PDS_VERSION_ID = PDS3
/* FILE DATA ELEMENTS */
RECORD_TYPE = STREAM
/* POINTERS TO DATA OBJECTS */
^COMPRESSED_FILE = "H5146_0009_S23.JP2"
/* IDENTIFICATION DATA ELEMENTS */
DATA_SET_ID = "MEX-M-HRSC-5-REFDR-MAPPROJECTED-V3.0"
DATA_SET_NAME = "MARS EXPRESS HRSC MAP PROJECTED REFDR V3.0"
DETECTOR_ID = MEX_HRSC_S2
EVENT_TYPE = "MARS-REGIONAL-MAPPING-Vo"
INSTRUMENT_HOST_ID = MEX
INSTRUMENT_HOST_NAME = "MARS EXPRESS"
INSTRUMENT_ID = HRSC
INSTRUMENT_NAME = "HIGH RESOLUTION STEREO CAMERA"
MISSION_NAME = "MARS EXPRESS"
MISSION_PHASE_NAME = ME_Phase_11
PROCESSING_LEVEL_ID = 3
PRODUCT_CREATION_TIME = 2016-04-27T02:54:28.000Z
PRODUCT_ID = "H5146_0009_S23.JP2"
RELEASE_ID = 0059
REVISION_ID = 0000
/* QUALITY DATA ELEMENTS */
DATA_QUALITY_ID = 2
DATA_QUALITY_DESC = "Data calculated based on photogrammetrically improved orbit and attitude data"
/* TIME DATA ELEMENTS */
SPACECRAFT_CLOCK_START_COUNT = "1/0147498282.09067"
SPACECRAFT_CLOCK_STOP_COUNT = "1/0147498505.26193"
START_TIME = 2008-01-04T03:45:47.971Z
STOP_TIME = 2008-01-04T03:48:27.208Z
/* ORBITAL DATA ELEMENTS */
ASCENDING_NODE_LONGITUDE = 121.04
MAXIMUM_RESOLUTION = 26.9
FOOTPRINT_POINT_LATITUDE = (17.4999,17.4999,17.5002,17.4902, 17.2734,17.0562,16.8392,16.6222,16.4054 ,16.08,15.863,15.6462,15.321,15.1043, 14.8914,14.6818,14.4726,14.2633,14.0541 ,13.8449,13.6358,13.3221,13.1132, 12.9043,12.6955,12.4868,12.1738,11.9651 ,11.7566,11.5481,11.3398,11.1313,10.923 ,10.6108,10.4026,10.1946,9.9868,9.77886 ,9.45432,9.24709,9.03958,8.72866, 8.41787,8.21098,8.00399,7.79709,7.59036 ,7.384,7.17754,6.96937,6.96736,6.96657, 6.96577,6.96562,7.27536,7.58524,7.79176 ,7.99855,8.30912,8.51612,8.72354, 8.93087,9.13837,9.34599,9.55361,9.77446 ,10.0864,10.2943,10.5026,10.7107,10.919 ,11.1274,11.4401,11.6486,11.8571, 12.0656,12.2745,12.5875,12.7964,13.0054 ,13.2144,13.4242,13.7374,13.9467, 14.1561,14.3654,14.5746,14.784,14.9935, 15.3186,15.5353,15.7523,16.0778,16.2947 ,16.5117,16.7288,17.0542,17.2713, 17.4883,17.4999)
FOOTPRINT_POINT_LONGITUDE = (244.961,244.771,244.437,244.007, 244.009,244.012,244.014,244.016,244.018 ,244.02,244.022,244.024,244.026,244.028 ,244.029,244.03,244.032,244.033,244.034 ,244.035,244.036,244.037,244.038, 244.039,244.04,244.04,244.041,244.042, 244.042,244.043,244.043,244.043,244.044 ,244.044,244.044,244.044,244.044, 244.044,244.044,244.044,244.043,244.043 ,244.042,244.042,244.042,244.041,244.04 ,244.04,244.039,244.2,244.524,244.708, 244.946,245.155,245.156,245.158,245.159 ,245.16,245.161,245.162,245.163,245.165 ,245.166,245.167,245.168,245.169, 245.171,245.173,245.174,245.175,245.177 ,245.178,245.18,245.182,245.183,245.185 ,245.186,245.189,245.19,245.192,245.193 ,245.195,245.198,245.199,245.201, 245.203,245.205,245.206,245.208,245.211 ,245.213,245.215,245.218,245.22,245.222 ,245.225,245.228,245.23,245.232, 244.961)
ORBIT_NUMBER = 5146
ORBITAL_ECCENTRICITY = 0.575
ORBITAL_INCLINATION = 86.72
ORBITAL_SEMIMAJOR_AXIS = 8741.62
PERIAPSIS_ALTITUDE = 319.17
PERIAPSIS_ARGUMENT_ANGLE = 173.02
PERIAPSIS_TIME = 2008-01-04T03:47:59.000Z
SPACECRAFT_ORIENTATION = (0.0,-1.0,0.0)
^MEX_ORIENTATION_DESC = "MEX_ORIENTATION_DESC.TXT"
SPACECRAFT_POINTING_MODE = NADIR
^MEX_POINTING_DESC = "MEX_POINTING_DESC.TXT"
RIGHT_ASCENSION = -1e+32
DECLINATION = -1e+32
OFFSET_ANGLE = -1e+32
SPACECRAFT_SOLAR_DISTANCE = 2.37504e+08
TARGET_NAME = MARS
/* CAMERA DATA ELEMENTS */
DETECTOR_TEMPERATURE = 18.5744
FOCAL_PLANE_TEMPERATURE = 8.5833
INST_CMPRS_NAME = "DISCRETE COSINE TRANSFORMATION (DCT)"
INST_CMPRS_RATIO = 8.59093
INST_CMPRS_QUALITY = 0
INST_CMPRS_QUANTZ_TBL_ID = 0
INSTRUMENT_TEMPERATURE = 11.4379
LENS_TEMPERATURE = 8.7872
MACROPIXEL_SIZE = 2
MISSING_FRAMES = 4
PIXEL_SUBSAMPLING_FLAG = N
SIGNAL_CHAIN_ID = 1
/* RADIOMETRIC DATA ELEMENTS */
BANDWIDTH = 178.0
CENTER_FILTER_WAVELENGTH = 679.0
RADIANCE_OFFSET = 2.80967
RADIANCE_SCALING_FACTOR = 0.0188885
REFLECTANCE_SCALING_FACTOR = 0.000564247
MEX:REFLECTANCE_OFFSET = 0.0839317
/* IMAGE OBJECT DEFINITIONS */
OBJECT = IMAGE
  INTERCHANGE_FORMAT = BINARY
  LINES = 24948
  LINE_SAMPLES = 3036
  SAMPLE_TYPE = UNSIGNED_INTEGER
  SAMPLE_BITS = 8
  BANDS = 1
  BAND_STORAGE_TYPE = BAND_SEQUENTIAL
  MAXIMUM = 255
  MEAN = 145.358
  MINIMUM = 1
  STANDARD_DEVIATION = 12.6719
END_OBJECT = IMAGE
/* MAP OBJECT DEFINITIONS */
OBJECT = IMAGE_MAP_PROJECTION
  ^DATA_SET_MAP_PROJECTION_CATALOG= "DSMAP.CAT"
  A_AXIS_RADIUS = 3396.0
  B_AXIS_RADIUS = 3396.0
  C_AXIS_RADIUS = 3396.0
  CENTER_LATITUDE = 0.0
  CENTER_LONGITUDE = 245.0
  COORDINATE_SYSTEM_NAME = PLANETOGRAPHIC
  COORDINATE_SYSTEM_TYPE = "BODY-FIXED ROTATING"
  EASTERNMOST_LONGITUDE = 245.232
  FIRST_STANDARD_PARALLEL = "N/A"
  LINE_FIRST_PIXEL = 1
  LINE_LAST_PIXEL = 24948
  LINE_PROJECTION_OFFSET = 41518.75
  MAP_PROJECTION_ROTATION = 0.0
  MAP_PROJECTION_TYPE = SINUSOIDAL
  MAP_RESOLUTION = 2370.85521546667
  MAP_SCALE = 0.025
  MAXIMUM_LATITUDE = 17.5002
  MINIMUM_LATITUDE = 6.96562
  POSITIVE_LONGITUDE_DIRECTION = EAST
  REFERENCE_LATITUDE = "N/A"
  REFERENCE_LONGITUDE = "N/A"
  SAMPLE_FIRST_PIXEL = 1
  SAMPLE_LAST_PIXEL = 3036
  SAMPLE_PROJECTION_OFFSET = 2380.75
  SECOND_STANDARD_PARALLEL = "N/A"
  WESTERNMOST_LONGITUDE = 244.007
END_OBJECT = IMAGE_MAP_PROJECTION
/* The JPEG2000 image data file associated with this label. */
OBJECT = COMPRESSED_FILE
  FILE_NAME = "H5146_0009_S23.JP2"
  RECORD_TYPE = UNDEFINED
  FILE_RECORDS = UNK
  ENCODING_TYPE = "JP2"
  INTERCHANGE_FORMAT = BINARY
  UNCOMPRESSED_FILE_NAME = "H5146_0009_S23.IMG"
  REQUIRED_STORAGE_BYTES = "75766416"
  ^DESCRIPTION = "JP2INFO.TXT"
END_OBJECT = COMPRESSED_FILE
END
