PDS_VERSION_ID = PDS3
/* FILE DATA ELEMENTS */
RECORD_TYPE = STREAM
/* POINTERS TO DATA OBJECTS */
^COMPRESSED_FILE = "H5149_0000_P23.JP2"
/* IDENTIFICATION DATA ELEMENTS */
DATA_SET_ID = "MEX-M-HRSC-5-REFDR-MAPPROJECTED-V3.0"
DATA_SET_NAME = "MARS EXPRESS HRSC MAP PROJECTED REFDR V3.0"
DETECTOR_ID = MEX_HRSC_P2
EVENT_TYPE = "MARS-REGIONAL-MAPPING-Im-Fl-Lc"
INSTRUMENT_HOST_ID = MEX
INSTRUMENT_HOST_NAME = "MARS EXPRESS"
INSTRUMENT_ID = HRSC
INSTRUMENT_NAME = "HIGH RESOLUTION STEREO CAMERA"
MISSION_NAME = "MARS EXPRESS"
MISSION_PHASE_NAME = ME_Phase_11
PROCESSING_LEVEL_ID = 3
PRODUCT_CREATION_TIME = 2016-04-27T02:54:28.000Z
PRODUCT_ID = "H5149_0000_P23.JP2"
RELEASE_ID = 0059
REVISION_ID = 0000
/* QUALITY DATA ELEMENTS */
DATA_QUALITY_ID = 2
DATA_QUALITY_DESC = "Data calculated based on photogrammetrically improved orbit and attitude data"
/* TIME DATA ELEMENTS */
SPACECRAFT_CLOCK_START_COUNT = "1/0147572268.08248"
SPACECRAFT_CLOCK_STOP_COUNT = "1/0147572460.30959"
START_TIME = 2008-01-05T00:18:40.030Z
STOP_TIME = 2008-01-05T00:20:52.371Z
/* ORBITAL DATA ELEMENTS */
ASCENDING_NODE_LONGITUDE = 120.97
MAXIMUM_RESOLUTION = 52.7
FOOTPRINT_POINT_LATITUDE = (11.8552,11.8566,11.8581,11.8594, 11.8607,11.8687,11.609,11.4342,11.2609, 11.0891,10.9178,10.7449,10.4866,10.227, 9.96885,9.79656,9.62445,9.45209,9.27967 ,9.10772,8.85127,8.5908,8.41894,8.24662 ,8.07462,7.90527,7.72969,7.4723,7.30071 ,7.12894,6.87136,6.69956,6.5281,6.35633 ,6.18426,6.01297,5.75608,5.58465, 5.32665,5.0756,4.90541,4.64844,4.39022, 4.21578,4.04575,3.87661,3.70722,3.53761 ,3.36793,3.2068,3.20428,3.20254,3.1999, 3.19719,3.19531,3.36678,3.53736,3.70755 ,3.87763,4.04843,4.21864,4.38932, 4.64481,4.81589,5.07198,5.24311,5.49975 ,5.75663,6.01325,6.18454,6.35605, 6.52747,6.69903,6.87045,7.04198,7.21414 ,7.47229,7.73085,7.90332,8.07913, 8.25222,8.5906,8.76218,8.93493,9.10748, 9.27977,9.45212,9.62518,9.79744,9.97006 ,10.1426,10.4015,10.5739,10.8326,11.005 ,11.1776,11.3497,11.5213,11.6951, 11.8552)
FOOTPRINT_POINT_LONGITUDE = (304.779,304.576,304.351,304.18,304.009 ,303.744,303.745,303.747,303.747, 303.747,303.747,303.747,303.747,303.748 ,303.748,303.748,303.747,303.747, 303.747,303.747,303.746,303.747,303.746 ,303.746,303.746,303.744,303.746, 303.745,303.744,303.744,303.743,303.742 ,303.742,303.741,303.741,303.74,303.739 ,303.738,303.737,303.733,303.732, 303.731,303.73,303.731,303.73,303.728, 303.726,303.725,303.723,303.796,304.019 ,304.189,304.412,304.581,304.859,304.86 ,304.86,304.86,304.861,304.861,304.861, 304.862,304.862,304.863,304.863,304.864 ,304.865,304.866,304.867,304.867, 304.868,304.868,304.869,304.87,304.87, 304.871,304.873,304.874,304.875,304.877 ,304.879,304.878,304.879,304.88,304.881 ,304.882,304.883,304.884,304.885, 304.886,304.887,304.889,304.889,304.891 ,304.892,304.893,304.894,304.895, 304.896,304.779)
ORBIT_NUMBER = 5149
ORBITAL_ECCENTRICITY = 0.574
ORBITAL_INCLINATION = 86.73
ORBITAL_SEMIMAJOR_AXIS = 8726.58
PERIAPSIS_ALTITUDE = 319.82
PERIAPSIS_ARGUMENT_ANGLE = 172.52
PERIAPSIS_TIME = 2008-01-05T00:19:28.000Z
SPACECRAFT_ORIENTATION = (0.0,-1.0,0.0)
^MEX_ORIENTATION_DESC = "MEX_ORIENTATION_DESC.TXT"
SPACECRAFT_POINTING_MODE = ACROSSTRACK
^MEX_POINTING_DESC = "MEX_POINTING_DESC.TXT"
RIGHT_ASCENSION = -1e+32
DECLINATION = -1e+32
OFFSET_ANGLE = -0.11
SPACECRAFT_SOLAR_DISTANCE = 2.37647e+08
TARGET_NAME = MARS
/* CAMERA DATA ELEMENTS */
DETECTOR_TEMPERATURE = 18.5744
FOCAL_PLANE_TEMPERATURE = 8.1755
INST_CMPRS_NAME = "DISCRETE COSINE TRANSFORMATION (DCT)"
INST_CMPRS_RATIO = 7.47468
INST_CMPRS_QUALITY = 0
INST_CMPRS_QUANTZ_TBL_ID = 0
INSTRUMENT_TEMPERATURE = 11.0301
LENS_TEMPERATURE = 8.7872
MACROPIXEL_SIZE = 4
MISSING_FRAMES = 0
PIXEL_SUBSAMPLING_FLAG = N
SIGNAL_CHAIN_ID = 3
/* RADIOMETRIC DATA ELEMENTS */
BANDWIDTH = 177.0
CENTER_FILTER_WAVELENGTH = 676.5
RADIANCE_OFFSET = 2.28863
RADIANCE_SCALING_FACTOR = 0.0186274
REFLECTANCE_SCALING_FACTOR = 0.000557791
MEX:REFLECTANCE_OFFSET = 0.0685322
/* IMAGE OBJECT DEFINITIONS */
OBJECT = IMAGE
  INTERCHANGE_FORMAT = BINARY
  LINES = 10259
  LINE_SAMPLES = 1464
  SAMPLE_TYPE = UNSIGNED_INTEGER
  SAMPLE_BITS = 8
  BANDS = 1
  BAND_STORAGE_TYPE = BAND_SEQUENTIAL
  MAXIMUM = 255
  MEAN = 122.397
  MINIMUM = 1
  STANDARD_DEVIATION = 20.2787
END_OBJECT = IMAGE
/* MAP OBJECT DEFINITIONS */
OBJECT = IMAGE_MAP_PROJECTION
  ^DATA_SET_MAP_PROJECTION_CATALOG= "DSMAP.CAT"
  A_AXIS_RADIUS = 3396.0
  B_AXIS_RADIUS = 3396.0
  C_AXIS_RADIUS = 3396.0
  CENTER_LATITUDE = 0.0
  CENTER_LONGITUDE = 304.0
  COORDINATE_SYSTEM_NAME = PLANETOGRAPHIC
  COORDINATE_SYSTEM_TYPE = "BODY-FIXED ROTATING"
  EASTERNMOST_LONGITUDE = 304.896
  FIRST_STANDARD_PARALLEL = "N/A"
  LINE_FIRST_PIXEL = 1
  LINE_LAST_PIXEL = 10259
  LINE_PROJECTION_OFFSET = 14073.375
  MAP_PROJECTION_ROTATION = 0.0
  MAP_PROJECTION_TYPE = SINUSOIDAL
  MAP_RESOLUTION = 1185.42760773333
  MAP_SCALE = 0.05
  MAXIMUM_LATITUDE = 11.8687
  MINIMUM_LATITUDE = 3.19531
  POSITIVE_LONGITUDE_DIRECTION = EAST
  REFERENCE_LATITUDE = "N/A"
  REFERENCE_LONGITUDE = "N/A"
  SAMPLE_FIRST_PIXEL = 1
  SAMPLE_LAST_PIXEL = 1464
  SAMPLE_PROJECTION_OFFSET = 380.375
  SECOND_STANDARD_PARALLEL = "N/A"
  WESTERNMOST_LONGITUDE = 303.723
END_OBJECT = IMAGE_MAP_PROJECTION
/* The JPEG2000 image data file associated with this label. */
OBJECT = COMPRESSED_FILE
  FILE_NAME = "H5149_0000_P23.JP2"
  RECORD_TYPE = UNDEFINED
  FILE_RECORDS = UNK
  ENCODING_TYPE = "JP2"
  INTERCHANGE_FORMAT = BINARY
  UNCOMPRESSED_FILE_NAME = "H5149_0000_P23.IMG"
  REQUIRED_STORAGE_BYTES = "15038208"
  ^DESCRIPTION = "JP2INFO.TXT"
END_OBJECT = COMPRESSED_FILE
END
