PDS_VERSION_ID = PDS3
/* FILE DATA ELEMENTS */
RECORD_TYPE = STREAM
/* POINTERS TO DATA OBJECTS */
^COMPRESSED_FILE = "H5150_0000_P13.JP2"
/* IDENTIFICATION DATA ELEMENTS */
DATA_SET_ID = "MEX-M-HRSC-5-REFDR-MAPPROJECTED-V3.0"
DATA_SET_NAME = "MARS EXPRESS HRSC MAP PROJECTED REFDR V3.0"
DETECTOR_ID = MEX_HRSC_P1
EVENT_TYPE = "MARS-REGIONAL-MAPPING-Vo-Im-Eo"
INSTRUMENT_HOST_ID = MEX
INSTRUMENT_HOST_NAME = "MARS EXPRESS"
INSTRUMENT_ID = HRSC
INSTRUMENT_NAME = "HIGH RESOLUTION STEREO CAMERA"
MISSION_NAME = "MARS EXPRESS"
MISSION_PHASE_NAME = ME_Phase_11
PROCESSING_LEVEL_ID = 3
PRODUCT_CREATION_TIME = 2016-04-27T02:54:28.000Z
PRODUCT_ID = "H5150_0000_P13.JP2"
RELEASE_ID = 0059
REVISION_ID = 0000
/* QUALITY DATA ELEMENTS */
DATA_QUALITY_ID = 2
DATA_QUALITY_DESC = "Data calculated based on photogrammetrically improved orbit and attitude data"
/* TIME DATA ELEMENTS */
SPACECRAFT_CLOCK_START_COUNT = "1/0147596841.07309"
SPACECRAFT_CLOCK_STOP_COUNT = "1/0147597023.06177"
START_TIME = 2008-01-05T07:07:35.592Z
STOP_TIME = 2008-01-05T07:09:37.672Z
/* ORBITAL DATA ELEMENTS */
ASCENDING_NODE_LONGITUDE = 120.96
MAXIMUM_RESOLUTION = 53.3
FOOTPRINT_POINT_LATITUDE = (15.2781,15.2792,15.2799,15.2798, 15.2794,15.1747,15.0157,14.8566,14.6973 ,14.5381,14.3786,14.2191,14.0596,13.9, 13.7403,13.5805,13.4206,13.2606,13.0204 ,12.8601,12.6998,12.5394,12.379,12.2185 ,12.0614,11.8286,11.5954,11.2843, 11.1287,10.9729,10.8171,10.6612,10.4274 ,10.2714,10.1154,9.95931,9.72531, 9.49078,9.33439,9.09998,8.94346,8.70832 ,8.55161,8.31669,8.1597,8.00273,7.84586 ,7.68888,7.53193,7.34735,7.3473,7.34659 ,7.34564,7.34451,7.42253,7.57957, 7.73658,7.89351,8.05046,8.20731,8.36409 ,8.52087,8.67755,8.83416,8.99075, 9.14731,9.30383,9.46026,9.61664,9.77295 ,9.92923,10.0854,10.2416,10.3977, 10.6318,10.7877,11.0214,11.1773,11.3329 ,11.5662,11.7997,12.1103,12.3497, 12.5103,12.6707,12.8311,12.9914,13.1516 ,13.3117,13.5518,13.7117,13.8716, 14.0313,14.191,14.3506,14.51,14.6694, 14.8287,14.9879,15.2781)
FOOTPRINT_POINT_LONGITUDE = (205.023,204.774,204.479,204.162, 203.969,203.798,203.799,203.8,203.802, 203.803,203.804,203.805,203.807,203.808 ,203.809,203.81,203.811,203.812,203.813 ,203.814,203.815,203.816,203.817, 203.817,203.818,203.819,203.82,203.821, 203.821,203.822,203.822,203.823,203.823 ,203.824,203.824,203.824,203.825, 203.825,203.825,203.825,203.825,203.825 ,203.825,203.825,203.825,203.825, 203.824,203.824,203.824,203.887,204.068 ,204.397,204.557,204.759,204.965, 204.966,204.967,204.968,204.969,204.97, 204.971,204.973,204.974,204.975,204.976 ,204.977,204.978,204.979,204.981, 204.982,204.983,204.984,204.985,204.987 ,204.989,204.99,204.992,204.993,204.995 ,204.997,204.999,205.002,205.004, 205.005,205.007,205.009,205.01,205.012, 205.013,205.016,205.017,205.019,205.021 ,205.022,205.024,205.026,205.028, 205.029,205.031,205.023)
ORBIT_NUMBER = 5150
ORBITAL_ECCENTRICITY = 0.574
ORBITAL_INCLINATION = 86.73
ORBITAL_SEMIMAJOR_AXIS = 8725.96
PERIAPSIS_ALTITUDE = 320.01
PERIAPSIS_ARGUMENT_ANGLE = 172.31
PERIAPSIS_TIME = 2008-01-05T07:09:51.000Z
SPACECRAFT_ORIENTATION = (0.0,-1.0,0.0)
^MEX_ORIENTATION_DESC = "MEX_ORIENTATION_DESC.TXT"
SPACECRAFT_POINTING_MODE = NADIR
^MEX_POINTING_DESC = "MEX_POINTING_DESC.TXT"
RIGHT_ASCENSION = -1e+32
DECLINATION = -1e+32
OFFSET_ANGLE = -1e+32
SPACECRAFT_SOLAR_DISTANCE = 2.37694e+08
TARGET_NAME = MARS
/* CAMERA DATA ELEMENTS */
DETECTOR_TEMPERATURE = 17.351
FOCAL_PLANE_TEMPERATURE = 8.7872
INST_CMPRS_NAME = "DISCRETE COSINE TRANSFORMATION (DCT)"
INST_CMPRS_RATIO = 8.45845
INST_CMPRS_QUALITY = 0
INST_CMPRS_QUANTZ_TBL_ID = 0
INSTRUMENT_TEMPERATURE = 11.234
LENS_TEMPERATURE = 8.5833
MACROPIXEL_SIZE = 4
MISSING_FRAMES = 0
PIXEL_SUBSAMPLING_FLAG = N
SIGNAL_CHAIN_ID = 3
/* RADIOMETRIC DATA ELEMENTS */
BANDWIDTH = 174.0
CENTER_FILTER_WAVELENGTH = 675.0
RADIANCE_OFFSET = 3.4588
RADIANCE_SCALING_FACTOR = 0.012918
REFLECTANCE_SCALING_FACTOR = 0.000392571
MEX:REFLECTANCE_OFFSET = 0.105111
/* IMAGE OBJECT DEFINITIONS */
OBJECT = IMAGE
  INTERCHANGE_FORMAT = BINARY
  LINES = 9389
  LINE_SAMPLES = 1468
  SAMPLE_TYPE = UNSIGNED_INTEGER
  SAMPLE_BITS = 8
  BANDS = 1
  BAND_STORAGE_TYPE = BAND_SEQUENTIAL
  MAXIMUM = 255
  MEAN = 151.129
  MINIMUM = 1
  STANDARD_DEVIATION = 14.3877
END_OBJECT = IMAGE
/* MAP OBJECT DEFINITIONS */
OBJECT = IMAGE_MAP_PROJECTION
  ^DATA_SET_MAP_PROJECTION_CATALOG= "DSMAP.CAT"
  A_AXIS_RADIUS = 3396.0
  B_AXIS_RADIUS = 3396.0
  C_AXIS_RADIUS = 3396.0
  CENTER_LATITUDE = 0.0
  CENTER_LONGITUDE = 204.0
  COORDINATE_SYSTEM_NAME = PLANETOGRAPHIC
  COORDINATE_SYSTEM_TYPE = "BODY-FIXED ROTATING"
  EASTERNMOST_LONGITUDE = 205.031
  FIRST_STANDARD_PARALLEL = "N/A"
  LINE_FIRST_PIXEL = 1
  LINE_LAST_PIXEL = 9389
  LINE_PROJECTION_OFFSET = 18108.875
  MAP_PROJECTION_ROTATION = 0.0
  MAP_PROJECTION_TYPE = SINUSOIDAL
  MAP_RESOLUTION = 1185.42760773333
  MAP_SCALE = 0.05
  MAXIMUM_LATITUDE = 15.2799
  MINIMUM_LATITUDE = 7.34451
  POSITIVE_LONGITUDE_DIRECTION = EAST
  REFERENCE_LATITUDE = "N/A"
  REFERENCE_LONGITUDE = "N/A"
  SAMPLE_FIRST_PIXEL = 1
  SAMPLE_LAST_PIXEL = 1468
  SAMPLE_PROJECTION_OFFSET = 264.625
  SECOND_STANDARD_PARALLEL = "N/A"
  WESTERNMOST_LONGITUDE = 203.798
END_OBJECT = IMAGE_MAP_PROJECTION
/* The JPEG2000 image data file associated with this label. */
OBJECT = COMPRESSED_FILE
  FILE_NAME = "H5150_0000_P13.JP2"
  RECORD_TYPE = UNDEFINED
  FILE_RECORDS = UNK
  ENCODING_TYPE = "JP2"
  INTERCHANGE_FORMAT = BINARY
  UNCOMPRESSED_FILE_NAME = "H5150_0000_P13.IMG"
  REQUIRED_STORAGE_BYTES = "13802136"
  ^DESCRIPTION = "JP2INFO.TXT"
END_OBJECT = COMPRESSED_FILE
END
