PDS_VERSION_ID = PDS3
/* FILE DATA ELEMENTS */
RECORD_TYPE = STREAM
/* POINTERS TO DATA OBJECTS */
^COMPRESSED_FILE = "H5150_0000_S13.JP2"
/* IDENTIFICATION DATA ELEMENTS */
DATA_SET_ID = "MEX-M-HRSC-5-REFDR-MAPPROJECTED-V3.0"
DATA_SET_NAME = "MARS EXPRESS HRSC MAP PROJECTED REFDR V3.0"
DETECTOR_ID = MEX_HRSC_S1
EVENT_TYPE = "MARS-REGIONAL-MAPPING-Vo-Im-Eo"
INSTRUMENT_HOST_ID = MEX
INSTRUMENT_HOST_NAME = "MARS EXPRESS"
INSTRUMENT_ID = HRSC
INSTRUMENT_NAME = "HIGH RESOLUTION STEREO CAMERA"
MISSION_NAME = "MARS EXPRESS"
MISSION_PHASE_NAME = ME_Phase_11
PROCESSING_LEVEL_ID = 3
PRODUCT_CREATION_TIME = 2016-04-27T02:54:28.000Z
PRODUCT_ID = "H5150_0000_S13.JP2"
RELEASE_ID = 0059
REVISION_ID = 0000
/* QUALITY DATA ELEMENTS */
DATA_QUALITY_ID = 2
DATA_QUALITY_DESC = "Data calculated based on photogrammetrically improved orbit and attitude data"
/* TIME DATA ELEMENTS */
SPACECRAFT_CLOCK_START_COUNT = "1/0147596841.07309"
SPACECRAFT_CLOCK_STOP_COUNT = "1/0147597023.06177"
START_TIME = 2008-01-05T07:07:24.960Z
STOP_TIME = 2008-01-05T07:09:28.079Z
/* ORBITAL DATA ELEMENTS */
ASCENDING_NODE_LONGITUDE = 120.96
MAXIMUM_RESOLUTION = 27.6
FOOTPRINT_POINT_LATITUDE = (15.2834,15.284,15.2842,15.2835,15.1659 ,15.0025,14.839,14.6753,14.5125,14.354, 14.1954,14.0366,13.8778,13.7188,13.5596 ,13.4003,13.2409,13.0814,12.9217,12.762 ,12.6022,12.4423,12.2022,12.0421, 11.8818,11.6414,11.4815,11.1709,11.0155 ,10.782,10.6263,10.4707,10.3148,10.159, 10.003,9.76927,9.53478,9.37834,9.14398, 8.9874,8.75196,8.59508,8.35998,8.20268, 8.0454,7.88828,7.73098,7.57375,7.32717, 7.3274,7.32719,7.32623,7.32472,7.32338, 7.55944,7.71677,7.874,8.03116,8.18825, 8.42376,8.58076,8.73756,8.89426,9.05091 ,9.2075,9.36402,9.52049,9.75504,9.91125 ,10.1455,10.3015,10.4574,10.6914,10.847 ,11.0027,11.2359,11.548,11.7087,11.8694 ,12.0295,12.1897,12.3502,12.5102, 12.6702,12.83,12.9897,13.1494,13.3089, 13.5481,13.7073,13.8664,14.0254,14.1843 ,14.3431,14.5017,14.7462,14.9098, 15.0734,15.2367,15.2834)
FOOTPRINT_POINT_LONGITUDE = (204.768,204.589,204.314,203.968, 203.787,203.789,203.79,203.792,203.793, 203.795,203.796,203.797,203.798,203.8, 203.801,203.802,203.803,203.804,203.805 ,203.806,203.807,203.808,203.809,203.81 ,203.81,203.812,203.812,203.813,203.814 ,203.815,203.815,203.816,203.816, 203.816,203.817,203.817,203.818,203.818 ,203.818,203.818,203.818,203.819, 203.819,203.818,203.818,203.818,203.818 ,203.818,203.884,204.107,204.296, 204.474,204.707,204.919,204.969,204.97, 204.971,204.972,204.973,204.975,204.976 ,204.977,204.978,204.98,204.981,204.982 ,204.983,204.985,204.987,204.989,204.99 ,204.991,204.993,204.995,204.996, 204.998,205.001,205.003,205.004,205.006 ,205.008,205.009,205.011,205.012, 205.014,205.016,205.017,205.019,205.022 ,205.023,205.025,205.027,205.029, 205.031,205.032,205.035,205.037,205.039 ,205.041,204.768)
ORBIT_NUMBER = 5150
ORBITAL_ECCENTRICITY = 0.574
ORBITAL_INCLINATION = 86.73
ORBITAL_SEMIMAJOR_AXIS = 8725.96
PERIAPSIS_ALTITUDE = 320.01
PERIAPSIS_ARGUMENT_ANGLE = 172.31
PERIAPSIS_TIME = 2008-01-05T07:09:51.000Z
SPACECRAFT_ORIENTATION = (0.0,-1.0,0.0)
^MEX_ORIENTATION_DESC = "MEX_ORIENTATION_DESC.TXT"
SPACECRAFT_POINTING_MODE = NADIR
^MEX_POINTING_DESC = "MEX_POINTING_DESC.TXT"
RIGHT_ASCENSION = -1e+32
DECLINATION = -1e+32
OFFSET_ANGLE = -1e+32
SPACECRAFT_SOLAR_DISTANCE = 2.37694e+08
TARGET_NAME = MARS
/* CAMERA DATA ELEMENTS */
DETECTOR_TEMPERATURE = 17.351
FOCAL_PLANE_TEMPERATURE = 8.7872
INST_CMPRS_NAME = "DISCRETE COSINE TRANSFORMATION (DCT)"
INST_CMPRS_RATIO = 7.38198
INST_CMPRS_QUALITY = 0
INST_CMPRS_QUANTZ_TBL_ID = 0
INSTRUMENT_TEMPERATURE = 11.234
LENS_TEMPERATURE = 8.5833
MACROPIXEL_SIZE = 2
MISSING_FRAMES = 0
PIXEL_SUBSAMPLING_FLAG = N
SIGNAL_CHAIN_ID = 1
/* RADIOMETRIC DATA ELEMENTS */
BANDWIDTH = 180.0
CENTER_FILTER_WAVELENGTH = 677.0
RADIANCE_OFFSET = 3.72277
RADIANCE_SCALING_FACTOR = 0.0136751
REFLECTANCE_SCALING_FACTOR = 0.000403097
MEX:REFLECTANCE_OFFSET = 0.109735
/* IMAGE OBJECT DEFINITIONS */
OBJECT = IMAGE
  INTERCHANGE_FORMAT = BINARY
  LINES = 18777
  LINE_SAMPLES = 2936
  SAMPLE_TYPE = UNSIGNED_INTEGER
  SAMPLE_BITS = 8
  BANDS = 1
  BAND_STORAGE_TYPE = BAND_SEQUENTIAL
  MAXIMUM = 255
  MEAN = 154.389
  MINIMUM = 1
  STANDARD_DEVIATION = 14.8988
END_OBJECT = IMAGE
/* MAP OBJECT DEFINITIONS */
OBJECT = IMAGE_MAP_PROJECTION
  ^DATA_SET_MAP_PROJECTION_CATALOG= "DSMAP.CAT"
  A_AXIS_RADIUS = 3396.0
  B_AXIS_RADIUS = 3396.0
  C_AXIS_RADIUS = 3396.0
  CENTER_LATITUDE = 0.0
  CENTER_LONGITUDE = 204.0
  COORDINATE_SYSTEM_NAME = PLANETOGRAPHIC
  COORDINATE_SYSTEM_TYPE = "BODY-FIXED ROTATING"
  EASTERNMOST_LONGITUDE = 205.041
  FIRST_STANDARD_PARALLEL = "N/A"
  LINE_FIRST_PIXEL = 1
  LINE_LAST_PIXEL = 18777
  LINE_PROJECTION_OFFSET = 36218.25
  MAP_PROJECTION_ROTATION = 0.0
  MAP_PROJECTION_TYPE = SINUSOIDAL
  MAP_RESOLUTION = 2370.85521546667
  MAP_SCALE = 0.025
  MAXIMUM_LATITUDE = 15.2842
  MINIMUM_LATITUDE = 7.32338
  POSITIVE_LONGITUDE_DIRECTION = EAST
  REFERENCE_LATITUDE = "N/A"
  REFERENCE_LONGITUDE = "N/A"
  SAMPLE_FIRST_PIXEL = 1
  SAMPLE_LAST_PIXEL = 2936
  SAMPLE_PROJECTION_OFFSET = 529.75
  SECOND_STANDARD_PARALLEL = "N/A"
  WESTERNMOST_LONGITUDE = 203.787
END_OBJECT = IMAGE_MAP_PROJECTION
/* The JPEG2000 image data file associated with this label. */
OBJECT = COMPRESSED_FILE
  FILE_NAME = "H5150_0000_S13.JP2"
  RECORD_TYPE = UNDEFINED
  FILE_RECORDS = UNK
  ENCODING_TYPE = "JP2"
  INTERCHANGE_FORMAT = BINARY
  UNCOMPRESSED_FILE_NAME = "H5150_0000_S13.IMG"
  REQUIRED_STORAGE_BYTES = "55152760"
  ^DESCRIPTION = "JP2INFO.TXT"
END_OBJECT = COMPRESSED_FILE
END
