PDS_VERSION_ID = PDS3
/* FILE DATA ELEMENTS */
RECORD_TYPE = STREAM
/* POINTERS TO DATA OBJECTS */
^COMPRESSED_FILE = "H5150_0000_S23.JP2"
/* IDENTIFICATION DATA ELEMENTS */
DATA_SET_ID = "MEX-M-HRSC-5-REFDR-MAPPROJECTED-V3.0"
DATA_SET_NAME = "MARS EXPRESS HRSC MAP PROJECTED REFDR V3.0"
DETECTOR_ID = MEX_HRSC_S2
EVENT_TYPE = "MARS-REGIONAL-MAPPING-Vo-Im-Eo"
INSTRUMENT_HOST_ID = MEX
INSTRUMENT_HOST_NAME = "MARS EXPRESS"
INSTRUMENT_ID = HRSC
INSTRUMENT_NAME = "HIGH RESOLUTION STEREO CAMERA"
MISSION_NAME = "MARS EXPRESS"
MISSION_PHASE_NAME = ME_Phase_11
PROCESSING_LEVEL_ID = 3
PRODUCT_CREATION_TIME = 2016-04-27T02:54:28.000Z
PRODUCT_ID = "H5150_0000_S23.JP2"
RELEASE_ID = 0059
REVISION_ID = 0000
/* QUALITY DATA ELEMENTS */
DATA_QUALITY_ID = 2
DATA_QUALITY_DESC = "Data calculated based on photogrammetrically improved orbit and attitude data"
/* TIME DATA ELEMENTS */
SPACECRAFT_CLOCK_START_COUNT = "1/0147596841.07309"
SPACECRAFT_CLOCK_STOP_COUNT = "1/0147597023.06177"
START_TIME = 2008-01-05T07:08:24.730Z
STOP_TIME = 2008-01-05T07:10:24.951Z
/* ORBITAL DATA ELEMENTS */
ASCENDING_NODE_LONGITUDE = 120.96
MAXIMUM_RESOLUTION = 27.6
FOOTPRINT_POINT_LATITUDE = (15.2653,15.2655,15.2661,15.2666, 15.3018,15.1427,14.9835,14.8244,14.6654 ,14.5064,14.3476,14.1886,13.9501, 13.7912,13.6323,13.4735,13.3147,13.1561 ,12.9975,12.8389,12.6011,12.4426, 12.2841,12.0464,11.888,11.7297,11.4923, 11.3341,11.1759,10.9387,10.7019,10.5441 ,10.386,10.2282,10.0704,9.91255,9.75459 ,9.59706,9.43933,9.28196,9.11128, 8.95385,8.79697,8.63998,8.48289,8.24721 ,7.85558,7.54213,7.38531,7.38388, 7.38252,7.38167,7.38158,7.69503,7.93034 ,8.0872,8.24423,8.40134,8.55844,8.71567 ,8.87301,9.03038,9.20076,9.43688, 9.59448,9.83096,9.98865,10.1465,10.3043 ,10.462,10.6199,10.778,10.936,11.0942, 11.2525,11.4899,11.6479,11.8062,11.9648 ,12.1233,12.2815,12.44,12.5985,12.7572, 12.9159,13.0743,13.2333,13.392,13.5508, 13.7097,13.8686,14.0276,14.1866,14.3456 ,14.5046,14.6637,14.8229,14.9821,15.221 ,15.2653)
FOOTPRINT_POINT_LONGITUDE = (204.742,204.558,204.236,204.052, 203.807,203.808,203.809,203.81,203.81, 203.811,203.812,203.813,203.814,203.815 ,203.815,203.816,203.817,203.817, 203.818,203.818,203.819,203.819,203.82, 203.82,203.82,203.821,203.821,203.821, 203.821,203.821,203.821,203.821,203.821 ,203.821,203.821,203.821,203.821, 203.821,203.821,203.82,203.82,203.82, 203.819,203.819,203.819,203.818,203.817 ,203.815,203.948,204.127,204.405, 204.717,204.967,204.968,204.969,204.97, 204.97,204.971,204.972,204.973,204.973, 204.974,204.975,204.976,204.977,204.978 ,204.979,204.98,204.981,204.982,204.983 ,204.984,204.985,204.986,204.987, 204.988,204.989,204.99,204.991,204.993, 204.994,204.995,204.996,204.997,204.998 ,204.999,205.0,205.002,205.003,205.004, 205.005,205.007,205.008,205.009,205.01, 205.012,205.013,205.014,205.017, 204.742)
ORBIT_NUMBER = 5150
ORBITAL_ECCENTRICITY = 0.574
ORBITAL_INCLINATION = 86.73
ORBITAL_SEMIMAJOR_AXIS = 8725.96
PERIAPSIS_ALTITUDE = 320.01
PERIAPSIS_ARGUMENT_ANGLE = 172.31
PERIAPSIS_TIME = 2008-01-05T07:09:51.000Z
SPACECRAFT_ORIENTATION = (0.0,-1.0,0.0)
^MEX_ORIENTATION_DESC = "MEX_ORIENTATION_DESC.TXT"
SPACECRAFT_POINTING_MODE = NADIR
^MEX_POINTING_DESC = "MEX_POINTING_DESC.TXT"
RIGHT_ASCENSION = -1e+32
DECLINATION = -1e+32
OFFSET_ANGLE = -1e+32
SPACECRAFT_SOLAR_DISTANCE = 2.37694e+08
TARGET_NAME = MARS
/* CAMERA DATA ELEMENTS */
DETECTOR_TEMPERATURE = 18.3705
FOCAL_PLANE_TEMPERATURE = 8.7872
INST_CMPRS_NAME = "DISCRETE COSINE TRANSFORMATION (DCT)"
INST_CMPRS_RATIO = 8.87793
INST_CMPRS_QUALITY = 0
INST_CMPRS_QUANTZ_TBL_ID = 0
INSTRUMENT_TEMPERATURE = 11.234
LENS_TEMPERATURE = 8.5833
MACROPIXEL_SIZE = 2
MISSING_FRAMES = 4
PIXEL_SUBSAMPLING_FLAG = N
SIGNAL_CHAIN_ID = 1
/* RADIOMETRIC DATA ELEMENTS */
BANDWIDTH = 178.0
CENTER_FILTER_WAVELENGTH = 679.0
RADIANCE_OFFSET = 3.47747
RADIANCE_SCALING_FACTOR = 0.0138407
REFLECTANCE_SCALING_FACTOR = 0.000414117
MEX:REFLECTANCE_OFFSET = 0.104047
/* IMAGE OBJECT DEFINITIONS */
OBJECT = IMAGE
  INTERCHANGE_FORMAT = BINARY
  LINES = 18777
  LINE_SAMPLES = 2936
  SAMPLE_TYPE = UNSIGNED_INTEGER
  SAMPLE_BITS = 8
  BANDS = 1
  BAND_STORAGE_TYPE = BAND_SEQUENTIAL
  MAXIMUM = 255
  MEAN = 153.57
  MINIMUM = 1
  STANDARD_DEVIATION = 14.9667
END_OBJECT = IMAGE
/* MAP OBJECT DEFINITIONS */
OBJECT = IMAGE_MAP_PROJECTION
  ^DATA_SET_MAP_PROJECTION_CATALOG= "DSMAP.CAT"
  A_AXIS_RADIUS = 3396.0
  B_AXIS_RADIUS = 3396.0
  C_AXIS_RADIUS = 3396.0
  CENTER_LATITUDE = 0.0
  CENTER_LONGITUDE = 204.0
  COORDINATE_SYSTEM_NAME = PLANETOGRAPHIC
  COORDINATE_SYSTEM_TYPE = "BODY-FIXED ROTATING"
  EASTERNMOST_LONGITUDE = 205.017
  FIRST_STANDARD_PARALLEL = "N/A"
  LINE_FIRST_PIXEL = 1
  LINE_LAST_PIXEL = 18777
  LINE_PROJECTION_OFFSET = 36218.25
  MAP_PROJECTION_ROTATION = 0.0
  MAP_PROJECTION_TYPE = SINUSOIDAL
  MAP_RESOLUTION = 2370.85521546667
  MAP_SCALE = 0.025
  MAXIMUM_LATITUDE = 15.3018
  MINIMUM_LATITUDE = 7.38158
  POSITIVE_LONGITUDE_DIRECTION = EAST
  REFERENCE_LATITUDE = "N/A"
  REFERENCE_LONGITUDE = "N/A"
  SAMPLE_FIRST_PIXEL = 1
  SAMPLE_LAST_PIXEL = 2936
  SAMPLE_PROJECTION_OFFSET = 529.75
  SECOND_STANDARD_PARALLEL = "N/A"
  WESTERNMOST_LONGITUDE = 203.807
END_OBJECT = IMAGE_MAP_PROJECTION
/* The JPEG2000 image data file associated with this label. */
OBJECT = COMPRESSED_FILE
  FILE_NAME = "H5150_0000_S23.JP2"
  RECORD_TYPE = UNDEFINED
  FILE_RECORDS = UNK
  ENCODING_TYPE = "JP2"
  INTERCHANGE_FORMAT = BINARY
  UNCOMPRESSED_FILE_NAME = "H5150_0000_S23.IMG"
  REQUIRED_STORAGE_BYTES = "55152760"
  ^DESCRIPTION = "JP2INFO.TXT"
END_OBJECT = COMPRESSED_FILE
END
