PDS_VERSION_ID = PDS3
/* FILE DATA ELEMENTS */
RECORD_TYPE = STREAM
/* POINTERS TO DATA OBJECTS */
^COMPRESSED_FILE = "H5150_0001_ND3.JP2"
/* IDENTIFICATION DATA ELEMENTS */
DATA_SET_ID = "MEX-M-HRSC-5-REFDR-MAPPROJECTED-V3.0"
DATA_SET_NAME = "MARS EXPRESS HRSC MAP PROJECTED REFDR V3.0"
DETECTOR_ID = MEX_HRSC_NADIR
EVENT_TYPE = "MARS-REGIONAL-MAPPING-Vo-Te-Fl"
INSTRUMENT_HOST_ID = MEX
INSTRUMENT_HOST_NAME = "MARS EXPRESS"
INSTRUMENT_ID = HRSC
INSTRUMENT_NAME = "HIGH RESOLUTION STEREO CAMERA"
MISSION_NAME = "MARS EXPRESS"
MISSION_PHASE_NAME = ME_Phase_11
PROCESSING_LEVEL_ID = 3
PRODUCT_CREATION_TIME = 2016-04-27T02:54:28.000Z
PRODUCT_ID = "H5150_0001_ND3.JP2"
RELEASE_ID = 0059
REVISION_ID = 0000
/* QUALITY DATA ELEMENTS */
DATA_QUALITY_ID = 2
DATA_QUALITY_DESC = "Data calculated based on photogrammetrically improved orbit and attitude data"
/* TIME DATA ELEMENTS */
SPACECRAFT_CLOCK_START_COUNT = "1/0147597153.07300"
SPACECRAFT_CLOCK_STOP_COUNT = "1/0147597516.05695"
START_TIME = 2008-01-05T07:13:07.828Z
STOP_TIME = 2008-01-05T07:17:42.831Z
/* ORBITAL DATA ELEMENTS */
ASCENDING_NODE_LONGITUDE = 120.96
MAXIMUM_RESOLUTION = 14.2
FOOTPRINT_POINT_LATITUDE = (-5.11576,-5.11272,-5.11096,-5.39705, -5.68406,-5.97082,-6.25734,-6.54358, -6.82957,-7.11528,-7.40071,-7.68591, -7.97082,-8.46146,-8.80052,-9.13915, -9.47735,-9.81511,-10.1524,-10.4893, -10.8257,-11.1616,-11.4971,-11.832, -12.1665,-12.5005,-12.834,-13.1669, -13.6753,-14.0159,-14.3559,-14.7037, -15.0516,-15.5765,-15.9315,-16.2859, -16.8268,-17.1883,-17.7392,-18.1076, -18.6694,-19.0444,-19.4269,-19.809, -20.1971,-20.586,-20.9806,-21.3761, -21.7777,-22.1915,-22.1938,-22.1945, -22.1926,-21.7905,-21.389,-20.9938, -20.5993,-20.2107,-19.8226,-19.4408, -19.0583,-18.6834,-18.1217,-17.7535, -17.2026,-16.8413,-16.3004,-15.9461, -15.5912,-15.0662,-14.7185,-14.3706, -14.0307,-13.6902,-13.1816,-12.8487, -12.5153,-12.1814,-11.8469,-11.512, -11.1766,-10.8407,-10.5043,-10.1675, -9.83022,-9.49249,-9.15429,-8.81568, -8.47663,-7.98464,-7.69974,-7.41457, -7.12911,-6.84338,-6.55738,-6.2711, -5.98459,-5.69782,-5.4108,-5.11576)
FOOTPRINT_POINT_LONGITUDE = (204.827,204.228,203.923,203.701, 203.696,203.692,203.687,203.682,203.677 ,203.671,203.665,203.661,203.656, 203.647,203.64,203.633,203.627,203.62, 203.613,203.606,203.599,203.592,203.585 ,203.577,203.571,203.563,203.556, 203.547,203.533,203.525,203.516,203.508 ,203.502,203.488,203.478,203.469, 203.455,203.444,203.429,203.417,203.403 ,203.391,203.378,203.368,203.354, 203.343,203.33,203.318,203.304,203.481, 203.995,204.585,205.222,205.21,205.198, 205.188,205.177,205.167,205.156,205.146 ,205.138,205.129,205.115,205.107, 205.097,205.089,205.078,205.071,205.065 ,205.055,205.049,205.044,205.038, 205.033,205.026,205.022,205.018,205.014 ,205.01,205.006,205.002,204.998,204.994 ,204.991,204.987,204.984,204.981, 204.977,204.975,204.971,204.969,204.967 ,204.965,204.963,204.961,204.961, 204.958,204.957,204.955,204.827)
ORBIT_NUMBER = 5150
ORBITAL_ECCENTRICITY = 0.574
ORBITAL_INCLINATION = 86.73
ORBITAL_SEMIMAJOR_AXIS = 8725.96
PERIAPSIS_ALTITUDE = 320.01
PERIAPSIS_ARGUMENT_ANGLE = 172.31
PERIAPSIS_TIME = 2008-01-05T07:09:51.000Z
SPACECRAFT_ORIENTATION = (0.0,-1.0,0.0)
^MEX_ORIENTATION_DESC = "MEX_ORIENTATION_DESC.TXT"
SPACECRAFT_POINTING_MODE = NADIR
^MEX_POINTING_DESC = "MEX_POINTING_DESC.TXT"
RIGHT_ASCENSION = -1e+32
DECLINATION = -1e+32
OFFSET_ANGLE = -1e+32
SPACECRAFT_SOLAR_DISTANCE = 2.37694e+08
TARGET_NAME = MARS
/* CAMERA DATA ELEMENTS */
DETECTOR_TEMPERATURE = 18.7783
FOCAL_PLANE_TEMPERATURE = 8.5833
INST_CMPRS_NAME = "DISCRETE COSINE TRANSFORMATION (DCT)"
INST_CMPRS_RATIO = 5.81974
INST_CMPRS_QUALITY = 0
INST_CMPRS_QUANTZ_TBL_ID = 0
INSTRUMENT_TEMPERATURE = 12.2535
LENS_TEMPERATURE = 8.7872
MACROPIXEL_SIZE = 1
MISSING_FRAMES = 0
PIXEL_SUBSAMPLING_FLAG = N
SIGNAL_CHAIN_ID = 0
/* RADIOMETRIC DATA ELEMENTS */
BANDWIDTH = 177.0
CENTER_FILTER_WAVELENGTH = 677.5
RADIANCE_OFFSET = 1.62045
RADIANCE_SCALING_FACTOR = 0.0190641
REFLECTANCE_SCALING_FACTOR = 0.000572188
MEX:REFLECTANCE_OFFSET = 0.048636
/* IMAGE OBJECT DEFINITIONS */
OBJECT = IMAGE
  INTERCHANGE_FORMAT = BINARY
  LINES = 81010
  LINE_SAMPLES = 8795
  SAMPLE_TYPE = UNSIGNED_INTEGER
  SAMPLE_BITS = 8
  BANDS = 1
  BAND_STORAGE_TYPE = BAND_SEQUENTIAL
  MAXIMUM = 255
  MEAN = 114.458
  MINIMUM = 1
  STANDARD_DEVIATION = 22.3617
END_OBJECT = IMAGE
/* MAP OBJECT DEFINITIONS */
OBJECT = IMAGE_MAP_PROJECTION
  ^DATA_SET_MAP_PROJECTION_CATALOG= "DSMAP.CAT"
  A_AXIS_RADIUS = 3396.0
  B_AXIS_RADIUS = 3396.0
  C_AXIS_RADIUS = 3396.0
  CENTER_LATITUDE = 0.0
  CENTER_LONGITUDE = 204.0
  COORDINATE_SYSTEM_NAME = PLANETOGRAPHIC
  COORDINATE_SYSTEM_TYPE = "BODY-FIXED ROTATING"
  EASTERNMOST_LONGITUDE = 205.222
  FIRST_STANDARD_PARALLEL = "N/A"
  LINE_FIRST_PIXEL = 1
  LINE_LAST_PIXEL = 81010
  LINE_PROJECTION_OFFSET = -24212.0
  MAP_PROJECTION_ROTATION = 0.0
  MAP_PROJECTION_TYPE = SINUSOIDAL
  MAP_RESOLUTION = 4741.71043093333
  MAP_SCALE = 0.0125
  MAXIMUM_LATITUDE = -5.11096
  MINIMUM_LATITUDE = -22.1945
  POSITIVE_LONGITUDE_DIRECTION = EAST
  REFERENCE_LATITUDE = "N/A"
  REFERENCE_LONGITUDE = "N/A"
  SAMPLE_FIRST_PIXEL = 1
  SAMPLE_LAST_PIXEL = 8795
  SAMPLE_PROJECTION_OFFSET = 3261.0
  SECOND_STANDARD_PARALLEL = "N/A"
  WESTERNMOST_LONGITUDE = 203.304
END_OBJECT = IMAGE_MAP_PROJECTION
/* The JPEG2000 image data file associated with this label. */
OBJECT = COMPRESSED_FILE
  FILE_NAME = "H5150_0001_ND3.JP2"
  RECORD_TYPE = UNDEFINED
  FILE_RECORDS = UNK
  ENCODING_TYPE = "JP2"
  INTERCHANGE_FORMAT = BINARY
  UNCOMPRESSED_FILE_NAME = "H5150_0001_ND3.IMG"
  REQUIRED_STORAGE_BYTES = "712518130"
  ^DESCRIPTION = "JP2INFO.TXT"
END_OBJECT = COMPRESSED_FILE
END
