PDS_VERSION_ID = PDS3
/* FILE DATA ELEMENTS */
RECORD_TYPE = STREAM
/* POINTERS TO DATA OBJECTS */
^COMPRESSED_FILE = "H5154_0000_P13.JP2"
/* IDENTIFICATION DATA ELEMENTS */
DATA_SET_ID = "MEX-M-HRSC-5-REFDR-MAPPROJECTED-V3.0"
DATA_SET_NAME = "MARS EXPRESS HRSC MAP PROJECTED REFDR V3.0"
DETECTOR_ID = MEX_HRSC_P1
EVENT_TYPE = "MARS-REGIONAL-MAPPING-Vo-Te-Mw"
INSTRUMENT_HOST_ID = MEX
INSTRUMENT_HOST_NAME = "MARS EXPRESS"
INSTRUMENT_ID = HRSC
INSTRUMENT_NAME = "HIGH RESOLUTION STEREO CAMERA"
MISSION_NAME = "MARS EXPRESS"
MISSION_PHASE_NAME = ME_Phase_11
PROCESSING_LEVEL_ID = 3
PRODUCT_CREATION_TIME = 2016-04-27T02:54:28.000Z
PRODUCT_ID = "H5154_0000_P13.JP2"
RELEASE_ID = 0059
REVISION_ID = 0000
/* QUALITY DATA ELEMENTS */
DATA_QUALITY_ID = 2
DATA_QUALITY_DESC = "Data calculated based on photogrammetrically improved orbit and attitude data"
/* TIME DATA ELEMENTS */
SPACECRAFT_CLOCK_START_COUNT = "1/0147695438.09064"
SPACECRAFT_CLOCK_STOP_COUNT = "1/0147695660.32558"
START_TIME = 2008-01-06T10:30:51.916Z
STOP_TIME = 2008-01-06T10:33:32.466Z
/* ORBITAL DATA ELEMENTS */
ASCENDING_NODE_LONGITUDE = 120.87
MAXIMUM_RESOLUTION = 53.4
FOOTPRINT_POINT_LATITUDE = (10.9036,10.905,10.9061,10.9067,10.8888 ,10.6812,10.3701,10.1619,9.95396, 9.64208,9.43375,9.22543,9.01704,8.80858 ,8.60003,8.39141,8.18267,7.97384, 7.76503,7.55607,7.34703,7.03354,6.71941 ,6.51005,6.30062,6.09112,5.88157, 5.67193,5.35758,5.04284,4.83302,4.62315 ,4.41328,4.20334,3.99339,3.78336, 3.57329,3.36316,3.15302,2.94283,2.62756 ,2.41728,2.20743,1.89147,1.68114, 1.47081,1.26047,1.05013,0.839773, 0.62941,0.414639,0.357766,0.356816, 0.355559,0.353609,0.570036,0.780467, 0.990882,1.20129,1.41167,1.72725,1.9376 ,2.2532,2.56854,2.77883,2.9891,3.19931, 3.40953,3.61968,3.8298,4.03988,4.24994, 4.4599,4.77484,5.08973,5.29952,5.50928, 5.82388,6.03348,6.24301,6.45251,6.66194 ,6.87131,7.08058,7.29002,7.60369, 7.81246,8.02237,8.33468,8.54343,8.75207 ,8.96066,9.16915,9.37764,9.69006, 9.89846,10.2108,10.5222,10.7301, 10.9036)
FOOTPRINT_POINT_LONGITUDE = (164.742,164.507,164.228,163.928, 163.585,163.585,163.586,163.586,163.586 ,163.587,163.587,163.587,163.587, 163.586,163.586,163.586,163.586,163.585 ,163.585,163.585,163.584,163.583, 163.582,163.582,163.581,163.58,163.579, 163.578,163.577,163.575,163.574,163.573 ,163.572,163.57,163.569,163.568,163.566 ,163.565,163.563,163.562,163.559, 163.558,163.556,163.553,163.551,163.549 ,163.548,163.546,163.544,163.542, 163.539,163.853,164.048,164.265,164.559 ,164.704,164.704,164.704,164.704, 164.705,164.705,164.705,164.706,164.707 ,164.707,164.708,164.708,164.709,164.71 ,164.71,164.711,164.712,164.713,164.714 ,164.715,164.716,164.717,164.718, 164.719,164.72,164.721,164.722,164.723, 164.725,164.726,164.727,164.729,164.73, 164.732,164.733,164.735,164.736,164.737 ,164.739,164.741,164.742,164.745, 164.747,164.749,164.742)
ORBIT_NUMBER = 5154
ORBITAL_ECCENTRICITY = 0.574
ORBITAL_INCLINATION = 86.73
ORBITAL_SEMIMAJOR_AXIS = 8722.49
PERIAPSIS_ALTITUDE = 320.76
PERIAPSIS_ARGUMENT_ANGLE = 171.63
PERIAPSIS_TIME = 2008-01-06T10:31:50.000Z
SPACECRAFT_ORIENTATION = (0.0,-1.0,0.0)
^MEX_ORIENTATION_DESC = "MEX_ORIENTATION_DESC.TXT"
SPACECRAFT_POINTING_MODE = NADIR
^MEX_POINTING_DESC = "MEX_POINTING_DESC.TXT"
RIGHT_ASCENSION = -1e+32
DECLINATION = -1e+32
OFFSET_ANGLE = -1e+32
SPACECRAFT_SOLAR_DISTANCE = 2.37883e+08
TARGET_NAME = MARS
/* CAMERA DATA ELEMENTS */
DETECTOR_TEMPERATURE = 17.7588
FOCAL_PLANE_TEMPERATURE = 8.5833
INST_CMPRS_NAME = "DISCRETE COSINE TRANSFORMATION (DCT)"
INST_CMPRS_RATIO = 14.5585
INST_CMPRS_QUALITY = 0
INST_CMPRS_QUANTZ_TBL_ID = 0
INSTRUMENT_TEMPERATURE = 11.0301
LENS_TEMPERATURE = 8.5833
MACROPIXEL_SIZE = 4
MISSING_FRAMES = 0
PIXEL_SUBSAMPLING_FLAG = N
SIGNAL_CHAIN_ID = 3
/* RADIOMETRIC DATA ELEMENTS */
BANDWIDTH = 174.0
CENTER_FILTER_WAVELENGTH = 675.0
RADIANCE_OFFSET = 3.10604
RADIANCE_SCALING_FACTOR = 0.0143497
REFLECTANCE_SCALING_FACTOR = 0.000436772
MEX:REFLECTANCE_OFFSET = 0.0945408
/* IMAGE OBJECT DEFINITIONS */
OBJECT = IMAGE
  INTERCHANGE_FORMAT = BINARY
  LINES = 12481
  LINE_SAMPLES = 1505
  SAMPLE_TYPE = UNSIGNED_INTEGER
  SAMPLE_BITS = 8
  BANDS = 1
  BAND_STORAGE_TYPE = BAND_SEQUENTIAL
  MAXIMUM = 255
  MEAN = 129.593
  MINIMUM = 1
  STANDARD_DEVIATION = 14.1245
END_OBJECT = IMAGE
/* MAP OBJECT DEFINITIONS */
OBJECT = IMAGE_MAP_PROJECTION
  ^DATA_SET_MAP_PROJECTION_CATALOG= "DSMAP.CAT"
  A_AXIS_RADIUS = 3396.0
  B_AXIS_RADIUS = 3396.0
  C_AXIS_RADIUS = 3396.0
  CENTER_LATITUDE = 0.0
  CENTER_LONGITUDE = 164.0
  COORDINATE_SYSTEM_NAME = PLANETOGRAPHIC
  COORDINATE_SYSTEM_TYPE = "BODY-FIXED ROTATING"
  EASTERNMOST_LONGITUDE = 164.749
  FIRST_STANDARD_PARALLEL = "N/A"
  LINE_FIRST_PIXEL = 1
  LINE_LAST_PIXEL = 12481
  LINE_PROJECTION_OFFSET = 12930.875
  MAP_PROJECTION_ROTATION = 0.0
  MAP_PROJECTION_TYPE = SINUSOIDAL
  MAP_RESOLUTION = 1185.42760773333
  MAP_SCALE = 0.05
  MAXIMUM_LATITUDE = 10.9067
  MINIMUM_LATITUDE = 0.353609
  POSITIVE_LONGITUDE_DIRECTION = EAST
  REFERENCE_LATITUDE = "N/A"
  REFERENCE_LONGITUDE = "N/A"
  SAMPLE_FIRST_PIXEL = 1
  SAMPLE_LAST_PIXEL = 1505
  SAMPLE_PROJECTION_OFFSET = 599.375
  SECOND_STANDARD_PARALLEL = "N/A"
  WESTERNMOST_LONGITUDE = 163.539
END_OBJECT = IMAGE_MAP_PROJECTION
/* The JPEG2000 image data file associated with this label. */
OBJECT = COMPRESSED_FILE
  FILE_NAME = "H5154_0000_P13.JP2"
  RECORD_TYPE = UNDEFINED
  FILE_RECORDS = UNK
  ENCODING_TYPE = "JP2"
  INTERCHANGE_FORMAT = BINARY
  UNCOMPRESSED_FILE_NAME = "H5154_0000_P13.IMG"
  REQUIRED_STORAGE_BYTES = "18803470"
  ^DESCRIPTION = "JP2INFO.TXT"
END_OBJECT = COMPRESSED_FILE
END
