PDS_VERSION_ID = PDS3
/* FILE DATA ELEMENTS */
RECORD_TYPE = STREAM
/* POINTERS TO DATA OBJECTS */
^COMPRESSED_FILE = "H5158_0000_ND3.JP2"
/* IDENTIFICATION DATA ELEMENTS */
DATA_SET_ID = "MEX-M-HRSC-5-REFDR-MAPPROJECTED-V3.0"
DATA_SET_NAME = "MARS EXPRESS HRSC MAP PROJECTED REFDR V3.0"
DETECTOR_ID = MEX_HRSC_NADIR
EVENT_TYPE = "MARS-REGIONAL-MAPPING-Vo-Fl-Gl"
INSTRUMENT_HOST_ID = MEX
INSTRUMENT_HOST_NAME = "MARS EXPRESS"
INSTRUMENT_ID = HRSC
INSTRUMENT_NAME = "HIGH RESOLUTION STEREO CAMERA"
MISSION_NAME = "MARS EXPRESS"
MISSION_PHASE_NAME = ME_Phase_11
PROCESSING_LEVEL_ID = 3
PRODUCT_CREATION_TIME = 2016-04-27T02:54:28.000Z
PRODUCT_ID = "H5158_0000_ND3.JP2"
RELEASE_ID = 0059
REVISION_ID = 0000
/* QUALITY DATA ELEMENTS */
DATA_QUALITY_ID = 2
DATA_QUALITY_DESC = "Data calculated based on photogrammetrically improved orbit and attitude data"
/* TIME DATA ELEMENTS */
SPACECRAFT_CLOCK_START_COUNT = "1/0147793767.08421"
SPACECRAFT_CLOCK_STOP_COUNT = "1/0147794022.56939"
START_TIME = 2008-01-07T13:50:05.204Z
STOP_TIME = 2008-01-07T13:53:16.217Z
/* ORBITAL DATA ELEMENTS */
ASCENDING_NODE_LONGITUDE = 120.79
MAXIMUM_RESOLUTION = 13
FOOTPRINT_POINT_LATITUDE = (22.789,22.7882,22.7868,22.5328,22.2795 ,22.026,21.7723,21.5184,21.2643,21.01, 20.7556,20.501,20.2463,19.9914,19.7363, 19.4811,19.2257,18.9701,18.7144,18.4586 ,18.2027,17.9483,17.7003,17.4522,17.204 ,16.9557,16.7073,16.4588,16.2102, 15.9615,15.7127,15.4638,15.2148,14.9657 ,14.7192,14.2373,13.755,13.2726,12.79, 12.5486,12.3072,12.0657,11.8242,11.5826 ,11.341,11.0994,10.8578,10.6161,10.3744 ,10.3596,10.3583,10.3572,10.5986, 10.8404,11.0821,11.3238,11.5655,11.8071 ,12.0487,12.2903,12.5318,12.7733, 13.0148,13.2562,13.7388,14.2212,14.7033 ,14.9495,15.1987,15.4478,15.6968, 15.9458,16.1946,16.4434,16.692,16.9406, 17.189,17.4373,17.6856,17.9337,18.1878, 18.4439,18.6999,18.9557,19.2114,19.467, 19.7224,19.9777,20.2328,20.4877,20.7425 ,20.9971,21.2516,21.5058,21.7599, 22.0138,22.2676,22.5211,22.7745,22.789)
FOOTPRINT_POINT_LONGITUDE = (124.583,124.059,123.738,123.513, 123.518,123.522,123.526,123.531,123.535 ,123.539,123.543,123.546,123.55,123.554 ,123.557,123.56,123.564,123.567,123.57, 123.572,123.575,123.578,123.58,123.583, 123.585,123.587,123.589,123.591,123.593 ,123.595,123.597,123.598,123.6,123.601, 123.603,123.605,123.608,123.609,123.611 ,123.611,123.611,123.612,123.613, 123.613,123.613,123.613,123.613,123.613 ,123.614,123.952,124.384,124.658, 124.769,124.771,124.772,124.774,124.776 ,124.778,124.78,124.782,124.784,124.785 ,124.788,124.79,124.794,124.798,124.803 ,124.805,124.807,124.81,124.812,124.815 ,124.818,124.82,124.823,124.825,124.828 ,124.831,124.834,124.837,124.84,124.842 ,124.845,124.849,124.852,124.855, 124.858,124.861,124.864,124.868,124.871 ,124.874,124.878,124.881,124.885, 124.888,124.892,124.895,124.899, 124.583)
ORBIT_NUMBER = 5158
ORBITAL_ECCENTRICITY = 0.574
ORBITAL_INCLINATION = 86.72
ORBITAL_SEMIMAJOR_AXIS = 8729.26
PERIAPSIS_ALTITUDE = 320.56
PERIAPSIS_ARGUMENT_ANGLE = 170.92
PERIAPSIS_TIME = 2008-01-07T13:53:35.000Z
SPACECRAFT_ORIENTATION = (0.0,-1.0,0.0)
^MEX_ORIENTATION_DESC = "MEX_ORIENTATION_DESC.TXT"
SPACECRAFT_POINTING_MODE = ACROSSTRACK
^MEX_POINTING_DESC = "MEX_POINTING_DESC.TXT"
RIGHT_ASCENSION = -1e+32
DECLINATION = -1e+32
OFFSET_ANGLE = 0.2
SPACECRAFT_SOLAR_DISTANCE = 2.3807e+08
TARGET_NAME = MARS
/* CAMERA DATA ELEMENTS */
DETECTOR_TEMPERATURE = 18.1666
FOCAL_PLANE_TEMPERATURE = 7.7677
INST_CMPRS_NAME = "DISCRETE COSINE TRANSFORMATION (DCT)"
INST_CMPRS_RATIO = 6.94574
INST_CMPRS_QUALITY = 0
INST_CMPRS_QUANTZ_TBL_ID = 0
INSTRUMENT_TEMPERATURE = 11.4379
LENS_TEMPERATURE = 7.9716
MACROPIXEL_SIZE = 1
MISSING_FRAMES = 0
PIXEL_SUBSAMPLING_FLAG = N
SIGNAL_CHAIN_ID = 0
/* RADIOMETRIC DATA ELEMENTS */
BANDWIDTH = 177.0
CENTER_FILTER_WAVELENGTH = 677.5
RADIANCE_OFFSET = 2.41756
RADIANCE_SCALING_FACTOR = 0.0140314
REFLECTANCE_SCALING_FACTOR = 0.000422465
MEX:REFLECTANCE_OFFSET = 0.0727895
/* IMAGE OBJECT DEFINITIONS */
OBJECT = IMAGE
  INTERCHANGE_FORMAT = BINARY
  LINES = 58953
  LINE_SAMPLES = 6324
  SAMPLE_TYPE = UNSIGNED_INTEGER
  SAMPLE_BITS = 8
  BANDS = 1
  BAND_STORAGE_TYPE = BAND_SEQUENTIAL
  MAXIMUM = 255
  MEAN = 109.25
  MINIMUM = 1
  STANDARD_DEVIATION = 17.9667
END_OBJECT = IMAGE
/* MAP OBJECT DEFINITIONS */
OBJECT = IMAGE_MAP_PROJECTION
  ^DATA_SET_MAP_PROJECTION_CATALOG= "DSMAP.CAT"
  A_AXIS_RADIUS = 3396.0
  B_AXIS_RADIUS = 3396.0
  C_AXIS_RADIUS = 3396.0
  CENTER_LATITUDE = 0.0
  CENTER_LONGITUDE = 124.0
  COORDINATE_SYSTEM_NAME = PLANETOGRAPHIC
  COORDINATE_SYSTEM_TYPE = "BODY-FIXED ROTATING"
  EASTERNMOST_LONGITUDE = 124.899
  FIRST_STANDARD_PARALLEL = "N/A"
  LINE_FIRST_PIXEL = 1
  LINE_LAST_PIXEL = 58953
  LINE_PROJECTION_OFFSET = 108069.0
  MAP_PROJECTION_ROTATION = 0.0
  MAP_PROJECTION_TYPE = SINUSOIDAL
  MAP_RESOLUTION = 4741.71043093333
  MAP_SCALE = 0.0125
  MAXIMUM_LATITUDE = 22.789
  MINIMUM_LATITUDE = 10.3572
  POSITIVE_LONGITUDE_DIRECTION = EAST
  REFERENCE_LATITUDE = "N/A"
  REFERENCE_LONGITUDE = "N/A"
  SAMPLE_FIRST_PIXEL = 1
  SAMPLE_LAST_PIXEL = 6324
  SAMPLE_PROJECTION_OFFSET = 2218.0
  SECOND_STANDARD_PARALLEL = "N/A"
  WESTERNMOST_LONGITUDE = 123.513
END_OBJECT = IMAGE_MAP_PROJECTION
/* The JPEG2000 image data file associated with this label. */
OBJECT = COMPRESSED_FILE
  FILE_NAME = "H5158_0000_ND3.JP2"
  RECORD_TYPE = UNDEFINED
  FILE_RECORDS = UNK
  ENCODING_TYPE = "JP2"
  INTERCHANGE_FORMAT = BINARY
  UNCOMPRESSED_FILE_NAME = "H5158_0000_ND3.IMG"
  REQUIRED_STORAGE_BYTES = "372850392"
  ^DESCRIPTION = "JP2INFO.TXT"
END_OBJECT = COMPRESSED_FILE
END
