PDS_VERSION_ID = PDS3
/* FILE DATA ELEMENTS */
RECORD_TYPE = STREAM
/* POINTERS TO DATA OBJECTS */
^COMPRESSED_FILE = "H5159_0000_P13.JP2"
/* IDENTIFICATION DATA ELEMENTS */
DATA_SET_ID = "MEX-M-HRSC-5-REFDR-MAPPROJECTED-V3.0"
DATA_SET_NAME = "MARS EXPRESS HRSC MAP PROJECTED REFDR V3.0"
DETECTOR_ID = MEX_HRSC_P1
EVENT_TYPE = "MARS-LOCAL-STEREO-Im-La"
INSTRUMENT_HOST_ID = MEX
INSTRUMENT_HOST_NAME = "MARS EXPRESS"
INSTRUMENT_ID = HRSC
INSTRUMENT_NAME = "HIGH RESOLUTION STEREO CAMERA"
MISSION_NAME = "MARS EXPRESS"
MISSION_PHASE_NAME = ME_Phase_11
PROCESSING_LEVEL_ID = 3
PRODUCT_CREATION_TIME = 2016-04-27T02:54:28.000Z
PRODUCT_ID = "H5159_0000_P13.JP2"
RELEASE_ID = 0059
REVISION_ID = 0000
/* QUALITY DATA ELEMENTS */
DATA_QUALITY_ID = 2
DATA_QUALITY_DESC = "Data calculated based on photogrammetrically improved orbit and attitude data"
/* TIME DATA ELEMENTS */
SPACECRAFT_CLOCK_START_COUNT = "1/0147818499.08403"
SPACECRAFT_CLOCK_STOP_COUNT = "1/0147818711.24812"
START_TIME = 2008-01-07T20:41:53.487Z
STOP_TIME = 2008-01-07T20:44:25.566Z
/* ORBITAL DATA ELEMENTS */
ASCENDING_NODE_LONGITUDE = 120.78
MAXIMUM_RESOLUTION = 26.3
FOOTPRINT_POINT_LATITUDE = (16.5005,16.5033,16.5058,16.508,16.5099 ,16.5115,16.5005,16.301,16.1017,15.8015 ,15.5022,15.2026,15.0023,14.7019, 14.5023,14.3019,14.1014,13.9008,13.7002 ,13.404,13.1135,12.9195,12.6266,12.4311 ,12.2363,12.0355,11.8379,11.6416, 11.4467,11.2542,11.0593,10.8633,10.6674 ,10.4711,10.1754,9.97756,9.68138, 9.48779,9.1988,9.00246,8.80539,8.6083, 8.31292,8.116,7.82061,7.62272,7.32675, 7.13007,6.93299,6.62253,6.61887,6.61472 ,6.61199,6.60847,6.70348,6.90088, 7.09863,7.29642,7.49264,7.6899,7.98561, 8.28179,8.48202,8.67804,8.87463,9.0714, 9.36635,9.56326,9.8582,10.0548,10.3477, 10.6395,10.8353,11.1292,11.3265,11.5225 ,11.7189,11.9144,12.1079,12.3038, 12.5001,12.6955,12.8892,13.0843,13.2793 ,13.4736,13.6718,13.8731,14.0707, 14.2752,14.5756,14.8763,15.0766,15.2771 ,15.4772,15.6769,15.8767,16.1763, 16.3757,16.5005)
FOOTPRINT_POINT_LONGITUDE = (24.7154,24.5242,24.3334,24.1435, 23.9542,23.7653,23.5935,23.5951,23.5968 ,23.599,23.6013,23.6035,23.6048,23.6067 ,23.6081,23.6093,23.6104,23.6115, 23.6125,23.6137,23.6153,23.6162,23.617, 23.6174,23.618,23.617,23.6169,23.617, 23.6175,23.6186,23.619,23.6192,23.6193, 23.6193,23.6189,23.6184,23.6178,23.6184 ,23.6196,23.6193,23.6189,23.6185, 23.6178,23.6173,23.6165,23.6157,23.6146 ,23.6141,23.6134,23.6768,23.8945, 24.1349,24.2996,24.52,24.7459,24.7469, 24.7476,24.7484,24.7502,24.7512,24.7529 ,24.7543,24.7532,24.7551,24.7565, 24.7578,24.7598,24.7609,24.7629,24.7642 ,24.7674,24.7713,24.773,24.7754,24.776, 24.7774,24.7786,24.7803,24.7834,24.7847 ,24.7858,24.7874,24.7901,24.7919, 24.7937,24.7958,24.7979,24.7999,24.8043 ,24.804,24.8076,24.8111,24.8133,24.8155 ,24.8177,24.8202,24.8226,24.8261, 24.8285,24.7154)
ORBIT_NUMBER = 5159
ORBITAL_ECCENTRICITY = 0.574
ORBITAL_INCLINATION = 86.72
ORBITAL_SEMIMAJOR_AXIS = 8729.57
PERIAPSIS_ALTITUDE = 320.81
PERIAPSIS_ARGUMENT_ANGLE = 170.75
PERIAPSIS_TIME = 2008-01-07T20:44:04.000Z
SPACECRAFT_ORIENTATION = (0.0,-1.0,0.0)
^MEX_ORIENTATION_DESC = "MEX_ORIENTATION_DESC.TXT"
SPACECRAFT_POINTING_MODE = ACROSSTRACK
^MEX_POINTING_DESC = "MEX_POINTING_DESC.TXT"
RIGHT_ASCENSION = -1e+32
DECLINATION = -1e+32
OFFSET_ANGLE = 0.25
SPACECRAFT_SOLAR_DISTANCE = 2.38117e+08
TARGET_NAME = MARS
/* CAMERA DATA ELEMENTS */
DETECTOR_TEMPERATURE = 17.1471
FOCAL_PLANE_TEMPERATURE = 7.7677
INST_CMPRS_NAME = "DISCRETE COSINE TRANSFORMATION (DCT)"
INST_CMPRS_RATIO = 10.5839
INST_CMPRS_QUALITY = 0
INST_CMPRS_QUANTZ_TBL_ID = 0
INSTRUMENT_TEMPERATURE = 11.234
LENS_TEMPERATURE = 8.3794
MACROPIXEL_SIZE = 2
MISSING_FRAMES = 0
PIXEL_SUBSAMPLING_FLAG = N
SIGNAL_CHAIN_ID = 3
/* RADIOMETRIC DATA ELEMENTS */
BANDWIDTH = 174.0
CENTER_FILTER_WAVELENGTH = 675.0
RADIANCE_OFFSET = 2.99401
RADIANCE_SCALING_FACTOR = 0.0173638
REFLECTANCE_SCALING_FACTOR = 0.00052955
MEX:REFLECTANCE_OFFSET = 0.0913095
/* IMAGE OBJECT DEFINITIONS */
OBJECT = IMAGE
  INTERCHANGE_FORMAT = BINARY
  LINES = 23449
  LINE_SAMPLES = 2962
  SAMPLE_TYPE = UNSIGNED_INTEGER
  SAMPLE_BITS = 8
  BANDS = 1
  BAND_STORAGE_TYPE = BAND_SEQUENTIAL
  MAXIMUM = 255
  MEAN = 124.104
  MINIMUM = 1
  STANDARD_DEVIATION = 23.1012
END_OBJECT = IMAGE
/* MAP OBJECT DEFINITIONS */
OBJECT = IMAGE_MAP_PROJECTION
  ^DATA_SET_MAP_PROJECTION_CATALOG= "DSMAP.CAT"
  A_AXIS_RADIUS = 3396.0
  B_AXIS_RADIUS = 3396.0
  C_AXIS_RADIUS = 3396.0
  CENTER_LATITUDE = 0.0
  CENTER_LONGITUDE = 24.0
  COORDINATE_SYSTEM_NAME = PLANETOGRAPHIC
  COORDINATE_SYSTEM_TYPE = "BODY-FIXED ROTATING"
  EASTERNMOST_LONGITUDE = 24.8285
  FIRST_STANDARD_PARALLEL = "N/A"
  LINE_FIRST_PIXEL = 1
  LINE_LAST_PIXEL = 23449
  LINE_PROJECTION_OFFSET = 39130.75
  MAP_PROJECTION_ROTATION = 0.0
  MAP_PROJECTION_TYPE = SINUSOIDAL
  MAP_RESOLUTION = 2370.85521546667
  MAP_SCALE = 0.025
  MAXIMUM_LATITUDE = 16.5115
  MINIMUM_LATITUDE = 6.60847
  POSITIVE_LONGITUDE_DIRECTION = EAST
  REFERENCE_LATITUDE = "N/A"
  REFERENCE_LONGITUDE = "N/A"
  SAMPLE_FIRST_PIXEL = 1
  SAMPLE_LAST_PIXEL = 2962
  SAMPLE_PROJECTION_OFFSET = 967.25
  SECOND_STANDARD_PARALLEL = "N/A"
  WESTERNMOST_LONGITUDE = 23.5935
END_OBJECT = IMAGE_MAP_PROJECTION
/* The JPEG2000 image data file associated with this label. */
OBJECT = COMPRESSED_FILE
  FILE_NAME = "H5159_0000_P13.JP2"
  RECORD_TYPE = UNDEFINED
  FILE_RECORDS = UNK
  ENCODING_TYPE = "JP2"
  INTERCHANGE_FORMAT = BINARY
  UNCOMPRESSED_FILE_NAME = "H5159_0000_P13.IMG"
  REQUIRED_STORAGE_BYTES = "69479634"
  ^DESCRIPTION = "JP2INFO.TXT"
END_OBJECT = COMPRESSED_FILE
END
