PDS_VERSION_ID = PDS3
/* FILE DATA ELEMENTS */
RECORD_TYPE = STREAM
/* POINTERS TO DATA OBJECTS */
^COMPRESSED_FILE = "H5159_0000_S23.JP2"
/* IDENTIFICATION DATA ELEMENTS */
DATA_SET_ID = "MEX-M-HRSC-5-REFDR-MAPPROJECTED-V3.0"
DATA_SET_NAME = "MARS EXPRESS HRSC MAP PROJECTED REFDR V3.0"
DETECTOR_ID = MEX_HRSC_S2
EVENT_TYPE = "MARS-LOCAL-STEREO-Im-La"
INSTRUMENT_HOST_ID = MEX
INSTRUMENT_HOST_NAME = "MARS EXPRESS"
INSTRUMENT_ID = HRSC
INSTRUMENT_NAME = "HIGH RESOLUTION STEREO CAMERA"
MISSION_NAME = "MARS EXPRESS"
MISSION_PHASE_NAME = ME_Phase_11
PROCESSING_LEVEL_ID = 3
PRODUCT_CREATION_TIME = 2016-04-27T02:54:28.000Z
PRODUCT_ID = "H5159_0000_S23.JP2"
RELEASE_ID = 0059
REVISION_ID = 0000
/* QUALITY DATA ELEMENTS */
DATA_QUALITY_ID = 2
DATA_QUALITY_DESC = "Data calculated based on photogrammetrically improved orbit and attitude data"
/* TIME DATA ELEMENTS */
SPACECRAFT_CLOCK_START_COUNT = "1/0147818499.08403"
SPACECRAFT_CLOCK_STOP_COUNT = "1/0147818711.24812"
START_TIME = 2008-01-07T20:42:42.448Z
STOP_TIME = 2008-01-07T20:45:13.211Z
/* ORBITAL DATA ELEMENTS */
ASCENDING_NODE_LONGITUDE = 120.78
MAXIMUM_RESOLUTION = 13.7
FOOTPRINT_POINT_LATITUDE = (16.5104,16.5075,16.5046,16.4993, 16.4153,16.2155,16.0157,15.8169,15.6164 ,15.4171,15.2168,15.0174,14.8183, 14.6177,14.4174,14.2179,14.0184,13.8192 ,13.6196,13.421,13.1202,12.9202,12.7221 ,12.4255,12.127,11.9386,11.7432,11.5459 ,11.3429,11.1428,10.9443,10.7471,10.55, 10.3531,10.1576,9.96294,9.76847,9.56958 ,9.36823,9.16425,8.96752,8.77172, 8.47744,8.18364,7.98768,7.69413,7.49969 ,7.30407,7.10778,6.91216,6.7177,6.61821 ,6.62352,6.62914,6.82644,7.02112, 7.21571,7.41246,7.60821,7.80376,7.99963 ,8.1976,8.38702,8.68133,8.87812,9.07466 ,9.27157,9.46778,9.66456,9.9596,10.1562 ,10.3573,10.6582,10.8559,11.1531, 11.3468,11.6418,11.8387,12.0386,12.3386 ,12.5354,12.8342,13.0333,13.2314, 13.4302,13.6301,13.8292,14.0333,14.231, 14.4271,14.6269,14.8262,15.0258,15.2252 ,15.4247,15.6247,15.9242,16.2245, 16.5238,16.5104)
FOOTPRINT_POINT_LONGITUDE = (24.5589,24.3684,24.1785,23.8011, 23.6047,23.6058,23.6069,23.6078,23.6089 ,23.6098,23.6108,23.6116,23.6123, 23.6132,23.614,23.6147,23.6153,23.6158, 23.6163,23.6166,23.6175,23.618,23.6181, 23.6181,23.6181,23.6164,23.6159,23.6157 ,23.6163,23.6165,23.6163,23.616,23.6155 ,23.615,23.6143,23.6133,23.6124,23.6121 ,23.6122,23.6127,23.6119,23.611,23.6097 ,23.6083,23.6073,23.6058,23.6045, 23.6034,23.6023,23.6012,23.5998,23.8815 ,24.2223,24.6802,24.7558,24.7561, 24.7564,24.7575,24.7582,24.7588,24.7595 ,24.7611,24.7589,24.76,24.761,24.7619, 24.7629,24.7635,24.7644,24.7656,24.7664 ,24.7691,24.7728,24.774,24.776,24.7754, 24.7764,24.7771,24.7791,24.7816,24.7822 ,24.7847,24.7864,24.7875,24.789,24.791, 24.7926,24.7964,24.7973,24.7976,24.7994 ,24.8011,24.8029,24.8045,24.8063, 24.8082,24.8109,24.814,24.8166,24.5589)
ORBIT_NUMBER = 5159
ORBITAL_ECCENTRICITY = 0.574
ORBITAL_INCLINATION = 86.72
ORBITAL_SEMIMAJOR_AXIS = 8729.57
PERIAPSIS_ALTITUDE = 320.81
PERIAPSIS_ARGUMENT_ANGLE = 170.75
PERIAPSIS_TIME = 2008-01-07T20:44:04.000Z
SPACECRAFT_ORIENTATION = (0.0,-1.0,0.0)
^MEX_ORIENTATION_DESC = "MEX_ORIENTATION_DESC.TXT"
SPACECRAFT_POINTING_MODE = ACROSSTRACK
^MEX_POINTING_DESC = "MEX_POINTING_DESC.TXT"
RIGHT_ASCENSION = -1e+32
DECLINATION = -1e+32
OFFSET_ANGLE = 0.25
SPACECRAFT_SOLAR_DISTANCE = 2.38117e+08
TARGET_NAME = MARS
/* CAMERA DATA ELEMENTS */
DETECTOR_TEMPERATURE = 18.1666
FOCAL_PLANE_TEMPERATURE = 7.7677
INST_CMPRS_NAME = "DISCRETE COSINE TRANSFORMATION (DCT)"
INST_CMPRS_RATIO = 6.57562
INST_CMPRS_QUALITY = 0
INST_CMPRS_QUANTZ_TBL_ID = 0
INSTRUMENT_TEMPERATURE = 11.234
LENS_TEMPERATURE = 8.3794
MACROPIXEL_SIZE = 1
MISSING_FRAMES = 1
PIXEL_SUBSAMPLING_FLAG = N
SIGNAL_CHAIN_ID = 1
/* RADIOMETRIC DATA ELEMENTS */
BANDWIDTH = 178.0
CENTER_FILTER_WAVELENGTH = 679.0
RADIANCE_OFFSET = 3.12431
RADIANCE_SCALING_FACTOR = 0.018077
REFLECTANCE_SCALING_FACTOR = 0.000542795
MEX:REFLECTANCE_OFFSET = 0.0938131
/* IMAGE OBJECT DEFINITIONS */
OBJECT = IMAGE
  INTERCHANGE_FORMAT = BINARY
  LINES = 46898
  LINE_SAMPLES = 5924
  SAMPLE_TYPE = UNSIGNED_INTEGER
  SAMPLE_BITS = 8
  BANDS = 1
  BAND_STORAGE_TYPE = BAND_SEQUENTIAL
  MAXIMUM = 255
  MEAN = 125.752
  MINIMUM = 1
  STANDARD_DEVIATION = 22.2645
END_OBJECT = IMAGE
/* MAP OBJECT DEFINITIONS */
OBJECT = IMAGE_MAP_PROJECTION
  ^DATA_SET_MAP_PROJECTION_CATALOG= "DSMAP.CAT"
  A_AXIS_RADIUS = 3396.0
  B_AXIS_RADIUS = 3396.0
  C_AXIS_RADIUS = 3396.0
  CENTER_LATITUDE = 0.0
  CENTER_LONGITUDE = 24.0
  COORDINATE_SYSTEM_NAME = PLANETOGRAPHIC
  COORDINATE_SYSTEM_TYPE = "BODY-FIXED ROTATING"
  EASTERNMOST_LONGITUDE = 24.8166
  FIRST_STANDARD_PARALLEL = "N/A"
  LINE_FIRST_PIXEL = 1
  LINE_LAST_PIXEL = 46898
  LINE_PROJECTION_OFFSET = 78262.0
  MAP_PROJECTION_ROTATION = 0.0
  MAP_PROJECTION_TYPE = SINUSOIDAL
  MAP_RESOLUTION = 4741.71043093333
  MAP_SCALE = 0.0125
  MAXIMUM_LATITUDE = 16.5238
  MINIMUM_LATITUDE = 6.61821
  POSITIVE_LONGITUDE_DIRECTION = EAST
  REFERENCE_LATITUDE = "N/A"
  REFERENCE_LONGITUDE = "N/A"
  SAMPLE_FIRST_PIXEL = 1
  SAMPLE_LAST_PIXEL = 5924
  SAMPLE_PROJECTION_OFFSET = 1935.0
  SECOND_STANDARD_PARALLEL = "N/A"
  WESTERNMOST_LONGITUDE = 23.5998
END_OBJECT = IMAGE_MAP_PROJECTION
/* The JPEG2000 image data file associated with this label. */
OBJECT = COMPRESSED_FILE
  FILE_NAME = "H5159_0000_S23.JP2"
  RECORD_TYPE = UNDEFINED
  FILE_RECORDS = UNK
  ENCODING_TYPE = "JP2"
  INTERCHANGE_FORMAT = BINARY
  UNCOMPRESSED_FILE_NAME = "H5159_0000_S23.IMG"
  REQUIRED_STORAGE_BYTES = "277853372"
  ^DESCRIPTION = "JP2INFO.TXT"
END_OBJECT = COMPRESSED_FILE
END
