PDS_VERSION_ID = PDS3
/* FILE DATA ELEMENTS */
RECORD_TYPE = STREAM
/* POINTERS TO DATA OBJECTS */
^COMPRESSED_FILE = "H5159_0001_BL3.JP2"
/* IDENTIFICATION DATA ELEMENTS */
DATA_SET_ID = "MEX-M-HRSC-5-REFDR-MAPPROJECTED-V3.0"
DATA_SET_NAME = "MARS EXPRESS HRSC MAP PROJECTED REFDR V3.0"
DETECTOR_ID = MEX_HRSC_BLUE
EVENT_TYPE = "MARS-LOCAL-MAPPING-Vo"
INSTRUMENT_HOST_ID = MEX
INSTRUMENT_HOST_NAME = "MARS EXPRESS"
INSTRUMENT_ID = HRSC
INSTRUMENT_NAME = "HIGH RESOLUTION STEREO CAMERA"
MISSION_NAME = "MARS EXPRESS"
MISSION_PHASE_NAME = ME_Phase_11
PROCESSING_LEVEL_ID = 3
PRODUCT_CREATION_TIME = 2016-04-27T02:54:28.000Z
PRODUCT_ID = "H5159_0001_BL3.JP2"
RELEASE_ID = 0059
REVISION_ID = 0000
/* QUALITY DATA ELEMENTS */
DATA_QUALITY_ID = 2
DATA_QUALITY_DESC = "Data calculated based on photogrammetrically improved orbit and attitude data"
/* TIME DATA ELEMENTS */
SPACECRAFT_CLOCK_START_COUNT = "1/0147818842.09028"
SPACECRAFT_CLOCK_STOP_COUNT = "1/0147818983.63050"
START_TIME = 2008-01-07T20:48:04.119Z
STOP_TIME = 2008-01-07T20:49:12.683Z
/* ORBITAL DATA ELEMENTS */
ASCENDING_NODE_LONGITUDE = 120.78
MAXIMUM_RESOLUTION = 59.1
FOOTPRINT_POINT_LATITUDE = (-5.9729,-5.97271,-5.97253,-5.97236, -5.97215,-5.97192,-5.97166,-5.97138, -5.97107,-5.97074,-5.97041,-5.97004, -6.10266,-6.18863,-6.27453,-6.36027, -6.44609,-6.53184,-6.61761,-6.70332, -6.78919,-6.87497,-6.9606,-7.04615, -7.13171,-7.21729,-7.30285,-7.3884, -7.47394,-7.55946,-7.64503,-7.73042, -7.81594,-7.90128,-7.98652,-8.07217, -8.15756,-8.24288,-8.3283,-8.41377, -8.58351,-8.7528,-8.92175,-9.09123, -9.2608,-9.43015,-9.6841,-9.93785, -10.1064,-10.2743,-10.2747,-10.2752, -10.2759,-10.2766,-10.2769,-10.2772, -10.2777,-10.2775,-10.2778,-10.2776, -10.2766,-10.108,-9.93873,-9.77007, -9.6009,-9.43133,-9.26196,-9.09253, -8.92296,-8.75329,-8.58352,-8.49808, -8.41217,-8.32673,-8.2414,-8.15598, -8.07072,-7.98543,-7.90012,-7.8148, -7.72946,-7.64412,-7.55879,-7.47339, -7.30338,-7.21806,-7.13277,-7.04739, -6.96168,-6.87601,-6.74726,-6.66143, -6.57569,-6.48988,-6.40401,-6.31815, -6.18935,-6.10339,-6.01738,-5.9729)
FOOTPRINT_POINT_LONGITUDE = (24.6433,24.4849,24.3754,24.2783, 24.1812,24.0843,23.9876,23.8911,23.7947 ,23.6984,23.602,23.5059,23.4673,23.4658 ,23.4642,23.4625,23.4609,23.4593, 23.4577,23.456,23.4546,23.4531,23.4514, 23.4497,23.448,23.4464,23.4448,23.4432, 23.4416,23.44,23.4385,23.4369,23.4354, 23.4337,23.432,23.4307,23.4291,23.4276, 23.4261,23.4248,23.4209,23.4167,23.4123 ,23.4085,23.4049,23.4012,23.3958, 23.3904,23.3863,23.4342,23.5264,23.6323 ,23.7248,23.8172,23.9229,24.0286, 24.1477,24.2941,24.4668,24.6138,24.8054 ,24.8028,24.8014,24.7985,24.7964, 24.7949,24.7927,24.7903,24.788,24.7857, 24.7833,24.7832,24.7842,24.784,24.7835, 24.7831,24.7823,24.7816,24.7808,24.7799 ,24.7791,24.7781,24.7771,24.7762, 24.7724,24.7711,24.7697,24.7684,24.7678 ,24.767,24.7663,24.7658,24.765,24.7642, 24.7636,24.7629,24.7617,24.7611,24.7605 ,24.6433)
ORBIT_NUMBER = 5159
ORBITAL_ECCENTRICITY = 0.574
ORBITAL_INCLINATION = 86.72
ORBITAL_SEMIMAJOR_AXIS = 8729.57
PERIAPSIS_ALTITUDE = 320.81
PERIAPSIS_ARGUMENT_ANGLE = 170.75
PERIAPSIS_TIME = 2008-01-07T20:44:04.000Z
SPACECRAFT_ORIENTATION = (0.0,-1.0,0.0)
^MEX_ORIENTATION_DESC = "MEX_ORIENTATION_DESC.TXT"
SPACECRAFT_POINTING_MODE = ACROSSTRACK
^MEX_POINTING_DESC = "MEX_POINTING_DESC.TXT"
RIGHT_ASCENSION = -1e+32
DECLINATION = -1e+32
OFFSET_ANGLE = 0.25
SPACECRAFT_SOLAR_DISTANCE = 2.38117e+08
TARGET_NAME = MARS
/* CAMERA DATA ELEMENTS */
DETECTOR_TEMPERATURE = 18.9822
FOCAL_PLANE_TEMPERATURE = 7.7677
INST_CMPRS_NAME = "DISCRETE COSINE TRANSFORMATION (DCT)"
INST_CMPRS_RATIO = 6.52056
INST_CMPRS_QUALITY = 0
INST_CMPRS_QUANTZ_TBL_ID = 0
INSTRUMENT_TEMPERATURE = 12.6613
LENS_TEMPERATURE = 8.1755
MACROPIXEL_SIZE = 4
MISSING_FRAMES = 0
PIXEL_SUBSAMPLING_FLAG = N
SIGNAL_CHAIN_ID = 2
/* RADIOMETRIC DATA ELEMENTS */
BANDWIDTH = 76.0
CENTER_FILTER_WAVELENGTH = 444.0
RADIANCE_OFFSET = 0.333617
RADIANCE_SCALING_FACTOR = 0.00156996
REFLECTANCE_SCALING_FACTOR = 9.14589e-05
MEX:REFLECTANCE_OFFSET = 0.019435
/* IMAGE OBJECT DEFINITIONS */
OBJECT = IMAGE
  INTERCHANGE_FORMAT = BINARY
  LINES = 5112
  LINE_SAMPLES = 1751
  SAMPLE_TYPE = UNSIGNED_INTEGER
  SAMPLE_BITS = 8
  BANDS = 1
  BAND_STORAGE_TYPE = BAND_SEQUENTIAL
  MAXIMUM = 255
  MEAN = 129.699
  MINIMUM = 1
  STANDARD_DEVIATION = 34.4294
END_OBJECT = IMAGE
/* MAP OBJECT DEFINITIONS */
OBJECT = IMAGE_MAP_PROJECTION
  ^DATA_SET_MAP_PROJECTION_CATALOG= "DSMAP.CAT"
  A_AXIS_RADIUS = 3396.0
  B_AXIS_RADIUS = 3396.0
  C_AXIS_RADIUS = 3396.0
  CENTER_LATITUDE = 0.0
  CENTER_LONGITUDE = 24.0
  COORDINATE_SYSTEM_NAME = PLANETOGRAPHIC
  COORDINATE_SYSTEM_TYPE = "BODY-FIXED ROTATING"
  EASTERNMOST_LONGITUDE = 24.8054
  FIRST_STANDARD_PARALLEL = "N/A"
  LINE_FIRST_PIXEL = 1
  LINE_LAST_PIXEL = 5112
  LINE_PROJECTION_OFFSET = -7059.375
  MAP_PROJECTION_ROTATION = 0.0
  MAP_PROJECTION_TYPE = SINUSOIDAL
  MAP_RESOLUTION = 1185.42760773333
  MAP_SCALE = 0.05
  MAXIMUM_LATITUDE = -5.97004
  MINIMUM_LATITUDE = -10.2778
  POSITIVE_LONGITUDE_DIRECTION = EAST
  REFERENCE_LATITUDE = "N/A"
  REFERENCE_LONGITUDE = "N/A"
  SAMPLE_FIRST_PIXEL = 1
  SAMPLE_LAST_PIXEL = 1751
  SAMPLE_PROJECTION_OFFSET = 751.125
  SECOND_STANDARD_PARALLEL = "N/A"
  WESTERNMOST_LONGITUDE = 23.3863
END_OBJECT = IMAGE_MAP_PROJECTION
/* The JPEG2000 image data file associated with this label. */
OBJECT = COMPRESSED_FILE
  FILE_NAME = "H5159_0001_BL3.JP2"
  RECORD_TYPE = UNDEFINED
  FILE_RECORDS = UNK
  ENCODING_TYPE = "JP2"
  INTERCHANGE_FORMAT = BINARY
  UNCOMPRESSED_FILE_NAME = "H5159_0001_BL3.IMG"
  REQUIRED_STORAGE_BYTES = "8972124"
  ^DESCRIPTION = "JP2INFO.TXT"
END_OBJECT = COMPRESSED_FILE
END
