PDS_VERSION_ID = PDS3
/* FILE DATA ELEMENTS */
RECORD_TYPE = STREAM
/* POINTERS TO DATA OBJECTS */
^COMPRESSED_FILE = "H5160_0000_P23.JP2"
/* IDENTIFICATION DATA ELEMENTS */
DATA_SET_ID = "MEX-M-HRSC-5-REFDR-MAPPROJECTED-V3.0"
DATA_SET_NAME = "MARS EXPRESS HRSC MAP PROJECTED REFDR V3.0"
DETECTOR_ID = MEX_HRSC_P2
EVENT_TYPE = "MARS-REGIONAL-STEREO-Vo-Lc-La"
INSTRUMENT_HOST_ID = MEX
INSTRUMENT_HOST_NAME = "MARS EXPRESS"
INSTRUMENT_ID = HRSC
INSTRUMENT_NAME = "HIGH RESOLUTION STEREO CAMERA"
MISSION_NAME = "MARS EXPRESS"
MISSION_PHASE_NAME = ME_Phase_11
PROCESSING_LEVEL_ID = 3
PRODUCT_CREATION_TIME = 2016-04-27T02:54:28.000Z
PRODUCT_ID = "H5160_0000_P23.JP2"
RELEASE_ID = 0059
REVISION_ID = 0000
/* QUALITY DATA ELEMENTS */
DATA_QUALITY_ID = 2
DATA_QUALITY_DESC = "Data calculated based on photogrammetrically improved orbit and attitude data"
/* TIME DATA ELEMENTS */
SPACECRAFT_CLOCK_START_COUNT = "1/0147843341.07285"
SPACECRAFT_CLOCK_STOP_COUNT = "1/0147843639.65528"
START_TIME = 2008-01-08T03:36:33.196Z
STOP_TIME = 2008-01-08T03:40:26.925Z
/* ORBITAL DATA ELEMENTS */
ASCENDING_NODE_LONGITUDE = 120.75
MAXIMUM_RESOLUTION = 27.2
FOOTPRINT_POINT_LATITUDE = (3.1014,3.10359,3.10726,2.96571,2.56254 ,2.15951,1.89096,1.48849,1.22137, 0.948892,0.672859,0.396199,0.122268, -0.14843,-0.407767,-0.674656,-0.96374, -1.24261,-1.50315,-1.77355,-2.06232, -2.3341,-2.74177,-3.01274,-3.28338, -3.55336,-3.82338,-4.09265,-4.35976, -4.62152,-5.09089,-5.40989,-5.73779, -6.20529,-6.51928,-6.85204,-7.16755, -7.48067,-7.78389,-8.07887,-8.39102, -8.85919,-9.1712,-9.48693,-9.8069, -10.1437,-10.4616,-10.7785,-11.1023, -11.4258,-11.4458,-11.4511,-11.454, -11.2931,-10.9692,-10.6467,-10.1555, -9.82845,-9.51558,-9.04454,-8.57749, -8.26397,-7.95716,-7.66051,-7.3513, -7.02368,-6.55241,-6.23264,-5.75467, -5.26471,-4.94474,-4.64627,-4.38489, -4.11583,-3.84654,-3.57669,-3.30388, -3.03514,-2.76451,-2.49351,-2.2221, -1.94923,-1.65821,-1.37456,-1.106, -0.836121,-0.431029,-0.172912,0.0990932 ,0.373333,0.648221,0.923188,1.19643, 1.46343,1.73014,2.13235,2.40076,2.67007 ,2.93981,3.1014)
FOOTPRINT_POINT_LONGITUDE = (284.003,283.755,283.393,283.144,283.14 ,283.137,283.134,283.13,283.127,283.124 ,283.121,283.119,283.115,283.109, 283.098,283.091,283.095,283.094,283.084 ,283.079,283.083,283.079,283.073, 283.068,283.064,283.059,283.055,283.05, 283.044,283.036,283.023,283.017,283.015 ,283.001,282.993,282.994,282.987,282.98 ,282.967,282.95,282.942,282.931,282.923 ,282.918,282.914,282.915,282.907, 282.899,282.891,282.882,283.293,283.762 ,284.127,284.393,284.389,284.385, 284.385,284.384,284.38,284.376,284.37, 284.367,284.361,284.351,284.346,284.348 ,284.342,284.341,284.338,284.339, 284.337,284.327,284.322,284.321,284.319 ,284.318,284.317,284.315,284.314, 284.313,284.312,284.311,284.317,284.32, 284.318,284.316,284.312,284.306,284.304 ,284.303,284.303,284.302,284.302, 284.302,284.302,284.302,284.302,284.302 ,284.302,284.003)
ORBIT_NUMBER = 5160
ORBITAL_ECCENTRICITY = 0.574
ORBITAL_INCLINATION = 86.73
ORBITAL_SEMIMAJOR_AXIS = 8731.86
PERIAPSIS_ALTITUDE = 320.61
PERIAPSIS_ARGUMENT_ANGLE = 170.58
PERIAPSIS_TIME = 2008-01-08T03:34:37.000Z
SPACECRAFT_ORIENTATION = (0.0,-1.0,0.0)
^MEX_ORIENTATION_DESC = "MEX_ORIENTATION_DESC.TXT"
SPACECRAFT_POINTING_MODE = ACROSSTRACK
^MEX_POINTING_DESC = "MEX_POINTING_DESC.TXT"
RIGHT_ASCENSION = -1e+32
DECLINATION = -1e+32
OFFSET_ANGLE = -0.1
SPACECRAFT_SOLAR_DISTANCE = 2.38163e+08
TARGET_NAME = MARS
/* CAMERA DATA ELEMENTS */
DETECTOR_TEMPERATURE = 17.5549
FOCAL_PLANE_TEMPERATURE = 8.3794
INST_CMPRS_NAME = "DISCRETE COSINE TRANSFORMATION (DCT)"
INST_CMPRS_RATIO = 7.37056
INST_CMPRS_QUALITY = 0
INST_CMPRS_QUANTZ_TBL_ID = 0
INSTRUMENT_TEMPERATURE = 10.8262
LENS_TEMPERATURE = 8.7872
MACROPIXEL_SIZE = 2
MISSING_FRAMES = 0
PIXEL_SUBSAMPLING_FLAG = N
SIGNAL_CHAIN_ID = 3
/* RADIOMETRIC DATA ELEMENTS */
BANDWIDTH = 177.0
CENTER_FILTER_WAVELENGTH = 676.5
RADIANCE_OFFSET = 1.80162
RADIANCE_SCALING_FACTOR = 0.0235505
REFLECTANCE_SCALING_FACTOR = 0.000708282
MEX:REFLECTANCE_OFFSET = 0.0541836
/* IMAGE OBJECT DEFINITIONS */
OBJECT = IMAGE
  INTERCHANGE_FORMAT = BINARY
  LINES = 34491
  LINE_SAMPLES = 3580
  SAMPLE_TYPE = UNSIGNED_INTEGER
  SAMPLE_BITS = 8
  BANDS = 1
  BAND_STORAGE_TYPE = BAND_SEQUENTIAL
  MAXIMUM = 255
  MEAN = 86.4538
  MINIMUM = 1
  STANDARD_DEVIATION = 34.976
END_OBJECT = IMAGE
/* MAP OBJECT DEFINITIONS */
OBJECT = IMAGE_MAP_PROJECTION
  ^DATA_SET_MAP_PROJECTION_CATALOG= "DSMAP.CAT"
  A_AXIS_RADIUS = 3396.0
  B_AXIS_RADIUS = 3396.0
  C_AXIS_RADIUS = 3396.0
  CENTER_LATITUDE = 0.0
  CENTER_LONGITUDE = 284.0
  COORDINATE_SYSTEM_NAME = PLANETOGRAPHIC
  COORDINATE_SYSTEM_TYPE = "BODY-FIXED ROTATING"
  EASTERNMOST_LONGITUDE = 284.393
  FIRST_STANDARD_PARALLEL = "N/A"
  LINE_FIRST_PIXEL = 1
  LINE_LAST_PIXEL = 34491
  LINE_PROJECTION_OFFSET = 7351.25
  MAP_PROJECTION_ROTATION = 0.0
  MAP_PROJECTION_TYPE = SINUSOIDAL
  MAP_RESOLUTION = 2370.85521546667
  MAP_SCALE = 0.025
  MAXIMUM_LATITUDE = 3.10726
  MINIMUM_LATITUDE = -11.454
  POSITIVE_LONGITUDE_DIRECTION = EAST
  REFERENCE_LATITUDE = "N/A"
  REFERENCE_LONGITUDE = "N/A"
  SAMPLE_FIRST_PIXEL = 1
  SAMPLE_LAST_PIXEL = 3580
  SAMPLE_PROJECTION_OFFSET = 2638.25
  SECOND_STANDARD_PARALLEL = "N/A"
  WESTERNMOST_LONGITUDE = 282.882
END_OBJECT = IMAGE_MAP_PROJECTION
/* The JPEG2000 image data file associated with this label. */
OBJECT = COMPRESSED_FILE
  FILE_NAME = "H5160_0000_P23.JP2"
  RECORD_TYPE = UNDEFINED
  FILE_RECORDS = UNK
  ENCODING_TYPE = "JP2"
  INTERCHANGE_FORMAT = BINARY
  UNCOMPRESSED_FILE_NAME = "H5160_0000_P23.IMG"
  REQUIRED_STORAGE_BYTES = "123499260"
  ^DESCRIPTION = "JP2INFO.TXT"
END_OBJECT = COMPRESSED_FILE
END
