PDS_VERSION_ID = PDS3
/* FILE DATA ELEMENTS */
RECORD_TYPE = STREAM
/* POINTERS TO DATA OBJECTS */
^COMPRESSED_FILE = "H5160_0000_S23.JP2"
/* IDENTIFICATION DATA ELEMENTS */
DATA_SET_ID = "MEX-M-HRSC-5-REFDR-MAPPROJECTED-V3.0"
DATA_SET_NAME = "MARS EXPRESS HRSC MAP PROJECTED REFDR V3.0"
DETECTOR_ID = MEX_HRSC_S2
EVENT_TYPE = "MARS-REGIONAL-STEREO-Vo-Lc-La"
INSTRUMENT_HOST_ID = MEX
INSTRUMENT_HOST_NAME = "MARS EXPRESS"
INSTRUMENT_ID = HRSC
INSTRUMENT_NAME = "HIGH RESOLUTION STEREO CAMERA"
MISSION_NAME = "MARS EXPRESS"
MISSION_PHASE_NAME = ME_Phase_11
PROCESSING_LEVEL_ID = 3
PRODUCT_CREATION_TIME = 2016-04-27T02:54:28.000Z
PRODUCT_ID = "H5160_0000_S23.JP2"
RELEASE_ID = 0059
REVISION_ID = 0000
/* QUALITY DATA ELEMENTS */
DATA_QUALITY_ID = 2
DATA_QUALITY_DESC = "Data calculated based on photogrammetrically improved orbit and attitude data"
/* TIME DATA ELEMENTS */
SPACECRAFT_CLOCK_START_COUNT = "1/0147843341.07285"
SPACECRAFT_CLOCK_STOP_COUNT = "1/0147843639.65528"
START_TIME = 2008-01-08T03:36:43.566Z
STOP_TIME = 2008-01-08T03:40:41.806Z
/* ORBITAL DATA ELEMENTS */
ASCENDING_NODE_LONGITUDE = 120.75
MAXIMUM_RESOLUTION = 14.2
FOOTPRINT_POINT_LATITUDE = (3.10373,3.10794,3.1131,2.96716,2.56551 ,2.16439,1.89612,1.48595,1.07438, 0.799997,0.523936,0.251255,-0.0188659, -0.275567,-0.52528,-0.812687,-1.23559, -1.48156,-1.89657,-2.183,-2.45229, -2.85532,-3.12302,-3.39043,-3.65711, -4.08435,-4.39965,-4.68698,-5.00706, -5.32291,-5.65678,-5.95175,-6.26286, -6.737,-7.06126,-7.36967,-7.66485, -7.947,-8.246,-8.55298,-8.85771, -9.17102,-9.49198,-9.82077,-10.1599, -10.4794,-10.7973,-11.119,-11.4569, -11.463,-11.4669,-11.4695,-11.4722, -11.1477,-10.664,-10.1628,-9.83438, -9.52166,-9.20099,-8.88897,-8.42885, -8.12246,-7.83109,-7.54998,-7.07941, -6.74658,-6.45215,-6.13381,-5.82043, -5.49418,-5.17286,-4.857,-4.57892, -4.26687,-3.81303,-3.54574,-3.1441, -2.87686,-2.60912,-2.34086,-2.07214, -1.64782,-1.35114,-1.08739,-0.821714, -0.553346,-0.28966,-0.0423528,0.229108, 0.501567,0.774403,1.04858,1.32238, 1.59625,1.86797,2.13546,2.40304,2.672, 3.07516,3.10373)
FOOTPRINT_POINT_LONGITUDE = (284.069,283.697,283.325,283.136, 283.132,283.128,283.125,283.121,283.116 ,283.113,283.111,283.107,283.102, 283.093,283.082,283.083,283.083,283.071 ,283.068,283.069,283.065,283.058, 283.054,283.049,283.044,283.036,283.03, 283.014,283.009,283.003,283.003,282.991 ,282.983,282.975,282.973,282.965, 282.953,282.937,282.927,282.919,282.911 ,282.903,282.897,282.895,282.894, 282.885,282.877,282.867,283.058,283.457 ,283.749,283.994,284.414,284.409, 284.402,284.402,284.4,284.396,284.394, 284.39,284.384,284.38,284.372,284.362, 284.358,284.361,284.354,284.352,284.35, 284.35,284.35,284.347,284.335,284.332, 284.329,284.328,284.326,284.324,284.322 ,284.321,284.32,284.323,284.329,284.326 ,284.324,284.322,284.319,284.312, 284.311,284.31,284.31,284.309,284.309, 284.308,284.308,284.308,284.308,284.308 ,284.308,284.069)
ORBIT_NUMBER = 5160
ORBITAL_ECCENTRICITY = 0.574
ORBITAL_INCLINATION = 86.73
ORBITAL_SEMIMAJOR_AXIS = 8731.86
PERIAPSIS_ALTITUDE = 320.61
PERIAPSIS_ARGUMENT_ANGLE = 170.58
PERIAPSIS_TIME = 2008-01-08T03:34:37.000Z
SPACECRAFT_ORIENTATION = (0.0,-1.0,0.0)
^MEX_ORIENTATION_DESC = "MEX_ORIENTATION_DESC.TXT"
SPACECRAFT_POINTING_MODE = ACROSSTRACK
^MEX_POINTING_DESC = "MEX_POINTING_DESC.TXT"
RIGHT_ASCENSION = -1e+32
DECLINATION = -1e+32
OFFSET_ANGLE = -0.1
SPACECRAFT_SOLAR_DISTANCE = 2.38163e+08
TARGET_NAME = MARS
/* CAMERA DATA ELEMENTS */
DETECTOR_TEMPERATURE = 17.5549
FOCAL_PLANE_TEMPERATURE = 8.3794
INST_CMPRS_NAME = "DISCRETE COSINE TRANSFORMATION (DCT)"
INST_CMPRS_RATIO = 7.28745
INST_CMPRS_QUALITY = 0
INST_CMPRS_QUANTZ_TBL_ID = 0
INSTRUMENT_TEMPERATURE = 10.8262
LENS_TEMPERATURE = 8.7872
MACROPIXEL_SIZE = 1
MISSING_FRAMES = 0
PIXEL_SUBSAMPLING_FLAG = N
SIGNAL_CHAIN_ID = 1
/* RADIOMETRIC DATA ELEMENTS */
BANDWIDTH = 178.0
CENTER_FILTER_WAVELENGTH = 679.0
RADIANCE_OFFSET = 1.77283
RADIANCE_SCALING_FACTOR = 0.0248026
REFLECTANCE_SCALING_FACTOR = 0.000745039
MEX:REFLECTANCE_OFFSET = 0.0532534
/* IMAGE OBJECT DEFINITIONS */
OBJECT = IMAGE
  INTERCHANGE_FORMAT = BINARY
  LINES = 68982
  LINE_SAMPLES = 7160
  SAMPLE_TYPE = UNSIGNED_INTEGER
  SAMPLE_BITS = 8
  BANDS = 1
  BAND_STORAGE_TYPE = BAND_SEQUENTIAL
  MAXIMUM = 255
  MEAN = 91.5426
  MINIMUM = 1
  STANDARD_DEVIATION = 35.3192
END_OBJECT = IMAGE
/* MAP OBJECT DEFINITIONS */
OBJECT = IMAGE_MAP_PROJECTION
  ^DATA_SET_MAP_PROJECTION_CATALOG= "DSMAP.CAT"
  A_AXIS_RADIUS = 3396.0
  B_AXIS_RADIUS = 3396.0
  C_AXIS_RADIUS = 3396.0
  CENTER_LATITUDE = 0.0
  CENTER_LONGITUDE = 284.0
  COORDINATE_SYSTEM_NAME = PLANETOGRAPHIC
  COORDINATE_SYSTEM_TYPE = "BODY-FIXED ROTATING"
  EASTERNMOST_LONGITUDE = 284.414
  FIRST_STANDARD_PARALLEL = "N/A"
  LINE_FIRST_PIXEL = 1
  LINE_LAST_PIXEL = 68982
  LINE_PROJECTION_OFFSET = 14703.0
  MAP_PROJECTION_ROTATION = 0.0
  MAP_PROJECTION_TYPE = SINUSOIDAL
  MAP_RESOLUTION = 4741.71043093333
  MAP_SCALE = 0.0125
  MAXIMUM_LATITUDE = 3.1131
  MINIMUM_LATITUDE = -11.4722
  POSITIVE_LONGITUDE_DIRECTION = EAST
  REFERENCE_LATITUDE = "N/A"
  REFERENCE_LONGITUDE = "N/A"
  SAMPLE_FIRST_PIXEL = 1
  SAMPLE_LAST_PIXEL = 7160
  SAMPLE_PROJECTION_OFFSET = 5277.0
  SECOND_STANDARD_PARALLEL = "N/A"
  WESTERNMOST_LONGITUDE = 282.867
END_OBJECT = IMAGE_MAP_PROJECTION
/* The JPEG2000 image data file associated with this label. */
OBJECT = COMPRESSED_FILE
  FILE_NAME = "H5160_0000_S23.JP2"
  RECORD_TYPE = UNDEFINED
  FILE_RECORDS = UNK
  ENCODING_TYPE = "JP2"
  INTERCHANGE_FORMAT = BINARY
  UNCOMPRESSED_FILE_NAME = "H5160_0000_S23.IMG"
  REQUIRED_STORAGE_BYTES = "493939760"
  ^DESCRIPTION = "JP2INFO.TXT"
END_OBJECT = COMPRESSED_FILE
END
