PDS_VERSION_ID = PDS3
/* FILE DATA ELEMENTS */
RECORD_TYPE = STREAM
/* POINTERS TO DATA OBJECTS */
^COMPRESSED_FILE = "H5162_0000_ND3.JP2"
/* IDENTIFICATION DATA ELEMENTS */
DATA_SET_ID = "MEX-M-HRSC-5-REFDR-MAPPROJECTED-V3.0"
DATA_SET_NAME = "MARS EXPRESS HRSC MAP PROJECTED REFDR V3.0"
DETECTOR_ID = MEX_HRSC_NADIR
EVENT_TYPE = "MARS-REGIONAL-MAPPING-Vo-Te-Pf"
INSTRUMENT_HOST_ID = MEX
INSTRUMENT_HOST_NAME = "MARS EXPRESS"
INSTRUMENT_ID = HRSC
INSTRUMENT_NAME = "HIGH RESOLUTION STEREO CAMERA"
MISSION_NAME = "MARS EXPRESS"
MISSION_PHASE_NAME = ME_Phase_11
PROCESSING_LEVEL_ID = 3
PRODUCT_CREATION_TIME = 2016-04-27T02:54:28.000Z
PRODUCT_ID = "H5162_0000_ND3.JP2"
RELEASE_ID = 0059
REVISION_ID = 0000
/* QUALITY DATA ELEMENTS */
DATA_QUALITY_ID = 2
DATA_QUALITY_DESC = "Data calculated based on photogrammetrically improved orbit and attitude data"
/* TIME DATA ELEMENTS */
SPACECRAFT_CLOCK_START_COUNT = "1/0147892302.09055"
SPACECRAFT_CLOCK_STOP_COUNT = "1/0147892668.33059"
START_TIME = 2008-01-08T17:12:19.085Z
STOP_TIME = 2008-01-08T17:17:20.101Z
/* ORBITAL DATA ELEMENTS */
ASCENDING_NODE_LONGITUDE = 120.71
MAXIMUM_RESOLUTION = 13
FOOTPRINT_POINT_LATITUDE = (22.1182,22.1155,21.7083,21.3006, 20.8924,20.4839,20.0749,19.6656,19.2558 ,18.6448,18.2475,17.8498,17.4519, 17.0537,16.6552,16.2565,15.8575,15.4639 ,14.6916,14.3052,13.9187,13.532,13.1452 ,12.7583,12.3713,11.9842,11.597,11.2098 ,10.8225,10.4352,10.0479,9.66058, 9.27327,8.88597,8.49871,8.11149,7.72432 ,7.33723,6.95023,6.56332,6.17653, 5.78985,5.40332,5.01693,4.6307,4.24464, 3.47302,3.07798,2.46739,2.46531,2.46226 ,2.86083,3.45567,4.22748,4.61364, 4.99997,5.38649,5.77315,6.15994,6.54687 ,6.9339,7.32103,7.70826,8.09556,8.48293 ,8.87034,9.25779,9.64526,10.0327, 10.4202,10.8077,11.1951,11.5825,11.9699 ,12.3571,12.7443,13.1314,13.5184, 13.9053,14.292,14.6786,15.0651,15.4513, 15.8448,16.244,16.643,17.0417,17.4402, 17.8384,18.2363,18.634,19.0399,19.4501, 19.86,20.2695,20.6786,21.0873,21.4956, 21.9035,22.1182)
FOOTPRINT_POINT_LONGITUDE = (83.6744,83.1096,83.1164,83.1233, 83.1292,83.135,83.1408,83.1462,83.1514, 83.1588,83.1633,83.1676,83.1717,83.1753 ,83.1787,83.182,83.185,83.1877,83.1925, 83.1944,83.196,83.1974,83.1989,83.1998, 83.2006,83.2013,83.2018,83.2021,83.2021 ,83.202,83.2016,83.2012,83.2003,83.1994 ,83.1982,83.1969,83.1954,83.1937, 83.1918,83.1899,83.1877,83.1853,83.1827 ,83.1802,83.1774,83.1745,83.1697, 83.1677,83.3234,83.7353,84.3246,84.3272 ,84.3291,84.332,84.3327,84.3333,84.3346 ,84.3357,84.3368,84.3381,84.3393, 84.3406,84.3422,84.3437,84.3454,84.3472 ,84.3491,84.3509,84.3531,84.3552, 84.3574,84.3597,84.3621,84.3646,84.3671 ,84.3697,84.3724,84.3753,84.378,84.381, 84.3841,84.3873,84.3905,84.3938,84.3973 ,84.4008,84.4044,84.408,84.4118,84.4156 ,84.4196,84.4236,84.4278,84.4319, 84.4363,84.4404,84.4445,84.4489,84.4534 ,83.6744)
ORBIT_NUMBER = 5162
ORBITAL_ECCENTRICITY = 0.574
ORBITAL_INCLINATION = 86.74
ORBITAL_SEMIMAJOR_AXIS = 8731.42
PERIAPSIS_ALTITUDE = 320.49
PERIAPSIS_ARGUMENT_ANGLE = 170.2
PERIAPSIS_TIME = 2008-01-08T17:15:28.000Z
SPACECRAFT_ORIENTATION = (0.0,-1.0,0.0)
^MEX_ORIENTATION_DESC = "MEX_ORIENTATION_DESC.TXT"
SPACECRAFT_POINTING_MODE = NADIR
^MEX_POINTING_DESC = "MEX_POINTING_DESC.TXT"
RIGHT_ASCENSION = -1e+32
DECLINATION = -1e+32
OFFSET_ANGLE = -1e+32
SPACECRAFT_SOLAR_DISTANCE = 2.38256e+08
TARGET_NAME = MARS
/* CAMERA DATA ELEMENTS */
DETECTOR_TEMPERATURE = 18.3705
FOCAL_PLANE_TEMPERATURE = 8.7872
INST_CMPRS_NAME = "DISCRETE COSINE TRANSFORMATION (DCT)"
INST_CMPRS_RATIO = 6.89965
INST_CMPRS_QUALITY = 0
INST_CMPRS_QUANTZ_TBL_ID = 0
INSTRUMENT_TEMPERATURE = 11.4379
LENS_TEMPERATURE = 8.9911
MACROPIXEL_SIZE = 1
MISSING_FRAMES = 0
PIXEL_SUBSAMPLING_FLAG = N
SIGNAL_CHAIN_ID = 0
/* RADIOMETRIC DATA ELEMENTS */
BANDWIDTH = 177.0
CENTER_FILTER_WAVELENGTH = 677.5
RADIANCE_OFFSET = 2.36921
RADIANCE_SCALING_FACTOR = 0.0159275
REFLECTANCE_SCALING_FACTOR = 0.000480305
MEX:REFLECTANCE_OFFSET = 0.0714454
/* IMAGE OBJECT DEFINITIONS */
OBJECT = IMAGE
  INTERCHANGE_FORMAT = BINARY
  LINES = 93205
  LINE_SAMPLES = 6289
  SAMPLE_TYPE = UNSIGNED_INTEGER
  SAMPLE_BITS = 8
  BANDS = 1
  BAND_STORAGE_TYPE = BAND_SEQUENTIAL
  MAXIMUM = 255
  MEAN = 127.25
  MINIMUM = 1
  STANDARD_DEVIATION = 24.3115
END_OBJECT = IMAGE
/* MAP OBJECT DEFINITIONS */
OBJECT = IMAGE_MAP_PROJECTION
  ^DATA_SET_MAP_PROJECTION_CATALOG= "DSMAP.CAT"
  A_AXIS_RADIUS = 3396.0
  B_AXIS_RADIUS = 3396.0
  C_AXIS_RADIUS = 3396.0
  CENTER_LATITUDE = 0.0
  CENTER_LONGITUDE = 84.0
  COORDINATE_SYSTEM_NAME = PLANETOGRAPHIC
  COORDINATE_SYSTEM_TYPE = "BODY-FIXED ROTATING"
  EASTERNMOST_LONGITUDE = 84.4534
  FIRST_STANDARD_PARALLEL = "N/A"
  LINE_FIRST_PIXEL = 1
  LINE_LAST_PIXEL = 93205
  LINE_PROJECTION_OFFSET = 104899.0
  MAP_PROJECTION_ROTATION = 0.0
  MAP_PROJECTION_TYPE = SINUSOIDAL
  MAP_RESOLUTION = 4741.71043093333
  MAP_SCALE = 0.0125
  MAXIMUM_LATITUDE = 22.1182
  MINIMUM_LATITUDE = 2.46226
  POSITIVE_LONGITUDE_DIRECTION = EAST
  REFERENCE_LATITUDE = "N/A"
  REFERENCE_LONGITUDE = "N/A"
  SAMPLE_FIRST_PIXEL = 1
  SAMPLE_LAST_PIXEL = 6289
  SAMPLE_PROJECTION_OFFSET = 4145.0
  SECOND_STANDARD_PARALLEL = "N/A"
  WESTERNMOST_LONGITUDE = 83.1096
END_OBJECT = IMAGE_MAP_PROJECTION
/* The JPEG2000 image data file associated with this label. */
OBJECT = COMPRESSED_FILE
  FILE_NAME = "H5162_0000_ND3.JP2"
  RECORD_TYPE = UNDEFINED
  FILE_RECORDS = UNK
  ENCODING_TYPE = "JP2"
  INTERCHANGE_FORMAT = BINARY
  UNCOMPRESSED_FILE_NAME = "H5162_0000_ND3.IMG"
  REQUIRED_STORAGE_BYTES = "586197690"
  ^DESCRIPTION = "JP2INFO.TXT"
END_OBJECT = COMPRESSED_FILE
END
