PDS_VERSION_ID = PDS3
/* FILE DATA ELEMENTS */
RECORD_TYPE = STREAM
/* POINTERS TO DATA OBJECTS */
^COMPRESSED_FILE = "H5162_0000_RE3.JP2"
/* IDENTIFICATION DATA ELEMENTS */
DATA_SET_ID = "MEX-M-HRSC-5-REFDR-MAPPROJECTED-V3.0"
DATA_SET_NAME = "MARS EXPRESS HRSC MAP PROJECTED REFDR V3.0"
DETECTOR_ID = MEX_HRSC_RED
EVENT_TYPE = "MARS-REGIONAL-MAPPING-Vo-Te-Pf"
INSTRUMENT_HOST_ID = MEX
INSTRUMENT_HOST_NAME = "MARS EXPRESS"
INSTRUMENT_ID = HRSC
INSTRUMENT_NAME = "HIGH RESOLUTION STEREO CAMERA"
MISSION_NAME = "MARS EXPRESS"
MISSION_PHASE_NAME = ME_Phase_11
PROCESSING_LEVEL_ID = 3
PRODUCT_CREATION_TIME = 2016-04-27T02:54:28.000Z
PRODUCT_ID = "H5162_0000_RE3.JP2"
RELEASE_ID = 0059
REVISION_ID = 0000
/* QUALITY DATA ELEMENTS */
DATA_QUALITY_ID = 2
DATA_QUALITY_DESC = "Data calculated based on photogrammetrically improved orbit and attitude data"
/* TIME DATA ELEMENTS */
SPACECRAFT_CLOCK_START_COUNT = "1/0147892302.09055"
SPACECRAFT_CLOCK_STOP_COUNT = "1/0147892668.33059"
START_TIME = 2008-01-08T17:12:44.926Z
STOP_TIME = 2008-01-08T17:17:44.971Z
/* ORBITAL DATA ELEMENTS */
ASCENDING_NODE_LONGITUDE = 120.71
MAXIMUM_RESOLUTION = 54.3
FOOTPRINT_POINT_LATITUDE = (22.1087,22.108,22.1072,21.9243,21.5084 ,20.8847,20.4687,20.0642,19.6621, 19.2592,18.8559,18.4528,18.0496,17.4447 ,17.0483,16.6589,16.2696,15.6859, 15.2966,14.9078,14.5193,14.1313,13.7433 ,13.3557,12.9679,12.5807,12.1938,11.807 ,11.227,10.8411,10.4554,10.07,9.68466, 9.30043,8.72408,8.34061,7.95729,7.57429 ,7.19217,6.81027,6.42851,6.04752, 5.66688,5.28673,4.9043,4.512,3.924, 3.33322,2.93625,2.54512,2.48077,2.47269 ,2.47618,2.67467,3.06746,3.65838, 4.05136,4.44278,4.83918,5.21913,5.59954 ,5.9802,6.55217,6.93381,7.31575,7.69851 ,8.08151,8.46514,9.04127,9.4255,9.81047 ,10.1959,10.5816,10.9675,11.3538, 11.9338,12.3208,12.7082,13.0957,13.4836 ,13.8713,14.2597,14.6486,15.2318, 15.6208,16.0103,16.3996,16.789,17.1786, 17.7817,18.3866,18.7902,19.1936,19.7987 ,20.2022,20.6113,21.2353,21.6523, 22.0688,22.1087)
FOOTPRINT_POINT_LONGITUDE = (84.1056,83.658,83.3074,83.1275,83.1337 ,83.1423,83.1478,83.153,83.1575,83.162, 83.1664,83.1706,83.1744,83.1799,83.183, 83.1858,83.1885,83.1921,83.1943,83.1961 ,83.1977,83.199,83.2001,83.201,83.2018, 83.2022,83.2025,83.2026,83.2025,83.202, 83.2014,83.2007,83.1998,83.1985,83.1964 ,83.1947,83.1929,83.1909,83.1886, 83.1862,83.1838,83.1811,83.1782,83.1752 ,83.1722,83.1688,83.1635,83.1593, 83.1576,83.154,83.461,83.8795,84.1445, 84.337,84.338,84.34,84.3408,84.341, 84.3428,84.3418,84.3424,84.343,84.3442, 84.345,84.3458,84.3469,84.348,84.3492, 84.3513,84.3526,84.3542,84.3559,84.3576 ,84.3594,84.3613,84.3643,84.3664, 84.3686,84.3709,84.3732,84.3755,84.3781 ,84.3808,84.3848,84.3876,84.3906, 84.3935,84.3965,84.3995,84.4044,84.4094 ,84.413,84.4165,84.4218,84.4255,84.4291 ,84.4345,84.4385,84.4425,84.1056)
ORBIT_NUMBER = 5162
ORBITAL_ECCENTRICITY = 0.574
ORBITAL_INCLINATION = 86.74
ORBITAL_SEMIMAJOR_AXIS = 8731.42
PERIAPSIS_ALTITUDE = 320.49
PERIAPSIS_ARGUMENT_ANGLE = 170.2
PERIAPSIS_TIME = 2008-01-08T17:15:28.000Z
SPACECRAFT_ORIENTATION = (0.0,-1.0,0.0)
^MEX_ORIENTATION_DESC = "MEX_ORIENTATION_DESC.TXT"
SPACECRAFT_POINTING_MODE = NADIR
^MEX_POINTING_DESC = "MEX_POINTING_DESC.TXT"
RIGHT_ASCENSION = -1e+32
DECLINATION = -1e+32
OFFSET_ANGLE = -1e+32
SPACECRAFT_SOLAR_DISTANCE = 2.38256e+08
TARGET_NAME = MARS
/* CAMERA DATA ELEMENTS */
DETECTOR_TEMPERATURE = 18.7783
FOCAL_PLANE_TEMPERATURE = 8.7872
INST_CMPRS_NAME = "DISCRETE COSINE TRANSFORMATION (DCT)"
INST_CMPRS_RATIO = 14.2464
INST_CMPRS_QUALITY = 0
INST_CMPRS_QUANTZ_TBL_ID = 0
INSTRUMENT_TEMPERATURE = 11.4379
LENS_TEMPERATURE = 8.9911
MACROPIXEL_SIZE = 4
MISSING_FRAMES = 0
PIXEL_SUBSAMPLING_FLAG = N
SIGNAL_CHAIN_ID = 2
/* RADIOMETRIC DATA ELEMENTS */
BANDWIDTH = 48.0
CENTER_FILTER_WAVELENGTH = 748.0
RADIANCE_OFFSET = 0.719353
RADIANCE_SCALING_FACTOR = 0.00479037
REFLECTANCE_SCALING_FACTOR = 0.000620559
MEX:REFLECTANCE_OFFSET = 0.0931873
/* IMAGE OBJECT DEFINITIONS */
OBJECT = IMAGE
  INTERCHANGE_FORMAT = BINARY
  LINES = 23302
  LINE_SAMPLES = 1573
  SAMPLE_TYPE = UNSIGNED_INTEGER
  SAMPLE_BITS = 8
  BANDS = 1
  BAND_STORAGE_TYPE = BAND_SEQUENTIAL
  MAXIMUM = 255
  MEAN = 133.776
  MINIMUM = 1
  STANDARD_DEVIATION = 26.2786
END_OBJECT = IMAGE
/* MAP OBJECT DEFINITIONS */
OBJECT = IMAGE_MAP_PROJECTION
  ^DATA_SET_MAP_PROJECTION_CATALOG= "DSMAP.CAT"
  A_AXIS_RADIUS = 3396.0
  B_AXIS_RADIUS = 3396.0
  C_AXIS_RADIUS = 3396.0
  CENTER_LATITUDE = 0.0
  CENTER_LONGITUDE = 84.0
  COORDINATE_SYSTEM_NAME = PLANETOGRAPHIC
  COORDINATE_SYSTEM_TYPE = "BODY-FIXED ROTATING"
  EASTERNMOST_LONGITUDE = 84.4425
  FIRST_STANDARD_PARALLEL = "N/A"
  LINE_FIRST_PIXEL = 1
  LINE_LAST_PIXEL = 23302
  LINE_PROJECTION_OFFSET = 26224.375
  MAP_PROJECTION_ROTATION = 0.0
  MAP_PROJECTION_TYPE = SINUSOIDAL
  MAP_RESOLUTION = 1185.42760773333
  MAP_SCALE = 0.05
  MAXIMUM_LATITUDE = 22.1087
  MINIMUM_LATITUDE = 2.47269
  POSITIVE_LONGITUDE_DIRECTION = EAST
  REFERENCE_LATITUDE = "N/A"
  REFERENCE_LONGITUDE = "N/A"
  SAMPLE_FIRST_PIXEL = 1
  SAMPLE_LAST_PIXEL = 1573
  SAMPLE_PROJECTION_OFFSET = 1035.875
  SECOND_STANDARD_PARALLEL = "N/A"
  WESTERNMOST_LONGITUDE = 83.1275
END_OBJECT = IMAGE_MAP_PROJECTION
/* The JPEG2000 image data file associated with this label. */
OBJECT = COMPRESSED_FILE
  FILE_NAME = "H5162_0000_RE3.JP2"
  RECORD_TYPE = UNDEFINED
  FILE_RECORDS = UNK
  ENCODING_TYPE = "JP2"
  INTERCHANGE_FORMAT = BINARY
  UNCOMPRESSED_FILE_NAME = "H5162_0000_RE3.IMG"
  REQUIRED_STORAGE_BYTES = "36672922"
  ^DESCRIPTION = "JP2INFO.TXT"
END_OBJECT = COMPRESSED_FILE
END
