PDS_VERSION_ID = PDS3
/* FILE DATA ELEMENTS */
RECORD_TYPE = STREAM
/* POINTERS TO DATA OBJECTS */
^COMPRESSED_FILE = "H5165_0000_P13.JP2"
/* IDENTIFICATION DATA ELEMENTS */
DATA_SET_ID = "MEX-M-HRSC-5-REFDR-MAPPROJECTED-V3.0"
DATA_SET_NAME = "MARS EXPRESS HRSC MAP PROJECTED REFDR V3.0"
DETECTOR_ID = MEX_HRSC_P1
EVENT_TYPE = "MARS-REGIONAL-MAPPING-Vo-Gl-Pf"
INSTRUMENT_HOST_ID = MEX
INSTRUMENT_HOST_NAME = "MARS EXPRESS"
INSTRUMENT_ID = HRSC
INSTRUMENT_NAME = "HIGH RESOLUTION STEREO CAMERA"
MISSION_NAME = "MARS EXPRESS"
MISSION_PHASE_NAME = ME_Phase_11
PROCESSING_LEVEL_ID = 3
PRODUCT_CREATION_TIME = 2016-04-27T02:54:28.000Z
PRODUCT_ID = "H5165_0000_P13.JP2"
RELEASE_ID = 0059
REVISION_ID = 0000
/* QUALITY DATA ELEMENTS */
DATA_QUALITY_ID = 2
DATA_QUALITY_DESC = "Data calculated based on photogrammetrically improved orbit and attitude data"
/* TIME DATA ELEMENTS */
SPACECRAFT_CLOCK_START_COUNT = "1/0147966228.08244"
SPACECRAFT_CLOCK_STOP_COUNT = "1/0147966575.50123"
START_TIME = 2008-01-09T13:44:03.008Z
STOP_TIME = 2008-01-09T13:48:47.177Z
/* ORBITAL DATA ELEMENTS */
ASCENDING_NODE_LONGITUDE = 120.65
MAXIMUM_RESOLUTION = 53.3
FOOTPRINT_POINT_LATITUDE = (20.1276,20.1279,20.1273,20.1253, 19.9303,19.5521,18.9829,18.6033,18.2228 ,17.8417,17.4656,17.0958,16.7253, 16.3546,15.9834,15.6116,15.2394,14.8668 ,14.4936,14.1274,13.7662,13.4047, 12.8626,12.3192,11.956,11.591,11.2273, 10.8629,10.4987,9.95216,9.40523,9.0406, 8.6718,8.12738,7.76211,7.3965,7.031, 6.48234,5.93341,5.56736,5.20114,4.83465 ,4.46842,4.10183,3.73537,3.3681,3.00126 ,2.62203,2.24328,1.864,1.61829,1.61704, 1.61587,1.61415,1.80306,2.18203,2.56116 ,3.12629,3.49332,3.86004,4.22644, 4.59318,4.95971,5.32604,5.69242,6.0587, 6.42491,6.79098,7.33992,7.70526,8.25331 ,8.80137,9.16733,9.53226,9.89656, 10.2609,10.6252,10.9892,11.3532,11.7167 ,12.0803,12.444,12.989,13.3514,13.7129, 14.2551,14.8129,15.1858,15.5581,15.9302 ,16.3019,16.6731,17.0435,17.5991, 18.1702,18.5509,18.931,19.5006,19.8793, 20.1276)
FOOTPRINT_POINT_LONGITUDE = (144.141,143.865,143.541,143.145, 142.974,142.98,142.987,142.992,142.997, 143.001,143.004,143.008,143.011,143.014 ,143.017,143.02,143.022,143.025,143.027 ,143.029,143.03,143.032,143.034,143.035 ,143.036,143.036,143.036,143.036, 143.036,143.035,143.034,143.034,143.031 ,143.031,143.03,143.029,143.028,143.025 ,143.022,143.02,143.018,143.016,143.013 ,143.011,143.008,143.004,143.001, 142.998,142.995,142.991,143.195,143.468 ,143.675,143.926,144.159,144.159,144.16 ,144.161,144.161,144.162,144.163, 144.163,144.164,144.165,144.166,144.168 ,144.169,144.17,144.172,144.174,144.176 ,144.179,144.18,144.182,144.184,144.186 ,144.188,144.19,144.192,144.194,144.197 ,144.199,144.202,144.204,144.207, 144.211,144.215,144.218,144.221,144.224 ,144.227,144.23,144.233,144.238,144.243 ,144.247,144.251,144.257,144.261, 144.141)
ORBIT_NUMBER = 5165
ORBITAL_ECCENTRICITY = 0.574
ORBITAL_INCLINATION = 86.72
ORBITAL_SEMIMAJOR_AXIS = 8725.7
PERIAPSIS_ALTITUDE = 321.66
PERIAPSIS_ARGUMENT_ANGLE = 169.71
PERIAPSIS_TIME = 2008-01-09T13:46:54.000Z
SPACECRAFT_ORIENTATION = (0.0,-1.0,0.0)
^MEX_ORIENTATION_DESC = "MEX_ORIENTATION_DESC.TXT"
SPACECRAFT_POINTING_MODE = NADIR
^MEX_POINTING_DESC = "MEX_POINTING_DESC.TXT"
RIGHT_ASCENSION = -1e+32
DECLINATION = -1e+32
OFFSET_ANGLE = -1e+32
SPACECRAFT_SOLAR_DISTANCE = 2.38395e+08
TARGET_NAME = MARS
/* CAMERA DATA ELEMENTS */
DETECTOR_TEMPERATURE = 17.5549
FOCAL_PLANE_TEMPERATURE = 7.7677
INST_CMPRS_NAME = "DISCRETE COSINE TRANSFORMATION (DCT)"
INST_CMPRS_RATIO = 13.4059
INST_CMPRS_QUALITY = 0
INST_CMPRS_QUANTZ_TBL_ID = 0
INSTRUMENT_TEMPERATURE = 11.234
LENS_TEMPERATURE = 7.9716
MACROPIXEL_SIZE = 4
MISSING_FRAMES = 0
PIXEL_SUBSAMPLING_FLAG = N
SIGNAL_CHAIN_ID = 3
/* RADIOMETRIC DATA ELEMENTS */
BANDWIDTH = 174.0
CENTER_FILTER_WAVELENGTH = 675.0
RADIANCE_OFFSET = 2.96469
RADIANCE_SCALING_FACTOR = 0.0216377
REFLECTANCE_SCALING_FACTOR = 0.00066144
MEX:REFLECTANCE_OFFSET = 0.0906271
/* IMAGE OBJECT DEFINITIONS */
OBJECT = IMAGE
  INTERCHANGE_FORMAT = BINARY
  LINES = 21918
  LINE_SAMPLES = 1572
  SAMPLE_TYPE = UNSIGNED_INTEGER
  SAMPLE_BITS = 8
  BANDS = 1
  BAND_STORAGE_TYPE = BAND_SEQUENTIAL
  MAXIMUM = 255
  MEAN = 98.4698
  MINIMUM = 1
  STANDARD_DEVIATION = 12.7477
END_OBJECT = IMAGE
/* MAP OBJECT DEFINITIONS */
OBJECT = IMAGE_MAP_PROJECTION
  ^DATA_SET_MAP_PROJECTION_CATALOG= "DSMAP.CAT"
  A_AXIS_RADIUS = 3396.0
  B_AXIS_RADIUS = 3396.0
  C_AXIS_RADIUS = 3396.0
  CENTER_LATITUDE = 0.0
  CENTER_LONGITUDE = 144.0
  COORDINATE_SYSTEM_NAME = PLANETOGRAPHIC
  COORDINATE_SYSTEM_TYPE = "BODY-FIXED ROTATING"
  EASTERNMOST_LONGITUDE = 144.261
  FIRST_STANDARD_PARALLEL = "N/A"
  LINE_FIRST_PIXEL = 1
  LINE_LAST_PIXEL = 21918
  LINE_PROJECTION_OFFSET = 23857.875
  MAP_PROJECTION_ROTATION = 0.0
  MAP_PROJECTION_TYPE = SINUSOIDAL
  MAP_RESOLUTION = 1185.42760773333
  MAP_SCALE = 0.05
  MAXIMUM_LATITUDE = 20.1279
  MINIMUM_LATITUDE = 1.61415
  POSITIVE_LONGITUDE_DIRECTION = EAST
  REFERENCE_LATITUDE = "N/A"
  REFERENCE_LONGITUDE = "N/A"
  SAMPLE_FIRST_PIXEL = 1
  SAMPLE_LAST_PIXEL = 1572
  SAMPLE_PROJECTION_OFFSET = 1246.875
  SECOND_STANDARD_PARALLEL = "N/A"
  WESTERNMOST_LONGITUDE = 142.974
END_OBJECT = IMAGE_MAP_PROJECTION
/* The JPEG2000 image data file associated with this label. */
OBJECT = COMPRESSED_FILE
  FILE_NAME = "H5165_0000_P13.JP2"
  RECORD_TYPE = UNDEFINED
  FILE_RECORDS = UNK
  ENCODING_TYPE = "JP2"
  INTERCHANGE_FORMAT = BINARY
  UNCOMPRESSED_FILE_NAME = "H5165_0000_P13.IMG"
  REQUIRED_STORAGE_BYTES = "34473960"
  ^DESCRIPTION = "JP2INFO.TXT"
END_OBJECT = COMPRESSED_FILE
END
