PDS_VERSION_ID = PDS3
/* FILE DATA ELEMENTS */
RECORD_TYPE = STREAM
/* POINTERS TO DATA OBJECTS */
^COMPRESSED_FILE = "H5165_0000_RE3.JP2"
/* IDENTIFICATION DATA ELEMENTS */
DATA_SET_ID = "MEX-M-HRSC-5-REFDR-MAPPROJECTED-V3.0"
DATA_SET_NAME = "MARS EXPRESS HRSC MAP PROJECTED REFDR V3.0"
DETECTOR_ID = MEX_HRSC_RED
EVENT_TYPE = "MARS-REGIONAL-MAPPING-Vo-Gl-Pf"
INSTRUMENT_HOST_ID = MEX
INSTRUMENT_HOST_NAME = "MARS EXPRESS"
INSTRUMENT_ID = HRSC
INSTRUMENT_NAME = "HIGH RESOLUTION STEREO CAMERA"
MISSION_NAME = "MARS EXPRESS"
MISSION_PHASE_NAME = ME_Phase_11
PROCESSING_LEVEL_ID = 3
PRODUCT_CREATION_TIME = 2016-04-27T02:54:28.000Z
PRODUCT_ID = "H5165_0000_RE3.JP2"
RELEASE_ID = 0059
REVISION_ID = 0000
/* QUALITY DATA ELEMENTS */
DATA_QUALITY_ID = 2
DATA_QUALITY_DESC = "Data calculated based on photogrammetrically improved orbit and attitude data"
/* TIME DATA ELEMENTS */
SPACECRAFT_CLOCK_START_COUNT = "1/0147966228.08244"
SPACECRAFT_CLOCK_STOP_COUNT = "1/0147966575.50123"
START_TIME = 2008-01-09T13:44:48.705Z
STOP_TIME = 2008-01-09T13:49:32.211Z
/* ORBITAL DATA ELEMENTS */
ASCENDING_NODE_LONGITUDE = 120.65
MAXIMUM_RESOLUTION = 54.2
FOOTPRINT_POINT_LATITUDE = (20.1098,20.1094,20.109,19.9227,19.7322 ,19.352,18.9718,18.591,18.2109,17.6411, 17.0747,16.7079,16.3409,15.974,15.6075, 15.2411,14.6921,14.3254,13.7768,13.411, 12.8621,12.496,11.9497,11.4056,11.0422, 10.4977,9.95307,9.59008,9.22746,8.68929 ,8.32249,7.78086,7.42004,7.05933, 6.69882,6.33923,5.97982,5.42619,5.05573 ,4.68585,4.13156,3.76271,3.39535, 3.02775,2.66061,2.28266,1.90431,1.6524, 1.6506,1.6486,1.64781,1.64755,2.02578, 2.40482,2.96188,3.32887,3.69708,4.25075 ,4.62007,4.99019,5.36094,5.91627, 6.27552,6.81539,7.17548,7.53674,7.89812 ,8.25984,8.62174,9.16407,9.52655, 9.88986,10.4352,10.7987,11.1625,11.5269 ,11.8912,12.2543,12.801,13.1661,13.7147 ,14.2637,14.6297,14.996,15.5461,15.9127 ,16.2795,16.6466,17.0141,17.3881, 17.9583,18.3385,18.7193,18.9098,19.2899 ,19.4804,19.6709,19.8615,20.052, 20.1098)
FOOTPRINT_POINT_LONGITUDE = (143.925,143.494,143.157,142.991, 142.993,142.997,143.001,143.005,143.009 ,143.013,143.018,143.02,143.022,143.024 ,143.026,143.028,143.03,143.031,143.032 ,143.033,143.034,143.034,143.034, 143.033,143.032,143.031,143.029,143.028 ,143.027,143.023,143.023,143.02,143.018 ,143.016,143.013,143.011,143.008, 143.004,143.001,142.998,142.992,142.989 ,142.985,142.981,142.977,142.972, 142.968,143.077,143.303,143.654,143.857 ,144.178,144.177,144.177,144.176, 144.176,144.176,144.176,144.176,144.176 ,144.176,144.176,144.177,144.178, 144.178,144.179,144.18,144.181,144.182, 144.183,144.184,144.185,144.187,144.188 ,144.19,144.191,144.192,144.193,144.195 ,144.197,144.2,144.203,144.205,144.207, 144.21,144.212,144.214,144.216,144.219, 144.221,144.225,144.227,144.23,144.232, 144.234,144.236,144.237,144.239,144.241 ,143.925)
ORBIT_NUMBER = 5165
ORBITAL_ECCENTRICITY = 0.574
ORBITAL_INCLINATION = 86.72
ORBITAL_SEMIMAJOR_AXIS = 8725.7
PERIAPSIS_ALTITUDE = 321.66
PERIAPSIS_ARGUMENT_ANGLE = 169.71
PERIAPSIS_TIME = 2008-01-09T13:46:54.000Z
SPACECRAFT_ORIENTATION = (0.0,-1.0,0.0)
^MEX_ORIENTATION_DESC = "MEX_ORIENTATION_DESC.TXT"
SPACECRAFT_POINTING_MODE = NADIR
^MEX_POINTING_DESC = "MEX_POINTING_DESC.TXT"
RIGHT_ASCENSION = -1e+32
DECLINATION = -1e+32
OFFSET_ANGLE = -1e+32
SPACECRAFT_SOLAR_DISTANCE = 2.38395e+08
TARGET_NAME = MARS
/* CAMERA DATA ELEMENTS */
DETECTOR_TEMPERATURE = 18.3705
FOCAL_PLANE_TEMPERATURE = 7.7677
INST_CMPRS_NAME = "DISCRETE COSINE TRANSFORMATION (DCT)"
INST_CMPRS_RATIO = 15.6248
INST_CMPRS_QUALITY = 0
INST_CMPRS_QUANTZ_TBL_ID = 0
INSTRUMENT_TEMPERATURE = 11.234
LENS_TEMPERATURE = 7.9716
MACROPIXEL_SIZE = 4
MISSING_FRAMES = 0
PIXEL_SUBSAMPLING_FLAG = N
SIGNAL_CHAIN_ID = 2
/* RADIOMETRIC DATA ELEMENTS */
BANDWIDTH = 48.0
CENTER_FILTER_WAVELENGTH = 748.0
RADIANCE_OFFSET = 0.827935
RADIANCE_SCALING_FACTOR = 0.00617425
REFLECTANCE_SCALING_FACTOR = 0.000800764
MEX:REFLECTANCE_OFFSET = 0.107378
/* IMAGE OBJECT DEFINITIONS */
OBJECT = IMAGE
  INTERCHANGE_FORMAT = BINARY
  LINES = 21918
  LINE_SAMPLES = 1572
  SAMPLE_TYPE = UNSIGNED_INTEGER
  SAMPLE_BITS = 8
  BANDS = 1
  BAND_STORAGE_TYPE = BAND_SEQUENTIAL
  MAXIMUM = 255
  MEAN = 97.0333
  MINIMUM = 1
  STANDARD_DEVIATION = 13.5676
END_OBJECT = IMAGE
/* MAP OBJECT DEFINITIONS */
OBJECT = IMAGE_MAP_PROJECTION
  ^DATA_SET_MAP_PROJECTION_CATALOG= "DSMAP.CAT"
  A_AXIS_RADIUS = 3396.0
  B_AXIS_RADIUS = 3396.0
  C_AXIS_RADIUS = 3396.0
  CENTER_LATITUDE = 0.0
  CENTER_LONGITUDE = 144.0
  COORDINATE_SYSTEM_NAME = PLANETOGRAPHIC
  COORDINATE_SYSTEM_TYPE = "BODY-FIXED ROTATING"
  EASTERNMOST_LONGITUDE = 144.241
  FIRST_STANDARD_PARALLEL = "N/A"
  LINE_FIRST_PIXEL = 1
  LINE_LAST_PIXEL = 21918
  LINE_PROJECTION_OFFSET = 23857.875
  MAP_PROJECTION_ROTATION = 0.0
  MAP_PROJECTION_TYPE = SINUSOIDAL
  MAP_RESOLUTION = 1185.42760773333
  MAP_SCALE = 0.05
  MAXIMUM_LATITUDE = 20.1098
  MINIMUM_LATITUDE = 1.64755
  POSITIVE_LONGITUDE_DIRECTION = EAST
  REFERENCE_LATITUDE = "N/A"
  REFERENCE_LONGITUDE = "N/A"
  SAMPLE_FIRST_PIXEL = 1
  SAMPLE_LAST_PIXEL = 1572
  SAMPLE_PROJECTION_OFFSET = 1246.875
  SECOND_STANDARD_PARALLEL = "N/A"
  WESTERNMOST_LONGITUDE = 142.968
END_OBJECT = IMAGE_MAP_PROJECTION
/* The JPEG2000 image data file associated with this label. */
OBJECT = COMPRESSED_FILE
  FILE_NAME = "H5165_0000_RE3.JP2"
  RECORD_TYPE = UNDEFINED
  FILE_RECORDS = UNK
  ENCODING_TYPE = "JP2"
  INTERCHANGE_FORMAT = BINARY
  UNCOMPRESSED_FILE_NAME = "H5165_0000_RE3.IMG"
  REQUIRED_STORAGE_BYTES = "34473960"
  ^DESCRIPTION = "JP2INFO.TXT"
END_OBJECT = COMPRESSED_FILE
END
