PDS_VERSION_ID = PDS3
/* FILE DATA ELEMENTS */
RECORD_TYPE = STREAM
/* POINTERS TO DATA OBJECTS */
^COMPRESSED_FILE = "H5169_0000_BL3.JP2"
/* IDENTIFICATION DATA ELEMENTS */
DATA_SET_ID = "MEX-M-HRSC-5-REFDR-MAPPROJECTED-V3.0"
DATA_SET_NAME = "MARS EXPRESS HRSC MAP PROJECTED REFDR V3.0"
DETECTOR_ID = MEX_HRSC_BLUE
EVENT_TYPE = "MARS-REGIONAL-MAPPING-Te-Pf-Mw"
INSTRUMENT_HOST_ID = MEX
INSTRUMENT_HOST_NAME = "MARS EXPRESS"
INSTRUMENT_ID = HRSC
INSTRUMENT_NAME = "HIGH RESOLUTION STEREO CAMERA"
MISSION_NAME = "MARS EXPRESS"
MISSION_PHASE_NAME = ME_Phase_11
PROCESSING_LEVEL_ID = 3
PRODUCT_CREATION_TIME = 2016-04-27T02:54:28.000Z
PRODUCT_ID = "H5169_0000_BL3.JP2"
RELEASE_ID = 0059
REVISION_ID = 0000
/* QUALITY DATA ELEMENTS */
DATA_QUALITY_ID = 2
DATA_QUALITY_DESC = "Data calculated based on photogrammetrically improved orbit and attitude data"
/* TIME DATA ELEMENTS */
SPACECRAFT_CLOCK_START_COUNT = "1/0148064720.08240"
SPACECRAFT_CLOCK_STOP_COUNT = "1/0148065035.24178"
START_TIME = 2008-01-10T17:06:01.847Z
STOP_TIME = 2008-01-10T17:10:12.571Z
/* ORBITAL DATA ELEMENTS */
ASCENDING_NODE_LONGITUDE = 120.57
MAXIMUM_RESOLUTION = 51.5
FOOTPRINT_POINT_LATITUDE = (22.0802,22.0805,22.08,22.0794,22.0848, 21.7427,21.4003,21.0577,20.715,20.372, 19.8574,19.5251,19.1925,18.8599,18.5271 ,18.0275,17.6944,17.3612,17.0277, 16.6941,16.3632,16.0407,15.7181,15.2341 ,14.9114,14.4272,13.943,13.6201,13.1356 ,12.8128,12.4896,12.1673,11.8448, 11.5215,11.1985,10.7139,10.3905,10.0684 ,9.74645,9.26365,8.94186,8.62183, 8.29938,7.97512,7.65362,7.33185,7.01049 ,6.52856,6.20745,5.8865,5.69107,5.68895 ,5.68671,5.68468,5.84309,6.16415, 6.48521,6.80687,7.28937,7.6111,7.93267, 8.25426,8.57704,8.89949,9.22148,9.54425 ,10.027,10.5112,10.9954,11.3186,11.6424 ,11.9656,12.4498,12.773,13.2577,13.7424 ,14.2268,14.5499,14.8729,15.1959, 15.5187,16.003,16.326,16.6562,17.1567, 17.4904,17.8239,18.1573,18.4906,18.8237 ,19.1567,19.4895,19.8222,20.1643, 20.5077,20.8509,21.194,21.537,21.8796, 22.0802)
FOOTPRINT_POINT_LONGITUDE = (103.513,103.129,102.741,102.546, 102.326,102.333,102.34,102.346,102.352, 102.358,102.367,102.372,102.377,102.382 ,102.386,102.393,102.397,102.4,102.404, 102.409,102.412,102.415,102.418,102.421 ,102.424,102.427,102.43,102.432,102.435 ,102.436,102.438,102.438,102.438,102.44 ,102.441,102.444,102.446,102.445, 102.443,102.44,102.439,102.432,102.433, 102.438,102.436,102.435,102.433,102.431 ,102.429,102.427,102.556,102.806, 103.054,103.279,103.581,103.581,103.581 ,103.582,103.582,103.583,103.583, 103.584,103.585,103.586,103.586,103.587 ,103.588,103.589,103.591,103.592, 103.594,103.595,103.597,103.598,103.6, 103.602,103.604,103.606,103.607,103.609 ,103.61,103.612,103.614,103.616,103.619 ,103.621,103.622,103.624,103.626, 103.628,103.63,103.632,103.634,103.636, 103.638,103.641,103.643,103.645,103.647 ,103.513)
ORBIT_NUMBER = 5169
ORBITAL_ECCENTRICITY = 0.574
ORBITAL_INCLINATION = 86.73
ORBITAL_SEMIMAJOR_AXIS = 8729.91
PERIAPSIS_ALTITUDE = 321.35
PERIAPSIS_ARGUMENT_ANGLE = 168.97
PERIAPSIS_TIME = 2008-01-10T17:08:46.000Z
SPACECRAFT_ORIENTATION = (0.0,-1.0,0.0)
^MEX_ORIENTATION_DESC = "MEX_ORIENTATION_DESC.TXT"
SPACECRAFT_POINTING_MODE = ACROSSTRACK
^MEX_POINTING_DESC = "MEX_POINTING_DESC.TXT"
RIGHT_ASCENSION = -1e+32
DECLINATION = -1e+32
OFFSET_ANGLE = -0.38
SPACECRAFT_SOLAR_DISTANCE = 2.38579e+08
TARGET_NAME = MARS
/* CAMERA DATA ELEMENTS */
DETECTOR_TEMPERATURE = 18.5744
FOCAL_PLANE_TEMPERATURE = 7.9716
INST_CMPRS_NAME = "DISCRETE COSINE TRANSFORMATION (DCT)"
INST_CMPRS_RATIO = 11.3053
INST_CMPRS_QUALITY = 0
INST_CMPRS_QUANTZ_TBL_ID = 0
INSTRUMENT_TEMPERATURE = 11.4379
LENS_TEMPERATURE = 8.5833
MACROPIXEL_SIZE = 4
MISSING_FRAMES = 0
PIXEL_SUBSAMPLING_FLAG = N
SIGNAL_CHAIN_ID = 2
/* RADIOMETRIC DATA ELEMENTS */
BANDWIDTH = 76.0
CENTER_FILTER_WAVELENGTH = 444.0
RADIANCE_OFFSET = 0.4143
RADIANCE_SCALING_FACTOR = 0.0017724
REFLECTANCE_SCALING_FACTOR = 0.000103653
MEX:REFLECTANCE_OFFSET = 0.024229
/* IMAGE OBJECT DEFINITIONS */
OBJECT = IMAGE
  INTERCHANGE_FORMAT = BINARY
  LINES = 19438
  LINE_SAMPLES = 1536
  SAMPLE_TYPE = UNSIGNED_INTEGER
  SAMPLE_BITS = 8
  BANDS = 1
  BAND_STORAGE_TYPE = BAND_SEQUENTIAL
  MAXIMUM = 255
  MEAN = 120.703
  MINIMUM = 1
  STANDARD_DEVIATION = 18.5267
END_OBJECT = IMAGE
/* MAP OBJECT DEFINITIONS */
OBJECT = IMAGE_MAP_PROJECTION
  ^DATA_SET_MAP_PROJECTION_CATALOG= "DSMAP.CAT"
  A_AXIS_RADIUS = 3396.0
  B_AXIS_RADIUS = 3396.0
  C_AXIS_RADIUS = 3396.0
  CENTER_LATITUDE = 0.0
  CENTER_LONGITUDE = 103.0
  COORDINATE_SYSTEM_NAME = PLANETOGRAPHIC
  COORDINATE_SYSTEM_TYPE = "BODY-FIXED ROTATING"
  EASTERNMOST_LONGITUDE = 103.647
  FIRST_STANDARD_PARALLEL = "N/A"
  LINE_FIRST_PIXEL = 1
  LINE_LAST_PIXEL = 19438
  LINE_PROJECTION_OFFSET = 26190.125
  MAP_PROJECTION_ROTATION = 0.0
  MAP_PROJECTION_TYPE = SINUSOIDAL
  MAP_RESOLUTION = 1185.42760773333
  MAP_SCALE = 0.05
  MAXIMUM_LATITUDE = 22.0848
  MINIMUM_LATITUDE = 5.68468
  POSITIVE_LONGITUDE_DIRECTION = EAST
  REFERENCE_LATITUDE = "N/A"
  REFERENCE_LONGITUDE = "N/A"
  SAMPLE_FIRST_PIXEL = 1
  SAMPLE_LAST_PIXEL = 1536
  SAMPLE_PROJECTION_OFFSET = 807.125
  SECOND_STANDARD_PARALLEL = "N/A"
  WESTERNMOST_LONGITUDE = 102.326
END_OBJECT = IMAGE_MAP_PROJECTION
/* The JPEG2000 image data file associated with this label. */
OBJECT = COMPRESSED_FILE
  FILE_NAME = "H5169_0000_BL3.JP2"
  RECORD_TYPE = UNDEFINED
  FILE_RECORDS = UNK
  ENCODING_TYPE = "JP2"
  INTERCHANGE_FORMAT = BINARY
  UNCOMPRESSED_FILE_NAME = "H5169_0000_BL3.IMG"
  REQUIRED_STORAGE_BYTES = "29876736"
  ^DESCRIPTION = "JP2INFO.TXT"
END_OBJECT = COMPRESSED_FILE
END
