PDS_VERSION_ID = PDS3
/* FILE DATA ELEMENTS */
RECORD_TYPE = STREAM
/* POINTERS TO DATA OBJECTS */
^COMPRESSED_FILE = "H5169_0000_P23.JP2"
/* IDENTIFICATION DATA ELEMENTS */
DATA_SET_ID = "MEX-M-HRSC-5-REFDR-MAPPROJECTED-V3.0"
DATA_SET_NAME = "MARS EXPRESS HRSC MAP PROJECTED REFDR V3.0"
DETECTOR_ID = MEX_HRSC_P2
EVENT_TYPE = "MARS-REGIONAL-MAPPING-Te-Pf-Mw"
INSTRUMENT_HOST_ID = MEX
INSTRUMENT_HOST_NAME = "MARS EXPRESS"
INSTRUMENT_ID = HRSC
INSTRUMENT_NAME = "HIGH RESOLUTION STEREO CAMERA"
MISSION_NAME = "MARS EXPRESS"
MISSION_PHASE_NAME = ME_Phase_11
PROCESSING_LEVEL_ID = 3
PRODUCT_CREATION_TIME = 2016-04-27T02:54:28.000Z
PRODUCT_ID = "H5169_0000_P23.JP2"
RELEASE_ID = 0059
REVISION_ID = 0000
/* QUALITY DATA ELEMENTS */
DATA_QUALITY_ID = 2
DATA_QUALITY_DESC = "Data calculated based on photogrammetrically improved orbit and attitude data"
/* TIME DATA ELEMENTS */
SPACECRAFT_CLOCK_START_COUNT = "1/0148064720.08240"
SPACECRAFT_CLOCK_STOP_COUNT = "1/0148065035.24178"
START_TIME = 2008-01-10T17:06:16.874Z
STOP_TIME = 2008-01-10T17:10:26.815Z
/* ORBITAL DATA ELEMENTS */
ASCENDING_NODE_LONGITUDE = 120.57
MAXIMUM_RESOLUTION = 53.1
FOOTPRINT_POINT_LATITUDE = (22.0686,22.073,22.0771,22.0791,22.1059 ,21.7592,21.4121,21.0649,20.7223, 20.3863,20.0504,19.7142,19.3783,19.0423 ,18.5384,18.2022,17.6981,17.3637, 17.0387,16.7132,16.3887,15.9023,15.4156 ,15.0917,14.7676,14.4427,13.9573, 13.6333,13.1475,12.8235,12.5006,12.1788 ,11.8567,11.5327,11.2074,10.8867, 10.5607,10.239,9.91733,9.59985,9.27964, 8.95931,8.64689,8.32561,7.9966,7.67799, 7.35739,7.03866,6.5605,6.23424,5.90516, 5.7158,5.70926,5.70448,5.69728,5.85911, 6.18828,6.67494,6.99351,7.31368,7.63289 ,8.11071,8.59346,8.91483,9.23455, 9.71436,10.0348,10.5181,10.8405,11.1637 ,11.4896,11.8126,12.1343,12.4591, 12.7826,13.1064,13.4304,13.754,14.2395, 14.726,15.0507,15.375,15.6996,16.1869, 16.5119,16.9996,17.325,17.6594,17.9955, 18.3319,18.8363,19.1725,19.6768,20.0129 ,20.3493,20.6851,21.0278,21.3756, 21.7229,22.0686)
FOOTPRINT_POINT_LONGITUDE = (103.494,103.113,102.727,102.533, 102.326,102.332,102.339,102.345,102.351 ,102.357,102.362,102.367,102.372, 102.377,102.383,102.388,102.394,102.397 ,102.401,102.405,102.408,102.412, 102.415,102.418,102.42,102.422,102.425, 102.426,102.429,102.43,102.431,102.431, 102.431,102.433,102.435,102.434,102.437 ,102.437,102.436,102.433,102.432,102.43 ,102.423,102.423,102.428,102.426, 102.425,102.423,102.42,102.418,102.416, 102.558,102.855,103.073,103.42,103.585, 103.585,103.585,103.585,103.586,103.586 ,103.586,103.587,103.588,103.588, 103.589,103.589,103.59,103.591,103.592, 103.593,103.594,103.595,103.596,103.597 ,103.599,103.6,103.601,103.603,103.605, 103.606,103.607,103.609,103.611,103.612 ,103.614,103.616,103.618,103.619, 103.621,103.624,103.625,103.628,103.63, 103.632,103.633,103.635,103.637,103.639 ,103.494)
ORBIT_NUMBER = 5169
ORBITAL_ECCENTRICITY = 0.574
ORBITAL_INCLINATION = 86.73
ORBITAL_SEMIMAJOR_AXIS = 8729.91
PERIAPSIS_ALTITUDE = 321.35
PERIAPSIS_ARGUMENT_ANGLE = 168.97
PERIAPSIS_TIME = 2008-01-10T17:08:46.000Z
SPACECRAFT_ORIENTATION = (0.0,-1.0,0.0)
^MEX_ORIENTATION_DESC = "MEX_ORIENTATION_DESC.TXT"
SPACECRAFT_POINTING_MODE = ACROSSTRACK
^MEX_POINTING_DESC = "MEX_POINTING_DESC.TXT"
RIGHT_ASCENSION = -1e+32
DECLINATION = -1e+32
OFFSET_ANGLE = -0.38
SPACECRAFT_SOLAR_DISTANCE = 2.38579e+08
TARGET_NAME = MARS
/* CAMERA DATA ELEMENTS */
DETECTOR_TEMPERATURE = 18.5744
FOCAL_PLANE_TEMPERATURE = 7.9716
INST_CMPRS_NAME = "DISCRETE COSINE TRANSFORMATION (DCT)"
INST_CMPRS_RATIO = 11.9908
INST_CMPRS_QUALITY = 0
INST_CMPRS_QUANTZ_TBL_ID = 0
INSTRUMENT_TEMPERATURE = 11.4379
LENS_TEMPERATURE = 8.5833
MACROPIXEL_SIZE = 4
MISSING_FRAMES = 0
PIXEL_SUBSAMPLING_FLAG = N
SIGNAL_CHAIN_ID = 3
/* RADIOMETRIC DATA ELEMENTS */
BANDWIDTH = 177.0
CENTER_FILTER_WAVELENGTH = 676.5
RADIANCE_OFFSET = 3.03417
RADIANCE_SCALING_FACTOR = 0.0175113
REFLECTANCE_SCALING_FACTOR = 0.000528494
MEX:REFLECTANCE_OFFSET = 0.0915718
/* IMAGE OBJECT DEFINITIONS */
OBJECT = IMAGE
  INTERCHANGE_FORMAT = BINARY
  LINES = 19438
  LINE_SAMPLES = 1536
  SAMPLE_TYPE = UNSIGNED_INTEGER
  SAMPLE_BITS = 8
  BANDS = 1
  BAND_STORAGE_TYPE = BAND_SEQUENTIAL
  MAXIMUM = 255
  MEAN = 106.15
  MINIMUM = 1
  STANDARD_DEVIATION = 17.6051
END_OBJECT = IMAGE
/* MAP OBJECT DEFINITIONS */
OBJECT = IMAGE_MAP_PROJECTION
  ^DATA_SET_MAP_PROJECTION_CATALOG= "DSMAP.CAT"
  A_AXIS_RADIUS = 3396.0
  B_AXIS_RADIUS = 3396.0
  C_AXIS_RADIUS = 3396.0
  CENTER_LATITUDE = 0.0
  CENTER_LONGITUDE = 103.0
  COORDINATE_SYSTEM_NAME = PLANETOGRAPHIC
  COORDINATE_SYSTEM_TYPE = "BODY-FIXED ROTATING"
  EASTERNMOST_LONGITUDE = 103.639
  FIRST_STANDARD_PARALLEL = "N/A"
  LINE_FIRST_PIXEL = 1
  LINE_LAST_PIXEL = 19438
  LINE_PROJECTION_OFFSET = 26190.125
  MAP_PROJECTION_ROTATION = 0.0
  MAP_PROJECTION_TYPE = SINUSOIDAL
  MAP_RESOLUTION = 1185.42760773333
  MAP_SCALE = 0.05
  MAXIMUM_LATITUDE = 22.1059
  MINIMUM_LATITUDE = 5.69728
  POSITIVE_LONGITUDE_DIRECTION = EAST
  REFERENCE_LATITUDE = "N/A"
  REFERENCE_LONGITUDE = "N/A"
  SAMPLE_FIRST_PIXEL = 1
  SAMPLE_LAST_PIXEL = 1536
  SAMPLE_PROJECTION_OFFSET = 807.125
  SECOND_STANDARD_PARALLEL = "N/A"
  WESTERNMOST_LONGITUDE = 102.326
END_OBJECT = IMAGE_MAP_PROJECTION
/* The JPEG2000 image data file associated with this label. */
OBJECT = COMPRESSED_FILE
  FILE_NAME = "H5169_0000_P23.JP2"
  RECORD_TYPE = UNDEFINED
  FILE_RECORDS = UNK
  ENCODING_TYPE = "JP2"
  INTERCHANGE_FORMAT = BINARY
  UNCOMPRESSED_FILE_NAME = "H5169_0000_P23.IMG"
  REQUIRED_STORAGE_BYTES = "29876736"
  ^DESCRIPTION = "JP2INFO.TXT"
END_OBJECT = COMPRESSED_FILE
END
