PDS_VERSION_ID = PDS3
/* FILE DATA ELEMENTS */
RECORD_TYPE = STREAM
/* POINTERS TO DATA OBJECTS */
^COMPRESSED_FILE = "H5170_0000_S23.JP2"
/* IDENTIFICATION DATA ELEMENTS */
DATA_SET_ID = "MEX-M-HRSC-5-REFDR-MAPPROJECTED-V3.0"
DATA_SET_NAME = "MARS EXPRESS HRSC MAP PROJECTED REFDR V3.0"
DETECTOR_ID = MEX_HRSC_S2
EVENT_TYPE = "MARS-REGIONAL-MAPPING-Im-La"
INSTRUMENT_HOST_ID = MEX
INSTRUMENT_HOST_NAME = "MARS EXPRESS"
INSTRUMENT_ID = HRSC
INSTRUMENT_NAME = "HIGH RESOLUTION STEREO CAMERA"
MISSION_NAME = "MARS EXPRESS"
MISSION_PHASE_NAME = ME_Phase_11
PROCESSING_LEVEL_ID = 3
PRODUCT_CREATION_TIME = 2016-04-27T02:54:28.000Z
PRODUCT_ID = "H5170_0000_S23.JP2"
RELEASE_ID = 0059
REVISION_ID = 0000
/* QUALITY DATA ELEMENTS */
DATA_QUALITY_ID = 2
DATA_QUALITY_DESC = "Data calculated based on photogrammetrically improved orbit and attitude data"
/* TIME DATA ELEMENTS */
SPACECRAFT_CLOCK_START_COUNT = "1/0148089393.07279"
SPACECRAFT_CLOCK_STOP_COUNT = "1/0148089607.05322"
START_TIME = 2008-01-10T23:57:37.681Z
STOP_TIME = 2008-01-11T00:00:08.929Z
/* ORBITAL DATA ELEMENTS */
ASCENDING_NODE_LONGITUDE = 120.56
MAXIMUM_RESOLUTION = 27.6
FOOTPRINT_POINT_LATITUDE = (19.4292,19.4255,19.4219,19.4184, 19.4122,19.1286,18.9235,18.614,18.3055, 18.0995,17.8966,17.6973,17.4985,17.2988 ,17.0997,16.8989,16.6989,16.5055, 16.2076,15.9105,15.712,15.515,15.3137, 15.0151,14.8163,14.6181,14.3209,14.1235 ,13.9259,13.7278,13.5305,13.3343, 13.1373,12.8413,12.6436,12.4469,12.2498 ,11.9544,11.7573,11.4633,11.2672, 11.0717,10.8758,10.6796,10.4842,10.2886 ,10.092,9.89538,9.7043,9.49717,9.5013, 9.50673,9.5091,9.61206,9.80653,10.003, 10.1987,10.3947,10.591,10.787,10.9835, 11.2779,11.5721,11.7684,11.9646,12.1613 ,12.4569,12.6541,12.9501,13.147,13.3447 ,13.5421,13.7399,13.9378,14.1351, 14.4309,14.6286,14.8263,15.0247,15.2234 ,15.4215,15.7176,15.9152,16.1134, 16.3172,16.518,16.7163,17.0127,17.2049, 17.4068,17.6062,17.9055,18.1082,18.4173 ,18.6241,18.8307,19.0375,19.2436, 19.4512,19.4292)
FOOTPRINT_POINT_LONGITUDE = (4.0443,3.8521,3.66069,3.47026,3.12651, 3.0739,3.07539,3.07778,3.07989,3.08127, 3.08253,3.08378,3.0849,3.08611,3.08719, 3.08845,3.08956,3.08966,3.09083,3.09181 ,3.09246,3.09285,3.09381,3.09468, 3.09517,3.09554,3.096,3.09614,3.09628, 3.09645,3.09646,3.09629,3.09618,3.09603 ,3.09592,3.09566,3.0954,3.09491,3.09458 ,3.09378,3.09321,3.09254,3.09188, 3.09124,3.09045,3.08967,3.08899,3.08828 ,3.08678,3.2426,3.46724,3.8175,4.02187, 4.25522,4.25555,4.25677,4.25763,4.25859 ,4.25968,4.26058,4.26165,4.2631,4.26441 ,4.26528,4.26609,4.26717,4.2689,4.27013 ,4.27199,4.27299,4.27437,4.2756,4.27694 ,4.27839,4.27946,4.28101,4.28225, 4.28349,4.28503,4.28673,4.28809,4.28963 ,4.29074,4.29212,4.29618,4.29878, 4.30018,4.30171,4.30016,4.30328,4.30515 ,4.30807,4.30979,4.31251,4.31472, 4.31676,4.31897,4.3208,4.32334,4.0443)
ORBIT_NUMBER = 5170
ORBITAL_ECCENTRICITY = 0.574
ORBITAL_INCLINATION = 86.72
ORBITAL_SEMIMAJOR_AXIS = 8725.04
PERIAPSIS_ALTITUDE = 322.22
PERIAPSIS_ARGUMENT_ANGLE = 168.79
PERIAPSIS_TIME = 2008-01-10T23:59:14.000Z
SPACECRAFT_ORIENTATION = (0.0,-1.0,0.0)
^MEX_ORIENTATION_DESC = "MEX_ORIENTATION_DESC.TXT"
SPACECRAFT_POINTING_MODE = ACROSSTRACK
^MEX_POINTING_DESC = "MEX_POINTING_DESC.TXT"
RIGHT_ASCENSION = -1e+32
DECLINATION = -1e+32
OFFSET_ANGLE = 0.3
SPACECRAFT_SOLAR_DISTANCE = 2.38625e+08
TARGET_NAME = MARS
/* CAMERA DATA ELEMENTS */
DETECTOR_TEMPERATURE = 18.5744
FOCAL_PLANE_TEMPERATURE = 8.3794
INST_CMPRS_NAME = "DISCRETE COSINE TRANSFORMATION (DCT)"
INST_CMPRS_RATIO = 10.3842
INST_CMPRS_QUALITY = 0
INST_CMPRS_QUANTZ_TBL_ID = 0
INSTRUMENT_TEMPERATURE = 11.0301
LENS_TEMPERATURE = 8.5833
MACROPIXEL_SIZE = 2
MISSING_FRAMES = 0
PIXEL_SUBSAMPLING_FLAG = N
SIGNAL_CHAIN_ID = 1
/* RADIOMETRIC DATA ELEMENTS */
BANDWIDTH = 178.0
CENTER_FILTER_WAVELENGTH = 679.0
RADIANCE_OFFSET = 2.84112
RADIANCE_SCALING_FACTOR = 0.0192194
REFLECTANCE_SCALING_FACTOR = 0.000579562
MEX:REFLECTANCE_OFFSET = 0.0856744
/* IMAGE OBJECT DEFINITIONS */
OBJECT = IMAGE
  INTERCHANGE_FORMAT = BINARY
  LINES = 23568
  LINE_SAMPLES = 3007
  SAMPLE_TYPE = UNSIGNED_INTEGER
  SAMPLE_BITS = 8
  BANDS = 1
  BAND_STORAGE_TYPE = BAND_SEQUENTIAL
  MAXIMUM = 255
  MEAN = 113.466
  MINIMUM = 1
  STANDARD_DEVIATION = 19.7808
END_OBJECT = IMAGE
/* MAP OBJECT DEFINITIONS */
OBJECT = IMAGE_MAP_PROJECTION
  ^DATA_SET_MAP_PROJECTION_CATALOG= "DSMAP.CAT"
  A_AXIS_RADIUS = 3396.0
  B_AXIS_RADIUS = 3396.0
  C_AXIS_RADIUS = 3396.0
  CENTER_LATITUDE = 0.0
  CENTER_LONGITUDE = 4.0
  COORDINATE_SYSTEM_NAME = PLANETOGRAPHIC
  COORDINATE_SYSTEM_TYPE = "BODY-FIXED ROTATING"
  EASTERNMOST_LONGITUDE = 4.32334
  FIRST_STANDARD_PARALLEL = "N/A"
  LINE_FIRST_PIXEL = 1
  LINE_LAST_PIXEL = 23568
  LINE_PROJECTION_OFFSET = 46101.25
  MAP_PROJECTION_ROTATION = 0.0
  MAP_PROJECTION_TYPE = SINUSOIDAL
  MAP_RESOLUTION = 2370.85521546667
  MAP_SCALE = 0.025
  MAXIMUM_LATITUDE = 19.4512
  MINIMUM_LATITUDE = 9.497170000000001
  POSITIVE_LONGITUDE_DIRECTION = EAST
  REFERENCE_LATITUDE = "N/A"
  REFERENCE_LONGITUDE = "N/A"
  SAMPLE_FIRST_PIXEL = 1
  SAMPLE_LAST_PIXEL = 3007
  SAMPLE_PROJECTION_OFFSET = 2160.75
  SECOND_STANDARD_PARALLEL = "N/A"
  WESTERNMOST_LONGITUDE = 3.0739
END_OBJECT = IMAGE_MAP_PROJECTION
/* The JPEG2000 image data file associated with this label. */
OBJECT = COMPRESSED_FILE
  FILE_NAME = "H5170_0000_S23.JP2"
  RECORD_TYPE = UNDEFINED
  FILE_RECORDS = UNK
  ENCODING_TYPE = "JP2"
  INTERCHANGE_FORMAT = BINARY
  UNCOMPRESSED_FILE_NAME = "H5170_0000_S23.IMG"
  REQUIRED_STORAGE_BYTES = "70893032"
  ^DESCRIPTION = "JP2INFO.TXT"
END_OBJECT = COMPRESSED_FILE
END
