PDS_VERSION_ID = PDS3
/* FILE DATA ELEMENTS */
RECORD_TYPE = STREAM
/* POINTERS TO DATA OBJECTS */
^COMPRESSED_FILE = "H5177_0001_IR3.JP2"
/* IDENTIFICATION DATA ELEMENTS */
DATA_SET_ID = "MEX-M-HRSC-5-REFDR-MAPPROJECTED-V3.0"
DATA_SET_NAME = "MARS EXPRESS HRSC MAP PROJECTED REFDR V3.0"
DETECTOR_ID = MEX_HRSC_IR
EVENT_TYPE = "MARS-LOCAL-MAPPING-Vo"
INSTRUMENT_HOST_ID = MEX
INSTRUMENT_HOST_NAME = "MARS EXPRESS"
INSTRUMENT_ID = HRSC
INSTRUMENT_NAME = "HIGH RESOLUTION STEREO CAMERA"
MISSION_NAME = "MARS EXPRESS"
MISSION_PHASE_NAME = ME_Phase_11
PROCESSING_LEVEL_ID = 3
PRODUCT_CREATION_TIME = 2016-04-27T02:54:28.000Z
PRODUCT_ID = "H5177_0001_IR3.JP2"
RELEASE_ID = 0059
REVISION_ID = 0000
/* QUALITY DATA ELEMENTS */
DATA_QUALITY_ID = 1
DATA_QUALITY_DESC = "Data calculated based on original SPICE kernels"
/* TIME DATA ELEMENTS */
SPACECRAFT_CLOCK_START_COUNT = "1/0148262201.07281"
SPACECRAFT_CLOCK_STOP_COUNT = "1/0148262344.37031"
START_TIME = 2008-01-12T23:56:50.834Z
STOP_TIME = 2008-01-12T23:57:50.898Z
/* ORBITAL DATA ELEMENTS */
ASCENDING_NODE_LONGITUDE = 120.41
MAXIMUM_RESOLUTION = 63.5
FOOTPRINT_POINT_LATITUDE = (-6.4314,-6.42938,-6.42738,-6.42539, -6.42343,-6.42149,-6.41961,-6.41776, -6.41596,-6.41417,-6.41242,-6.41093, -6.40924,-6.43573,-6.51212,-6.66463, -6.74146,-6.85727,-6.93526,-7.01337, -7.09042,-7.20499,-7.3201,-7.39686, -7.47347,-7.55001,-7.6265,-7.70295, -7.77925,-7.93154,-8.04599,-8.12285, -8.19966,-8.35112,-8.46534,-8.54268, -8.61975,-8.69639,-8.84866,-8.96303, -9.11804,-9.23657,-9.38746,-9.53711, -9.65068,-9.72717,-9.80346,-9.92598, -10.0781,-10.1944,-10.3291,-10.3313, -10.3331,-10.3348,-10.3366,-10.3384, -10.3406,-10.3425,-10.3446,-10.3465, -10.3491,-10.3505,-10.3514,-10.3102, -10.2323,-10.0391,-9.88672,-9.80271, -9.6507,-9.53673,-9.30828,-9.15594, -9.0408,-8.96402,-8.88719,-8.81017, -8.7336,-8.61706,-8.53976,-8.4624, -8.3475,-8.1975,-8.0458,-7.85482, -7.77834,-7.70181,-7.62477,-7.50994, -7.35732,-7.28087,-7.16616,-7.08984, -7.01344,-6.93674,-6.86014,-6.78381, -6.70732,-6.63055,-6.51541,-6.4314)
FOOTPRINT_POINT_LONGITUDE = (23.7847,23.6834,23.5825,23.4816, 23.3808,23.2802,23.1797,23.0794,22.9793 ,22.8794,22.7795,22.6921,22.5924,22.504 ,22.5026,22.4997,22.4982,22.4957, 22.4938,22.4919,22.4903,22.488,22.4856, 22.484,22.4824,22.4808,22.4792,22.4777, 22.4761,22.4731,22.4707,22.469,22.4673, 22.4644,22.462,22.4601,22.4583,22.4566, 22.4534,22.4509,22.4469,22.4434,22.4404 ,22.4376,22.4353,22.4335,22.4317, 22.4289,22.4254,22.4228,22.4456,22.554, 22.6626,22.7577,22.8664,22.9753,23.1252 ,23.2344,23.3575,23.4671,23.6042, 23.6866,23.8097,23.8814,23.8806,23.8782 ,23.8763,23.8756,23.874,23.8729,23.8705 ,23.8689,23.8673,23.8663,23.8652, 23.8641,23.8632,23.861,23.8597,23.8585, 23.8572,23.8571,23.8563,23.8546,23.8539 ,23.8531,23.8522,23.8511,23.85,23.8494, 23.8485,23.848,23.8474,23.8467,23.8461, 23.8456,23.8451,23.8444,23.8434, 23.7847)
ORBIT_NUMBER = 5177
ORBITAL_ECCENTRICITY = 0.574
ORBITAL_INCLINATION = 86.72
ORBITAL_SEMIMAJOR_AXIS = 8727.43
PERIAPSIS_ALTITUDE = 322.62
PERIAPSIS_ARGUMENT_ANGLE = 167.58
PERIAPSIS_TIME = 2008-01-12T23:52:29.000Z
SPACECRAFT_ORIENTATION = (0.0,-1.0,0.0)
^MEX_ORIENTATION_DESC = "MEX_ORIENTATION_DESC.TXT"
SPACECRAFT_POINTING_MODE = ACROSSTRACK
^MEX_POINTING_DESC = "MEX_POINTING_DESC.TXT"
RIGHT_ASCENSION = -1e+32
DECLINATION = -1e+32
OFFSET_ANGLE = 0.25
SPACECRAFT_SOLAR_DISTANCE = 2.38944e+08
TARGET_NAME = MARS
/* CAMERA DATA ELEMENTS */
DETECTOR_TEMPERATURE = 18.5744
FOCAL_PLANE_TEMPERATURE = 8.5833
INST_CMPRS_NAME = "DISCRETE COSINE TRANSFORMATION (DCT)"
INST_CMPRS_RATIO = 18.7013
INST_CMPRS_QUALITY = 0
INST_CMPRS_QUANTZ_TBL_ID = 0
INSTRUMENT_TEMPERATURE = 13.0691
LENS_TEMPERATURE = 8.9911
MACROPIXEL_SIZE = 4
MISSING_FRAMES = 1
PIXEL_SUBSAMPLING_FLAG = N
SIGNAL_CHAIN_ID = 2
/* RADIOMETRIC DATA ELEMENTS */
BANDWIDTH = 81.0
CENTER_FILTER_WAVELENGTH = 955.5
RADIANCE_OFFSET = 0.390666
RADIANCE_SCALING_FACTOR = 0.00351798
REFLECTANCE_SCALING_FACTOR = 0.000433327
MEX:REFLECTANCE_OFFSET = 0.0481202
/* IMAGE OBJECT DEFINITIONS */
OBJECT = IMAGE
  INTERCHANGE_FORMAT = BINARY
  LINES = 4667
  LINE_SAMPLES = 1874
  SAMPLE_TYPE = UNSIGNED_INTEGER
  SAMPLE_BITS = 8
  BANDS = 1
  BAND_STORAGE_TYPE = BAND_SEQUENTIAL
  MAXIMUM = 255
  MEAN = 86.8651
  MINIMUM = 1
  STANDARD_DEVIATION = 25.9748
END_OBJECT = IMAGE
/* MAP OBJECT DEFINITIONS */
OBJECT = IMAGE_MAP_PROJECTION
  ^DATA_SET_MAP_PROJECTION_CATALOG= "DSMAP.CAT"
  A_AXIS_RADIUS = 3396.0
  B_AXIS_RADIUS = 3396.0
  C_AXIS_RADIUS = 3396.0
  CENTER_LATITUDE = 0.0
  CENTER_LONGITUDE = 23.0
  COORDINATE_SYSTEM_NAME = PLANETOGRAPHIC
  COORDINATE_SYSTEM_TYPE = "BODY-FIXED ROTATING"
  EASTERNMOST_LONGITUDE = 23.8814
  FIRST_STANDARD_PARALLEL = "N/A"
  LINE_FIRST_PIXEL = 1
  LINE_LAST_PIXEL = 4667
  LINE_PROJECTION_OFFSET = -7588.125
  MAP_PROJECTION_ROTATION = 0.0
  MAP_PROJECTION_TYPE = SINUSOIDAL
  MAP_RESOLUTION = 1185.42760773333
  MAP_SCALE = 0.05
  MAXIMUM_LATITUDE = -6.40924
  MINIMUM_LATITUDE = -10.3514
  POSITIVE_LONGITUDE_DIRECTION = EAST
  REFERENCE_LATITUDE = "N/A"
  REFERENCE_LONGITUDE = "N/A"
  SAMPLE_FIRST_PIXEL = 1
  SAMPLE_LAST_PIXEL = 1874
  SAMPLE_PROJECTION_OFFSET = 744.375
  SECOND_STANDARD_PARALLEL = "N/A"
  WESTERNMOST_LONGITUDE = 22.4228
END_OBJECT = IMAGE_MAP_PROJECTION
/* The JPEG2000 image data file associated with this label. */
OBJECT = COMPRESSED_FILE
  FILE_NAME = "H5177_0001_IR3.JP2"
  RECORD_TYPE = UNDEFINED
  FILE_RECORDS = UNK
  ENCODING_TYPE = "JP2"
  INTERCHANGE_FORMAT = BINARY
  UNCOMPRESSED_FILE_NAME = "H5177_0001_IR3.IMG"
  REQUIRED_STORAGE_BYTES = "8766572"
  ^DESCRIPTION = "JP2INFO.TXT"
END_OBJECT = COMPRESSED_FILE
END
