PDS_VERSION_ID = PDS3
/* FILE DATA ELEMENTS */
RECORD_TYPE = STREAM
/* POINTERS TO DATA OBJECTS */
^COMPRESSED_FILE = "H5177_0001_P23.JP2"
/* IDENTIFICATION DATA ELEMENTS */
DATA_SET_ID = "MEX-M-HRSC-5-REFDR-MAPPROJECTED-V3.0"
DATA_SET_NAME = "MARS EXPRESS HRSC MAP PROJECTED REFDR V3.0"
DETECTOR_ID = MEX_HRSC_P2
EVENT_TYPE = "MARS-LOCAL-MAPPING-Vo"
INSTRUMENT_HOST_ID = MEX
INSTRUMENT_HOST_NAME = "MARS EXPRESS"
INSTRUMENT_ID = HRSC
INSTRUMENT_NAME = "HIGH RESOLUTION STEREO CAMERA"
MISSION_NAME = "MARS EXPRESS"
MISSION_PHASE_NAME = ME_Phase_11
PROCESSING_LEVEL_ID = 3
PRODUCT_CREATION_TIME = 2016-04-27T02:54:28.000Z
PRODUCT_ID = "H5177_0001_P23.JP2"
RELEASE_ID = 0059
REVISION_ID = 0000
/* QUALITY DATA ELEMENTS */
DATA_QUALITY_ID = 1
DATA_QUALITY_DESC = "Data calculated based on original SPICE kernels"
/* TIME DATA ELEMENTS */
SPACECRAFT_CLOCK_START_COUNT = "1/0148262201.07281"
SPACECRAFT_CLOCK_STOP_COUNT = "1/0148262344.37031"
START_TIME = 2008-01-12T23:57:44.830Z
STOP_TIME = 2008-01-12T23:58:50.728Z
/* ORBITAL DATA ELEMENTS */
ASCENDING_NODE_LONGITUDE = 120.41
MAXIMUM_RESOLUTION = 33.5
FOOTPRINT_POINT_LATITUDE = (-6.40005,-6.401,-6.40186,-6.40266, -6.40336,-6.40398,-6.40452,-6.40495, -6.4053,-6.40556,-6.40575,-6.40586, -6.4059,-6.41563,-6.56485,-6.71774, -6.86912,-6.98254,-7.13371,-7.24742, -7.39842,-7.54981,-7.74184,-7.81952, -7.93693,-8.01535,-8.09332,-8.17083, -8.32457,-8.51694,-8.67178,-8.75079, -8.82989,-8.90879,-8.98801,-9.10684, -9.26183,-9.33988,-9.42124,-9.49992, -9.57811,-9.65807,-9.73848,-9.85907, -9.93933,-10.0196,-10.0999,-10.1802, -10.3367,-10.3361,-10.3363,-10.336, -10.3358,-10.3356,-10.3355,-10.3352, -10.3342,-10.3334,-10.3334,-10.3337, -10.3331,-10.2528,-10.1732,-10.0919, -10.0111,-9.93028,-9.81014,-9.73105, -9.65079,-9.57001,-9.49088,-9.41203, -9.3332,-9.25431,-9.17557,-9.05754, -8.97915,-8.90048,-8.82184,-8.74319, -8.62556,-8.4735,-8.39633,-8.3182, -8.23962,-8.16133,-8.08367,-8.00593, -7.92837,-7.85077,-7.73439,-7.61858, -7.46657,-7.31474,-7.12441,-6.97231, -6.81973,-6.66732,-6.55362,-6.40005)
FOOTPRINT_POINT_LONGITUDE = (23.8942,23.781,23.6683,23.5558,23.4434 ,23.3312,23.2191,23.1072,22.9955,22.884 ,22.7726,22.6612,22.5499,22.4508, 22.4474,22.4441,22.4401,22.4372,22.4333 ,22.4304,22.4265,22.4227,22.4179,22.416 ,22.4133,22.4116,22.4098,22.4079, 22.4036,22.3984,22.3942,22.3921,22.3901 ,22.388,22.3859,22.3829,22.3779,22.3756 ,22.3743,22.3722,22.3699,22.3676, 22.3654,22.3621,22.3598,22.3576,22.3554 ,22.3532,22.3489,22.471,22.6556,22.8403 ,22.9636,23.0561,23.1797,23.2879, 23.4583,23.5979,23.7217,23.8299,23.9441 ,23.9428,23.9411,23.9405,23.9394, 23.9385,23.9363,23.9341,23.9327,23.9319 ,23.931,23.9298,23.9287,23.9276,23.9263 ,23.9244,23.9229,23.9215,23.9201, 23.9187,23.9165,23.9129,23.9117,23.9111 ,23.9107,23.9102,23.9093,23.9084, 23.9073,23.9063,23.9047,23.903,23.9013, 23.8994,23.8973,23.8954,23.8938,23.892, 23.8905,23.8942)
ORBIT_NUMBER = 5177
ORBITAL_ECCENTRICITY = 0.574
ORBITAL_INCLINATION = 86.72
ORBITAL_SEMIMAJOR_AXIS = 8727.43
PERIAPSIS_ALTITUDE = 322.62
PERIAPSIS_ARGUMENT_ANGLE = 167.58
PERIAPSIS_TIME = 2008-01-12T23:52:29.000Z
SPACECRAFT_ORIENTATION = (0.0,-1.0,0.0)
^MEX_ORIENTATION_DESC = "MEX_ORIENTATION_DESC.TXT"
SPACECRAFT_POINTING_MODE = ACROSSTRACK
^MEX_POINTING_DESC = "MEX_POINTING_DESC.TXT"
RIGHT_ASCENSION = -1e+32
DECLINATION = -1e+32
OFFSET_ANGLE = 0.25
SPACECRAFT_SOLAR_DISTANCE = 2.38944e+08
TARGET_NAME = MARS
/* CAMERA DATA ELEMENTS */
DETECTOR_TEMPERATURE = 20.0017
FOCAL_PLANE_TEMPERATURE = 8.5833
INST_CMPRS_NAME = "DISCRETE COSINE TRANSFORMATION (DCT)"
INST_CMPRS_RATIO = 10.6724
INST_CMPRS_QUALITY = 0
INST_CMPRS_QUANTZ_TBL_ID = 0
INSTRUMENT_TEMPERATURE = 13.0691
LENS_TEMPERATURE = 8.9911
MACROPIXEL_SIZE = 2
MISSING_FRAMES = 0
PIXEL_SUBSAMPLING_FLAG = N
SIGNAL_CHAIN_ID = 3
/* RADIOMETRIC DATA ELEMENTS */
BANDWIDTH = 177.0
CENTER_FILTER_WAVELENGTH = 676.5
RADIANCE_OFFSET = 1.71763
RADIANCE_SCALING_FACTOR = 0.0133032
REFLECTANCE_SCALING_FACTOR = 0.000402723
MEX:REFLECTANCE_OFFSET = 0.0519972
/* IMAGE OBJECT DEFINITIONS */
OBJECT = IMAGE
  INTERCHANGE_FORMAT = BINARY
  LINES = 9333
  LINE_SAMPLES = 3747
  SAMPLE_TYPE = UNSIGNED_INTEGER
  SAMPLE_BITS = 8
  BANDS = 1
  BAND_STORAGE_TYPE = BAND_SEQUENTIAL
  MAXIMUM = 255
  MEAN = 99.4452
  MINIMUM = 1
  STANDARD_DEVIATION = 22.0301
END_OBJECT = IMAGE
/* MAP OBJECT DEFINITIONS */
OBJECT = IMAGE_MAP_PROJECTION
  ^DATA_SET_MAP_PROJECTION_CATALOG= "DSMAP.CAT"
  A_AXIS_RADIUS = 3396.0
  B_AXIS_RADIUS = 3396.0
  C_AXIS_RADIUS = 3396.0
  CENTER_LATITUDE = 0.0
  CENTER_LONGITUDE = 23.0
  COORDINATE_SYSTEM_NAME = PLANETOGRAPHIC
  COORDINATE_SYSTEM_TYPE = "BODY-FIXED ROTATING"
  EASTERNMOST_LONGITUDE = 23.9441
  FIRST_STANDARD_PARALLEL = "N/A"
  LINE_FIRST_PIXEL = 1
  LINE_LAST_PIXEL = 9333
  LINE_PROJECTION_OFFSET = -15175.75
  MAP_PROJECTION_ROTATION = 0.0
  MAP_PROJECTION_TYPE = SINUSOIDAL
  MAP_RESOLUTION = 2370.85521546667
  MAP_SCALE = 0.025
  MAXIMUM_LATITUDE = -6.40005
  MINIMUM_LATITUDE = -10.3367
  POSITIVE_LONGITUDE_DIRECTION = EAST
  REFERENCE_LATITUDE = "N/A"
  REFERENCE_LONGITUDE = "N/A"
  SAMPLE_FIRST_PIXEL = 1
  SAMPLE_LAST_PIXEL = 3747
  SAMPLE_PROJECTION_OFFSET = 1489.25
  SECOND_STANDARD_PARALLEL = "N/A"
  WESTERNMOST_LONGITUDE = 22.3489
END_OBJECT = IMAGE_MAP_PROJECTION
/* The JPEG2000 image data file associated with this label. */
OBJECT = COMPRESSED_FILE
  FILE_NAME = "H5177_0001_P23.JP2"
  RECORD_TYPE = UNDEFINED
  FILE_RECORDS = UNK
  ENCODING_TYPE = "JP2"
  INTERCHANGE_FORMAT = BINARY
  UNCOMPRESSED_FILE_NAME = "H5177_0001_P23.IMG"
  REQUIRED_STORAGE_BYTES = "34993233"
  ^DESCRIPTION = "JP2INFO.TXT"
END_OBJECT = COMPRESSED_FILE
END
