PDS_VERSION_ID = PDS3
/* FILE DATA ELEMENTS */
RECORD_TYPE = STREAM
/* POINTERS TO DATA OBJECTS */
^COMPRESSED_FILE = "H5180_0000_ND3.JP2"
/* IDENTIFICATION DATA ELEMENTS */
DATA_SET_ID = "MEX-M-HRSC-5-REFDR-MAPPROJECTED-V3.0"
DATA_SET_NAME = "MARS EXPRESS HRSC MAP PROJECTED REFDR V3.0"
DETECTOR_ID = MEX_HRSC_NADIR
EVENT_TYPE = "MARS-REGIONAL-MAPPING-Vo-Te-Pf"
INSTRUMENT_HOST_ID = MEX
INSTRUMENT_HOST_NAME = "MARS EXPRESS"
INSTRUMENT_ID = HRSC
INSTRUMENT_NAME = "HIGH RESOLUTION STEREO CAMERA"
MISSION_NAME = "MARS EXPRESS"
MISSION_PHASE_NAME = ME_Phase_11
PROCESSING_LEVEL_ID = 3
PRODUCT_CREATION_TIME = 2016-04-27T02:54:28.000Z
PRODUCT_ID = "H5180_0000_ND3.JP2"
RELEASE_ID = 0059
REVISION_ID = 0000
/* QUALITY DATA ELEMENTS */
DATA_QUALITY_ID = 2
DATA_QUALITY_DESC = "Data calculated based on photogrammetrically improved orbit and attitude data"
/* TIME DATA ELEMENTS */
SPACECRAFT_CLOCK_START_COUNT = "1/0148335658.09071"
SPACECRAFT_CLOCK_STOP_COUNT = "1/0148336026.33066"
START_TIME = 2008-01-13T20:21:33.341Z
STOP_TIME = 2008-01-13T20:26:36.349Z
/* ORBITAL DATA ELEMENTS */
ASCENDING_NODE_LONGITUDE = 120.35
MAXIMUM_RESOLUTION = 13
FOOTPRINT_POINT_LATITUDE = (22.1129,22.1117,22.1089,21.6963, 21.2877,20.8878,20.4877,20.0872,19.6865 ,19.2856,18.8844,18.483,17.8841,17.4956 ,17.1069,16.7181,16.3292,15.9402,15.551 ,15.1618,14.7725,14.3831,13.9937, 13.6043,13.2148,12.8253,12.2411,11.8517 ,11.4623,11.0729,10.6837,10.2944, 9.90532,9.5163,9.12741,8.73864,8.35002, 7.96156,7.18514,6.58559,6.18463,5.78393 ,5.38336,4.9833,4.5834,4.18376,3.78444, 3.16834,2.75663,2.34531,2.33186,2.53356 ,2.94521,3.35725,3.7679,4.16735,4.56708 ,4.96712,5.36745,5.76805,6.16891, 6.57002,7.17017,7.55844,7.9469,8.33554, 8.72433,9.11328,9.50235,9.89155,10.2809 ,10.6703,11.0597,11.4493,11.8389, 12.2285,12.6182,13.0079,13.5924,13.9821 ,14.3717,14.7613,15.1508,15.5403, 15.9297,16.319,16.7081,17.0972,17.4861, 17.8749,18.4739,18.8756,19.2771,19.6784 ,20.0794,20.4802,20.8807,21.281,21.6896 ,22.1129)
FOOTPRINT_POINT_LONGITUDE = (83.3588,82.7421,82.1977,82.2041, 82.2097,82.215,82.2196,82.2242,82.2285, 82.2325,82.2365,82.2402,82.2453,82.2484 ,82.2512,82.2537,82.2561,82.258,82.2599 ,82.2615,82.2628,82.264,82.2648,82.2654 ,82.2659,82.2661,82.2659,82.2657, 82.2651,82.2643,82.2633,82.2623,82.2609 ,82.2594,82.2575,82.2554,82.2532, 82.2509,82.2457,82.2411,82.238,82.2345, 82.2332,82.2272,82.2235,82.2204,82.217, 82.211,82.2066,82.202,82.6904,83.4109, 83.4111,83.4113,83.4138,83.4145,83.4146 ,83.4147,83.4149,83.4153,83.4156,83.416 ,83.417,83.4176,83.4184,83.4193,83.4201 ,83.4212,83.4221,83.4234,83.4248, 83.4261,83.4275,83.429,83.4307,83.4323, 83.4339,83.4358,83.4386,83.4406,83.4425 ,83.4447,83.4469,83.4492,83.4517,83.454 ,83.4565,83.459,83.4615,83.4642,83.4684 ,83.4713,83.4743,83.4772,83.48,83.4829, 83.4858,83.4885,83.4917,83.3588)
ORBIT_NUMBER = 5180
ORBITAL_ECCENTRICITY = 0.574
ORBITAL_INCLINATION = 86.74
ORBITAL_SEMIMAJOR_AXIS = 8729.4
PERIAPSIS_ALTITUDE = 322.26
PERIAPSIS_ARGUMENT_ANGLE = 167.03
PERIAPSIS_TIME = 2008-01-13T20:23:53.000Z
SPACECRAFT_ORIENTATION = (0.0,-1.0,0.0)
^MEX_ORIENTATION_DESC = "MEX_ORIENTATION_DESC.TXT"
SPACECRAFT_POINTING_MODE = NADIR
^MEX_POINTING_DESC = "MEX_POINTING_DESC.TXT"
RIGHT_ASCENSION = -1e+32
DECLINATION = -1e+32
OFFSET_ANGLE = -1e+32
SPACECRAFT_SOLAR_DISTANCE = 2.3908e+08
TARGET_NAME = MARS
/* CAMERA DATA ELEMENTS */
DETECTOR_TEMPERATURE = 18.5744
FOCAL_PLANE_TEMPERATURE = 7.7677
INST_CMPRS_NAME = "DISCRETE COSINE TRANSFORMATION (DCT)"
INST_CMPRS_RATIO = 6.87504
INST_CMPRS_QUALITY = 0
INST_CMPRS_QUANTZ_TBL_ID = 0
INSTRUMENT_TEMPERATURE = 11.4379
LENS_TEMPERATURE = 8.5833
MACROPIXEL_SIZE = 1
MISSING_FRAMES = 0
PIXEL_SUBSAMPLING_FLAG = N
SIGNAL_CHAIN_ID = 0
/* RADIOMETRIC DATA ELEMENTS */
BANDWIDTH = 177.0
CENTER_FILTER_WAVELENGTH = 677.5
RADIANCE_OFFSET = 2.46592
RADIANCE_SCALING_FACTOR = 0.0163067
REFLECTANCE_SCALING_FACTOR = 0.000495148
MEX:REFLECTANCE_OFFSET = 0.0748767
/* IMAGE OBJECT DEFINITIONS */
OBJECT = IMAGE
  INTERCHANGE_FORMAT = BINARY
  LINES = 93816
  LINE_SAMPLES = 6274
  SAMPLE_TYPE = UNSIGNED_INTEGER
  SAMPLE_BITS = 8
  BANDS = 1
  BAND_STORAGE_TYPE = BAND_SEQUENTIAL
  MAXIMUM = 255
  MEAN = 132.82
  MINIMUM = 1
  STANDARD_DEVIATION = 28.6794
END_OBJECT = IMAGE
/* MAP OBJECT DEFINITIONS */
OBJECT = IMAGE_MAP_PROJECTION
  ^DATA_SET_MAP_PROJECTION_CATALOG= "DSMAP.CAT"
  A_AXIS_RADIUS = 3396.0
  B_AXIS_RADIUS = 3396.0
  C_AXIS_RADIUS = 3396.0
  CENTER_LATITUDE = 0.0
  CENTER_LONGITUDE = 83.0
  COORDINATE_SYSTEM_NAME = PLANETOGRAPHIC
  COORDINATE_SYSTEM_TYPE = "BODY-FIXED ROTATING"
  EASTERNMOST_LONGITUDE = 83.49169999999999
  FIRST_STANDARD_PARALLEL = "N/A"
  LINE_FIRST_PIXEL = 1
  LINE_LAST_PIXEL = 93816
  LINE_PROJECTION_OFFSET = 104868.0
  MAP_PROJECTION_ROTATION = 0.0
  MAP_PROJECTION_TYPE = SINUSOIDAL
  MAP_RESOLUTION = 4741.71043093333
  MAP_SCALE = 0.0125
  MAXIMUM_LATITUDE = 22.1129
  MINIMUM_LATITUDE = 2.33186
  POSITIVE_LONGITUDE_DIRECTION = EAST
  REFERENCE_LATITUDE = "N/A"
  REFERENCE_LONGITUDE = "N/A"
  SAMPLE_FIRST_PIXEL = 1
  SAMPLE_LAST_PIXEL = 6274
  SAMPLE_PROJECTION_OFFSET = 3955.0
  SECOND_STANDARD_PARALLEL = "N/A"
  WESTERNMOST_LONGITUDE = 82.1977
END_OBJECT = IMAGE_MAP_PROJECTION
/* The JPEG2000 image data file associated with this label. */
OBJECT = COMPRESSED_FILE
  FILE_NAME = "H5180_0000_ND3.JP2"
  RECORD_TYPE = UNDEFINED
  FILE_RECORDS = UNK
  ENCODING_TYPE = "JP2"
  INTERCHANGE_FORMAT = BINARY
  UNCOMPRESSED_FILE_NAME = "H5180_0000_ND3.IMG"
  REQUIRED_STORAGE_BYTES = "588632954"
  ^DESCRIPTION = "JP2INFO.TXT"
END_OBJECT = COMPRESSED_FILE
END
