PDS_VERSION_ID = PDS3
/* FILE DATA ELEMENTS */
RECORD_TYPE = STREAM
/* POINTERS TO DATA OBJECTS */
^COMPRESSED_FILE = "H5182_0000_S23.JP2"
/* IDENTIFICATION DATA ELEMENTS */
DATA_SET_ID = "MEX-M-HRSC-5-REFDR-MAPPROJECTED-V3.0"
DATA_SET_NAME = "MARS EXPRESS HRSC MAP PROJECTED REFDR V3.0"
DETECTOR_ID = MEX_HRSC_S2
EVENT_TYPE = "MARS-LOCAL-STEREO-Vo"
INSTRUMENT_HOST_ID = MEX
INSTRUMENT_HOST_NAME = "MARS EXPRESS"
INSTRUMENT_ID = HRSC
INSTRUMENT_NAME = "HIGH RESOLUTION STEREO CAMERA"
MISSION_NAME = "MARS EXPRESS"
MISSION_PHASE_NAME = ME_Phase_11
PROCESSING_LEVEL_ID = 3
PRODUCT_CREATION_TIME = 2016-04-27T02:54:28.000Z
PRODUCT_ID = "H5182_0000_S23.JP2"
RELEASE_ID = 0059
REVISION_ID = 0000
/* QUALITY DATA ELEMENTS */
DATA_QUALITY_ID = 1
DATA_QUALITY_DESC = "Data calculated based on original SPICE kernels"
/* TIME DATA ELEMENTS */
SPACECRAFT_CLOCK_START_COUNT = "1/0148384949.07286"
SPACECRAFT_CLOCK_STOP_COUNT = "1/0148385127.24892"
START_TIME = 2008-01-14T10:03:32.694Z
STOP_TIME = 2008-01-14T10:05:29.181Z
/* ORBITAL DATA ELEMENTS */
ASCENDING_NODE_LONGITUDE = 120.31
MAXIMUM_RESOLUTION = 13.6
FOOTPRINT_POINT_LATITUDE = (20.1112,20.1117,20.1124,20.1133,20.114 ,20.1148,19.8084,19.5754,19.4173, 19.2635,19.0334,18.8029,18.6491,18.4954 ,18.3417,18.1881,18.0345,17.881,17.7273 ,17.4971,17.344,17.1907,17.0373,16.8841 ,16.7309,16.5013,16.3483,16.1953, 15.9657,15.8129,15.6602,15.4311,15.2784 ,15.1259,14.8971,14.7444,14.5157, 14.3633,14.2111,14.059,13.9069,13.7549, 13.603,13.3751,13.2232,12.9198,12.7681, 12.4651,12.4524,12.4501,12.449,12.4476, 12.4464,12.5213,12.8244,12.9761,13.128, 13.28,13.4317,13.5836,13.7357,13.8878, 14.0401,14.1922,14.3446,14.5731,14.7256 ,14.9544,15.1069,15.2596,15.4123, 15.5651,15.7179,15.8709,16.024,16.177, 16.33,16.5597,16.7128,16.8661,17.0194, 17.1727,17.3258,17.4789,17.632,17.7855, 17.9392,18.1697,18.3236,18.4776,18.6315 ,18.7854,18.9395,19.0934,19.2473, 19.4013,19.5554,19.7096,19.8635, 20.1112)
FOOTPRINT_POINT_LONGITUDE = (243.22,243.039,242.846,242.568,242.375 ,242.181,242.069,242.072,242.075, 242.076,242.078,242.08,242.082,242.083, 242.084,242.085,242.087,242.088,242.089 ,242.091,242.091,242.092,242.093, 242.094,242.095,242.096,242.097,242.098 ,242.099,242.099,242.1,242.101,242.101, 242.102,242.102,242.103,242.103,242.103 ,242.104,242.104,242.104,242.104, 242.104,242.104,242.104,242.104,242.104 ,242.104,242.309,242.583,242.743, 242.936,243.096,243.261,243.261,243.262 ,243.262,243.263,243.263,243.263, 243.264,243.264,243.265,243.265,243.266 ,243.266,243.267,243.268,243.268, 243.269,243.269,243.27,243.271,243.271, 243.272,243.272,243.273,243.274,243.275 ,243.275,243.276,243.276,243.277, 243.278,243.278,243.279,243.28,243.281, 243.282,243.282,243.283,243.284,243.285 ,243.286,243.286,243.287,243.288, 243.289,243.289,243.22)
ORBIT_NUMBER = 5182
ORBITAL_ECCENTRICITY = 0.574
ORBITAL_INCLINATION = 86.73
ORBITAL_SEMIMAJOR_AXIS = 8736.77
PERIAPSIS_ALTITUDE = 322.68
PERIAPSIS_ARGUMENT_ANGLE = 166.68
PERIAPSIS_TIME = 2008-01-14T10:04:47.000Z
SPACECRAFT_ORIENTATION = (0.0,-1.0,0.0)
^MEX_ORIENTATION_DESC = "MEX_ORIENTATION_DESC.TXT"
SPACECRAFT_POINTING_MODE = ACROSSTRACK
^MEX_POINTING_DESC = "MEX_POINTING_DESC.TXT"
RIGHT_ASCENSION = -1e+32
DECLINATION = -1e+32
OFFSET_ANGLE = -0.07
SPACECRAFT_SOLAR_DISTANCE = 2.3917e+08
TARGET_NAME = MARS
/* CAMERA DATA ELEMENTS */
DETECTOR_TEMPERATURE = 18.1666
FOCAL_PLANE_TEMPERATURE = 7.9716
INST_CMPRS_NAME = "DISCRETE COSINE TRANSFORMATION (DCT)"
INST_CMPRS_RATIO = 7.13405
INST_CMPRS_QUALITY = 0
INST_CMPRS_QUANTZ_TBL_ID = 0
INSTRUMENT_TEMPERATURE = 11.0301
LENS_TEMPERATURE = 8.1755
MACROPIXEL_SIZE = 1
MISSING_FRAMES = 0
PIXEL_SUBSAMPLING_FLAG = N
SIGNAL_CHAIN_ID = 1
/* RADIOMETRIC DATA ELEMENTS */
BANDWIDTH = 178.0
CENTER_FILTER_WAVELENGTH = 679.0
RADIANCE_OFFSET = 3.21322
RADIANCE_SCALING_FACTOR = 0.0243426
REFLECTANCE_SCALING_FACTOR = 0.000737407
MEX:REFLECTANCE_OFFSET = 0.0973377
/* IMAGE OBJECT DEFINITIONS */
OBJECT = IMAGE
  INTERCHANGE_FORMAT = BINARY
  LINES = 36295
  LINE_SAMPLES = 5881
  SAMPLE_TYPE = UNSIGNED_INTEGER
  SAMPLE_BITS = 8
  BANDS = 1
  BAND_STORAGE_TYPE = BAND_SEQUENTIAL
  MAXIMUM = 255
  MEAN = 135.837
  MINIMUM = 1
  STANDARD_DEVIATION = 10.4423
END_OBJECT = IMAGE
/* MAP OBJECT DEFINITIONS */
OBJECT = IMAGE_MAP_PROJECTION
  ^DATA_SET_MAP_PROJECTION_CATALOG= "DSMAP.CAT"
  A_AXIS_RADIUS = 3396.0
  B_AXIS_RADIUS = 3396.0
  C_AXIS_RADIUS = 3396.0
  CENTER_LATITUDE = 0.0
  CENTER_LONGITUDE = 243.0
  COORDINATE_SYSTEM_NAME = PLANETOGRAPHIC
  COORDINATE_SYSTEM_TYPE = "BODY-FIXED ROTATING"
  EASTERNMOST_LONGITUDE = 243.289
  FIRST_STANDARD_PARALLEL = "N/A"
  LINE_FIRST_PIXEL = 1
  LINE_LAST_PIXEL = 36295
  LINE_PROJECTION_OFFSET = 95466.0
  MAP_PROJECTION_ROTATION = 0.0
  MAP_PROJECTION_TYPE = SINUSOIDAL
  MAP_RESOLUTION = 4741.71043093333
  MAP_SCALE = 0.0125
  MAXIMUM_LATITUDE = 20.1148
  MINIMUM_LATITUDE = 12.4464
  POSITIVE_LONGITUDE_DIRECTION = EAST
  REFERENCE_LATITUDE = "N/A"
  REFERENCE_LONGITUDE = "N/A"
  SAMPLE_FIRST_PIXEL = 1
  SAMPLE_LAST_PIXEL = 5881
  SAMPLE_PROJECTION_OFFSET = 4391.0
  SECOND_STANDARD_PARALLEL = "N/A"
  WESTERNMOST_LONGITUDE = 242.069
END_OBJECT = IMAGE_MAP_PROJECTION
/* The JPEG2000 image data file associated with this label. */
OBJECT = COMPRESSED_FILE
  FILE_NAME = "H5182_0000_S23.JP2"
  RECORD_TYPE = UNDEFINED
  FILE_RECORDS = UNK
  ENCODING_TYPE = "JP2"
  INTERCHANGE_FORMAT = BINARY
  UNCOMPRESSED_FILE_NAME = "H5182_0000_S23.IMG"
  REQUIRED_STORAGE_BYTES = "213480300"
  ^DESCRIPTION = "JP2INFO.TXT"
END_OBJECT = COMPRESSED_FILE
END
