PDS_VERSION_ID = PDS3
/* FILE DATA ELEMENTS */
RECORD_TYPE = STREAM
/* POINTERS TO DATA OBJECTS */
^COMPRESSED_FILE = "H5183_0000_IR3.JP2"
/* IDENTIFICATION DATA ELEMENTS */
DATA_SET_ID = "MEX-M-HRSC-5-REFDR-MAPPROJECTED-V3.0"
DATA_SET_NAME = "MARS EXPRESS HRSC MAP PROJECTED REFDR V3.0"
DETECTOR_ID = MEX_HRSC_IR
EVENT_TYPE = "MARS-REGIONAL-MAPPING-Vo-Eo-La"
INSTRUMENT_HOST_ID = MEX
INSTRUMENT_HOST_NAME = "MARS EXPRESS"
INSTRUMENT_ID = HRSC
INSTRUMENT_NAME = "HIGH RESOLUTION STEREO CAMERA"
MISSION_NAME = "MARS EXPRESS"
MISSION_PHASE_NAME = ME_Phase_11
PROCESSING_LEVEL_ID = 3
PRODUCT_CREATION_TIME = 2016-04-27T02:54:28.000Z
PRODUCT_ID = "H5183_0000_IR3.JP2"
RELEASE_ID = 0059
REVISION_ID = 0000
/* QUALITY DATA ELEMENTS */
DATA_QUALITY_ID = 2
DATA_QUALITY_DESC = "Data calculated based on photogrammetrically improved orbit and attitude data"
/* TIME DATA ELEMENTS */
SPACECRAFT_CLOCK_START_COUNT = "1/0148409682.09063"
SPACECRAFT_CLOCK_STOP_COUNT = "1/0148409931.49505"
START_TIME = 2008-01-14T16:54:50.916Z
STOP_TIME = 2008-01-14T16:57:55.023Z
/* ORBITAL DATA ELEMENTS */
ASCENDING_NODE_LONGITUDE = 120.28
MAXIMUM_RESOLUTION = 54.2
FOOTPRINT_POINT_LATITUDE = (13.8104,13.8107,13.8106,13.798,13.5621 ,13.3265,12.9739,12.7302,12.3719,12.139 ,11.8979,11.6637,11.4359,11.1966, 10.9589,10.7203,10.4827,10.2457,10.008, 9.65177,9.2957,8.93912,8.58256,8.34482, 8.10665,7.86837,7.63033,7.27335,6.91617 ,6.67811,6.4375,6.19133,5.94499,5.69853 ,5.45218,5.2054,4.95871,4.7121,4.34217, 4.09557,3.848,3.6012,3.35465,3.10769, 2.86095,2.60852,2.35363,2.0989,1.71673, 1.68244,1.68091,1.6795,1.67803,1.67688, 1.80418,2.0595,2.31379,2.5686,2.82273, 3.06963,3.31671,3.68772,3.93471,4.18161 ,4.55167,4.79849,5.04512,5.29177, 5.53858,5.78525,6.1552,6.40182,6.64326, 6.88129,7.11949,7.47668,7.71451,7.95265 ,8.19093,8.42961,8.66765,8.90526, 9.14308,9.49971,9.73746,9.97507,10.2128 ,10.5694,10.9252,11.1624,11.4002, 11.6377,11.994,12.2308,12.5863,12.8231, 13.0592,13.4133,13.7673,13.8104)
FOOTPRINT_POINT_LONGITUDE = (142.818,142.612,142.439,142.096, 142.097,142.097,142.098,142.096,142.094 ,142.096,142.094,142.095,142.098, 142.097,142.096,142.095,142.094,142.094 ,142.093,142.092,142.091,142.089, 142.088,142.087,142.085,142.084,142.083 ,142.081,142.078,142.077,142.075, 142.073,142.071,142.069,142.068,142.065 ,142.063,142.061,142.058,142.055, 142.052,142.05,142.047,142.045,142.042, 142.039,142.036,142.033,142.029,142.185 ,142.513,142.784,142.976,143.134,143.24 ,143.239,143.24,143.239,143.239,143.239 ,143.239,143.239,143.239,143.239,143.24 ,143.24,143.24,143.24,143.241,143.241, 143.242,143.242,143.243,143.243,143.244 ,143.245,143.245,143.246,143.246, 143.247,143.247,143.248,143.249,143.25, 143.251,143.252,143.252,143.253,143.255 ,143.256,143.257,143.257,143.258, 143.259,143.261,143.262,143.263,143.265 ,143.266,142.818)
ORBIT_NUMBER = 5183
ORBITAL_ECCENTRICITY = 0.574
ORBITAL_INCLINATION = 86.72
ORBITAL_SEMIMAJOR_AXIS = 8723.98
PERIAPSIS_ALTITUDE = 323.48
PERIAPSIS_ARGUMENT_ANGLE = 166.54
PERIAPSIS_TIME = 2008-01-14T16:55:20.000Z
SPACECRAFT_ORIENTATION = (0.0,-1.0,0.0)
^MEX_ORIENTATION_DESC = "MEX_ORIENTATION_DESC.TXT"
SPACECRAFT_POINTING_MODE = NADIR
^MEX_POINTING_DESC = "MEX_POINTING_DESC.TXT"
RIGHT_ASCENSION = -1e+32
DECLINATION = -1e+32
OFFSET_ANGLE = -1e+32
SPACECRAFT_SOLAR_DISTANCE = 2.39215e+08
TARGET_NAME = MARS
/* CAMERA DATA ELEMENTS */
DETECTOR_TEMPERATURE = 17.351
FOCAL_PLANE_TEMPERATURE = 8.1755
INST_CMPRS_NAME = "DISCRETE COSINE TRANSFORMATION (DCT)"
INST_CMPRS_RATIO = 15.311
INST_CMPRS_QUALITY = 0
INST_CMPRS_QUANTZ_TBL_ID = 0
INSTRUMENT_TEMPERATURE = 11.0301
LENS_TEMPERATURE = 8.1755
MACROPIXEL_SIZE = 4
MISSING_FRAMES = 0
PIXEL_SUBSAMPLING_FLAG = N
SIGNAL_CHAIN_ID = 2
/* RADIOMETRIC DATA ELEMENTS */
BANDWIDTH = 81.0
CENTER_FILTER_WAVELENGTH = 955.5
RADIANCE_OFFSET = 0.904531
RADIANCE_SCALING_FACTOR = 0.00417315
REFLECTANCE_SCALING_FACTOR = 0.000515191
MEX:REFLECTANCE_OFFSET = 0.111668
/* IMAGE OBJECT DEFINITIONS */
OBJECT = IMAGE
  INTERCHANGE_FORMAT = BINARY
  LINES = 14370
  LINE_SAMPLES = 1555
  SAMPLE_TYPE = UNSIGNED_INTEGER
  SAMPLE_BITS = 8
  BANDS = 1
  BAND_STORAGE_TYPE = BAND_SEQUENTIAL
  MAXIMUM = 255
  MEAN = 119.92
  MINIMUM = 1
  STANDARD_DEVIATION = 19.442
END_OBJECT = IMAGE
/* MAP OBJECT DEFINITIONS */
OBJECT = IMAGE_MAP_PROJECTION
  ^DATA_SET_MAP_PROJECTION_CATALOG= "DSMAP.CAT"
  A_AXIS_RADIUS = 3396.0
  B_AXIS_RADIUS = 3396.0
  C_AXIS_RADIUS = 3396.0
  CENTER_LATITUDE = 0.0
  CENTER_LONGITUDE = 143.0
  COORDINATE_SYSTEM_NAME = PLANETOGRAPHIC
  COORDINATE_SYSTEM_TYPE = "BODY-FIXED ROTATING"
  EASTERNMOST_LONGITUDE = 143.266
  FIRST_STANDARD_PARALLEL = "N/A"
  LINE_FIRST_PIXEL = 1
  LINE_LAST_PIXEL = 14370
  LINE_PROJECTION_OFFSET = 16377.125
  MAP_PROJECTION_ROTATION = 0.0
  MAP_PROJECTION_TYPE = SINUSOIDAL
  MAP_RESOLUTION = 1185.42760773333
  MAP_SCALE = 0.05
  MAXIMUM_LATITUDE = 13.8107
  MINIMUM_LATITUDE = 1.67688
  POSITIVE_LONGITUDE_DIRECTION = EAST
  REFERENCE_LATITUDE = "N/A"
  REFERENCE_LONGITUDE = "N/A"
  SAMPLE_FIRST_PIXEL = 1
  SAMPLE_LAST_PIXEL = 1555
  SAMPLE_PROJECTION_OFFSET = 1206.375
  SECOND_STANDARD_PARALLEL = "N/A"
  WESTERNMOST_LONGITUDE = 142.029
END_OBJECT = IMAGE_MAP_PROJECTION
/* The JPEG2000 image data file associated with this label. */
OBJECT = COMPRESSED_FILE
  FILE_NAME = "H5183_0000_IR3.JP2"
  RECORD_TYPE = UNDEFINED
  FILE_RECORDS = UNK
  ENCODING_TYPE = "JP2"
  INTERCHANGE_FORMAT = BINARY
  UNCOMPRESSED_FILE_NAME = "H5183_0000_IR3.IMG"
  REQUIRED_STORAGE_BYTES = "22364010"
  ^DESCRIPTION = "JP2INFO.TXT"
END_OBJECT = COMPRESSED_FILE
END
