PDS_VERSION_ID = PDS3
/* FILE DATA ELEMENTS */
RECORD_TYPE = STREAM
/* POINTERS TO DATA OBJECTS */
^COMPRESSED_FILE = "H5183_0000_S13.JP2"
/* IDENTIFICATION DATA ELEMENTS */
DATA_SET_ID = "MEX-M-HRSC-5-REFDR-MAPPROJECTED-V3.0"
DATA_SET_NAME = "MARS EXPRESS HRSC MAP PROJECTED REFDR V3.0"
DETECTOR_ID = MEX_HRSC_S1
EVENT_TYPE = "MARS-REGIONAL-MAPPING-Vo-Eo-La"
INSTRUMENT_HOST_ID = MEX
INSTRUMENT_HOST_NAME = "MARS EXPRESS"
INSTRUMENT_ID = HRSC
INSTRUMENT_NAME = "HIGH RESOLUTION STEREO CAMERA"
MISSION_NAME = "MARS EXPRESS"
MISSION_PHASE_NAME = ME_Phase_11
PROCESSING_LEVEL_ID = 3
PRODUCT_CREATION_TIME = 2016-04-27T02:54:28.000Z
PRODUCT_ID = "H5183_0000_S13.JP2"
RELEASE_ID = 0059
REVISION_ID = 0000
/* QUALITY DATA ELEMENTS */
DATA_QUALITY_ID = 2
DATA_QUALITY_DESC = "Data calculated based on photogrammetrically improved orbit and attitude data"
/* TIME DATA ELEMENTS */
SPACECRAFT_CLOCK_START_COUNT = "1/0148409682.09063"
SPACECRAFT_CLOCK_STOP_COUNT = "1/0148409931.49505"
START_TIME = 2008-01-14T16:54:45.970Z
STOP_TIME = 2008-01-14T16:57:50.112Z
/* ORBITAL DATA ELEMENTS */
ASCENDING_NODE_LONGITUDE = 120.28
MAXIMUM_RESOLUTION = 27.6
FOOTPRINT_POINT_LATITUDE = (13.8122,13.8127,13.813,13.8125,13.68, 13.4438,13.2078,12.9728,12.727,12.367, 12.1343,11.8916,11.6564,11.4306,11.1901 ,10.9516,10.7121,10.4734,10.1163, 9.87779,9.63943,9.4011,9.16287,8.92401, 8.56597,8.32723,8.08795,7.72894,7.48978 ,7.2507,6.89176,6.65253,6.41252,6.17338 ,5.92595,5.67817,5.43048,5.18223, 4.93408,4.68603,4.31386,4.06574,3.81642 ,3.56801,3.31987,3.07121,2.82279, 2.57505,2.19374,1.93728,1.66505,1.6632, 1.66263,1.66111,1.65892,1.78681,2.04406 ,2.30002,2.55346,2.80184,3.05044, 3.29923,3.67284,3.92145,4.29415,4.66639 ,4.91456,5.16259,5.41081,5.78294,6.0309 ,6.27499,6.51471,6.87371,7.11308, 7.47197,7.71085,7.95014,8.18987,8.42935 ,8.66843,8.90697,9.14575,9.3843,9.62323 ,9.86172,10.1003,10.458,10.8153,11.0537 ,11.2916,11.5302,11.888,12.245,12.601, 12.8383,13.0749,13.4297,13.7844, 13.8122)
FOOTPRINT_POINT_LONGITUDE = (143.016,142.846,142.586,142.258, 142.092,142.093,142.094,142.094,142.092 ,142.091,142.092,142.09,142.091,142.094 ,142.093,142.093,142.092,142.091,142.09 ,142.09,142.089,142.088,142.087,142.086 ,142.085,142.084,142.083,142.081, 142.079,142.078,142.076,142.074,142.072 ,142.071,142.069,142.067,142.065, 142.063,142.061,142.059,142.055,142.053 ,142.05,142.048,142.045,142.043,142.04, 142.037,142.033,142.03,142.132,142.495, 142.659,142.871,143.152,143.238,143.238 ,143.238,143.238,143.238,143.238, 143.238,143.238,143.238,143.239,143.239 ,143.239,143.24,143.24,143.241,143.241, 143.242,143.242,143.243,143.244,143.244 ,143.245,143.246,143.246,143.247, 143.248,143.249,143.249,143.25,143.251, 143.252,143.253,143.254,143.255,143.256 ,143.257,143.258,143.259,143.26,143.262 ,143.263,143.264,143.266,143.268, 143.016)
ORBIT_NUMBER = 5183
ORBITAL_ECCENTRICITY = 0.574
ORBITAL_INCLINATION = 86.72
ORBITAL_SEMIMAJOR_AXIS = 8723.98
PERIAPSIS_ALTITUDE = 323.48
PERIAPSIS_ARGUMENT_ANGLE = 166.54
PERIAPSIS_TIME = 2008-01-14T16:55:20.000Z
SPACECRAFT_ORIENTATION = (0.0,-1.0,0.0)
^MEX_ORIENTATION_DESC = "MEX_ORIENTATION_DESC.TXT"
SPACECRAFT_POINTING_MODE = NADIR
^MEX_POINTING_DESC = "MEX_POINTING_DESC.TXT"
RIGHT_ASCENSION = -1e+32
DECLINATION = -1e+32
OFFSET_ANGLE = -1e+32
SPACECRAFT_SOLAR_DISTANCE = 2.39215e+08
TARGET_NAME = MARS
/* CAMERA DATA ELEMENTS */
DETECTOR_TEMPERATURE = 17.351
FOCAL_PLANE_TEMPERATURE = 8.1755
INST_CMPRS_NAME = "DISCRETE COSINE TRANSFORMATION (DCT)"
INST_CMPRS_RATIO = 9.13999
INST_CMPRS_QUALITY = 0
INST_CMPRS_QUANTZ_TBL_ID = 0
INSTRUMENT_TEMPERATURE = 11.0301
LENS_TEMPERATURE = 8.1755
MACROPIXEL_SIZE = 2
MISSING_FRAMES = 0
PIXEL_SUBSAMPLING_FLAG = N
SIGNAL_CHAIN_ID = 1
/* RADIOMETRIC DATA ELEMENTS */
BANDWIDTH = 180.0
CENTER_FILTER_WAVELENGTH = 677.0
RADIANCE_OFFSET = 3.80258
RADIANCE_SCALING_FACTOR = 0.0162202
REFLECTANCE_SCALING_FACTOR = 0.000484252
MEX:REFLECTANCE_OFFSET = 0.113526
/* IMAGE OBJECT DEFINITIONS */
OBJECT = IMAGE
  INTERCHANGE_FORMAT = BINARY
  LINES = 28739
  LINE_SAMPLES = 3110
  SAMPLE_TYPE = UNSIGNED_INTEGER
  SAMPLE_BITS = 8
  BANDS = 1
  BAND_STORAGE_TYPE = BAND_SEQUENTIAL
  MAXIMUM = 255
  MEAN = 122.484
  MINIMUM = 1
  STANDARD_DEVIATION = 18.2774
END_OBJECT = IMAGE
/* MAP OBJECT DEFINITIONS */
OBJECT = IMAGE_MAP_PROJECTION
  ^DATA_SET_MAP_PROJECTION_CATALOG= "DSMAP.CAT"
  A_AXIS_RADIUS = 3396.0
  B_AXIS_RADIUS = 3396.0
  C_AXIS_RADIUS = 3396.0
  CENTER_LATITUDE = 0.0
  CENTER_LONGITUDE = 143.0
  COORDINATE_SYSTEM_NAME = PLANETOGRAPHIC
  COORDINATE_SYSTEM_TYPE = "BODY-FIXED ROTATING"
  EASTERNMOST_LONGITUDE = 143.268
  FIRST_STANDARD_PARALLEL = "N/A"
  LINE_FIRST_PIXEL = 1
  LINE_LAST_PIXEL = 28739
  LINE_PROJECTION_OFFSET = 32754.75
  MAP_PROJECTION_ROTATION = 0.0
  MAP_PROJECTION_TYPE = SINUSOIDAL
  MAP_RESOLUTION = 2370.85521546667
  MAP_SCALE = 0.025
  MAXIMUM_LATITUDE = 13.813
  MINIMUM_LATITUDE = 1.65892
  POSITIVE_LONGITUDE_DIRECTION = EAST
  REFERENCE_LATITUDE = "N/A"
  REFERENCE_LONGITUDE = "N/A"
  SAMPLE_FIRST_PIXEL = 1
  SAMPLE_LAST_PIXEL = 3110
  SAMPLE_PROJECTION_OFFSET = 2413.25
  SECOND_STANDARD_PARALLEL = "N/A"
  WESTERNMOST_LONGITUDE = 142.03
END_OBJECT = IMAGE_MAP_PROJECTION
/* The JPEG2000 image data file associated with this label. */
OBJECT = COMPRESSED_FILE
  FILE_NAME = "H5183_0000_S13.JP2"
  RECORD_TYPE = UNDEFINED
  FILE_RECORDS = UNK
  ENCODING_TYPE = "JP2"
  INTERCHANGE_FORMAT = BINARY
  UNCOMPRESSED_FILE_NAME = "H5183_0000_S13.IMG"
  REQUIRED_STORAGE_BYTES = "89400060"
  ^DESCRIPTION = "JP2INFO.TXT"
END_OBJECT = COMPRESSED_FILE
END
