PDS_VERSION_ID = PDS3
/* FILE DATA ELEMENTS */
RECORD_TYPE = STREAM
/* POINTERS TO DATA OBJECTS */
^COMPRESSED_FILE = "H5184_0000_P23.JP2"
/* IDENTIFICATION DATA ELEMENTS */
DATA_SET_ID = "MEX-M-HRSC-5-REFDR-MAPPROJECTED-V3.0"
DATA_SET_NAME = "MARS EXPRESS HRSC MAP PROJECTED REFDR V3.0"
DETECTOR_ID = MEX_HRSC_P2
EVENT_TYPE = "MARS-REGIONAL-MAPPING-Vo-Fl"
INSTRUMENT_HOST_ID = MEX
INSTRUMENT_HOST_NAME = "MARS EXPRESS"
INSTRUMENT_ID = HRSC
INSTRUMENT_NAME = "HIGH RESOLUTION STEREO CAMERA"
MISSION_NAME = "MARS EXPRESS"
MISSION_PHASE_NAME = ME_Phase_11
PROCESSING_LEVEL_ID = 3
PRODUCT_CREATION_TIME = 2016-04-27T02:54:28.000Z
PRODUCT_ID = "H5184_0000_P23.JP2"
RELEASE_ID = 0059
REVISION_ID = 0000
/* QUALITY DATA ELEMENTS */
DATA_QUALITY_ID = 2
DATA_QUALITY_DESC = "Data calculated based on photogrammetrically improved orbit and attitude data"
/* TIME DATA ELEMENTS */
SPACECRAFT_CLOCK_START_COUNT = "1/0148434412.08234"
SPACECRAFT_CLOCK_STOP_COUNT = "1/0148434765.22136"
START_TIME = 2008-01-14T23:47:44.578Z
STOP_TIME = 2008-01-14T23:52:30.936Z
/* ORBITAL DATA ELEMENTS */
ASCENDING_NODE_LONGITUDE = 120.27
MAXIMUM_RESOLUTION = 54.9
FOOTPRINT_POINT_LATITUDE = (7.27528,7.27554,7.27638,7.27711, 7.11962,6.80397,6.48875,6.01128,5.6894, 5.36645,5.04296,4.7203,4.23725,3.91326, 3.59095,3.26905,2.7863,2.46612,2.14635, 1.66741,1.34737,1.03519,0.718435, 0.401184,0.0825671,-0.241084,-0.616129, -0.991944,-1.55482,-1.92868,-2.48868, -2.86133,-3.2336,-3.60345,-3.97177, -4.34056,-4.70858,-5.07561,-5.63084, -6.00539,-6.37855,-6.76004,-7.33223, -7.91348,-8.301,-8.69668,-9.09084, -9.69141,-10.092,-10.3544,-10.3569, -10.3581,-10.3594,-10.36,-10.3585, -10.1549,-9.75143,-9.35351,-8.95856, -8.56137,-8.16941,-7.78039,-7.20085, -6.82072,-6.4382,-6.06455,-5.68922, -5.31635,-4.76622,-4.21419,-3.84628, -3.47373,-2.91974,-2.35986,-1.79896, -1.42461,-1.04967,-0.673832,-0.127541, 0.18875,0.505899,0.822449,1.13964, 1.4583,1.77714,2.09695,2.41811,2.73991, 3.06068,3.54638,3.87055,4.34633,4.66974 ,4.99274,5.31687,5.64091,6.11932, 6.59211,6.90823,7.27528)
FOOTPRINT_POINT_LONGITUDE = (43.1257,42.917,42.5108,42.2586,42.0787 ,42.0758,42.0729,42.0703,42.0683, 42.0642,42.0604,42.0562,42.0497,42.0463 ,42.0422,42.038,42.0318,42.027,42.0222, 42.0148,42.0103,42.0028,41.9971,41.9918 ,41.987,41.9828,41.9753,41.9683,41.9578 ,41.9504,41.9393,41.9318,41.9244, 41.9162,41.9076,41.8994,41.8911,41.8825 ,41.8695,41.8603,41.8508,41.8417, 41.8271,41.8121,41.8013,41.7913,41.7797 ,41.7629,41.7505,41.9548,42.2288, 42.4417,42.8073,43.0511,43.3769,43.3734 ,43.368,43.3594,43.3537,43.3487,43.3442 ,43.3393,43.3332,43.328,43.3241,43.3199 ,43.3163,43.3124,43.3071,43.302,43.2982 ,43.2963,43.2907,43.2873,43.2838, 43.2813,43.2788,43.2766,43.2731,43.2714 ,43.2699,43.268,43.2662,43.2649,43.2636 ,43.2626,43.2621,43.2617,43.2607, 43.2612,43.2614,43.2565,43.256,43.2552, 43.2548,43.2543,43.2545,43.2544,43.2546 ,43.1257)
ORBIT_NUMBER = 5184
ORBITAL_ECCENTRICITY = 0.574
ORBITAL_INCLINATION = 86.73
ORBITAL_SEMIMAJOR_AXIS = 8728.36
PERIAPSIS_ALTITUDE = 323.11
PERIAPSIS_ARGUMENT_ANGLE = 166.37
PERIAPSIS_TIME = 2008-01-14T23:45:48.000Z
SPACECRAFT_ORIENTATION = (0.0,-1.0,0.0)
^MEX_ORIENTATION_DESC = "MEX_ORIENTATION_DESC.TXT"
SPACECRAFT_POINTING_MODE = ACROSSTRACK
^MEX_POINTING_DESC = "MEX_POINTING_DESC.TXT"
RIGHT_ASCENSION = -1e+32
DECLINATION = -1e+32
OFFSET_ANGLE = 0.05
SPACECRAFT_SOLAR_DISTANCE = 2.39259e+08
TARGET_NAME = MARS
/* CAMERA DATA ELEMENTS */
DETECTOR_TEMPERATURE = 18.5744
FOCAL_PLANE_TEMPERATURE = 8.5833
INST_CMPRS_NAME = "DISCRETE COSINE TRANSFORMATION (DCT)"
INST_CMPRS_RATIO = 9.90235
INST_CMPRS_QUALITY = 0
INST_CMPRS_QUANTZ_TBL_ID = 0
INSTRUMENT_TEMPERATURE = 11.0301
LENS_TEMPERATURE = 8.7872
MACROPIXEL_SIZE = 4
MISSING_FRAMES = 0
PIXEL_SUBSAMPLING_FLAG = N
SIGNAL_CHAIN_ID = 3
/* RADIOMETRIC DATA ELEMENTS */
BANDWIDTH = 177.0
CENTER_FILTER_WAVELENGTH = 676.5
RADIANCE_OFFSET = 2.66614
RADIANCE_SCALING_FACTOR = 0.0226535
REFLECTANCE_SCALING_FACTOR = 0.000687589
MEX:REFLECTANCE_OFFSET = 0.0809239
/* IMAGE OBJECT DEFINITIONS */
OBJECT = IMAGE
  INTERCHANGE_FORMAT = BINARY
  LINES = 20901
  LINE_SAMPLES = 1919
  SAMPLE_TYPE = UNSIGNED_INTEGER
  SAMPLE_BITS = 8
  BANDS = 1
  BAND_STORAGE_TYPE = BAND_SEQUENTIAL
  MAXIMUM = 255
  MEAN = 107.211
  MINIMUM = 1
  STANDARD_DEVIATION = 23.2981
END_OBJECT = IMAGE
/* MAP OBJECT DEFINITIONS */
OBJECT = IMAGE_MAP_PROJECTION
  ^DATA_SET_MAP_PROJECTION_CATALOG= "DSMAP.CAT"
  A_AXIS_RADIUS = 3396.0
  B_AXIS_RADIUS = 3396.0
  C_AXIS_RADIUS = 3396.0
  CENTER_LATITUDE = 0.0
  CENTER_LONGITUDE = 43.0
  COORDINATE_SYSTEM_NAME = PLANETOGRAPHIC
  COORDINATE_SYSTEM_TYPE = "BODY-FIXED ROTATING"
  EASTERNMOST_LONGITUDE = 43.3769
  FIRST_STANDARD_PARALLEL = "N/A"
  LINE_FIRST_PIXEL = 1
  LINE_LAST_PIXEL = 20901
  LINE_PROJECTION_OFFSET = 8628.875
  MAP_PROJECTION_ROTATION = 0.0
  MAP_PROJECTION_TYPE = SINUSOIDAL
  MAP_RESOLUTION = 1185.42760773333
  MAP_SCALE = 0.05
  MAXIMUM_LATITUDE = 7.27711
  MINIMUM_LATITUDE = -10.36
  POSITIVE_LONGITUDE_DIRECTION = EAST
  REFERENCE_LATITUDE = "N/A"
  REFERENCE_LONGITUDE = "N/A"
  SAMPLE_FIRST_PIXEL = 1
  SAMPLE_LAST_PIXEL = 1919
  SAMPLE_PROJECTION_OFFSET = 1467.625
  SECOND_STANDARD_PARALLEL = "N/A"
  WESTERNMOST_LONGITUDE = 41.7505
END_OBJECT = IMAGE_MAP_PROJECTION
/* The JPEG2000 image data file associated with this label. */
OBJECT = COMPRESSED_FILE
  FILE_NAME = "H5184_0000_P23.JP2"
  RECORD_TYPE = UNDEFINED
  FILE_RECORDS = UNK
  ENCODING_TYPE = "JP2"
  INTERCHANGE_FORMAT = BINARY
  UNCOMPRESSED_FILE_NAME = "H5184_0000_P23.IMG"
  REQUIRED_STORAGE_BYTES = "40128209"
  ^DESCRIPTION = "JP2INFO.TXT"
END_OBJECT = COMPRESSED_FILE
END
