PDS_VERSION_ID = PDS3
/* FILE DATA ELEMENTS */
RECORD_TYPE = STREAM
/* POINTERS TO DATA OBJECTS */
^COMPRESSED_FILE = "H5189_0000_S13.JP2"
/* IDENTIFICATION DATA ELEMENTS */
DATA_SET_ID = "MEX-M-HRSC-5-REFDR-MAPPROJECTED-V3.0"
DATA_SET_NAME = "MARS EXPRESS HRSC MAP PROJECTED REFDR V3.0"
DETECTOR_ID = MEX_HRSC_S1
EVENT_TYPE = "MARS-REGIONAL-MAPPING-Vo"
INSTRUMENT_HOST_ID = MEX
INSTRUMENT_HOST_NAME = "MARS EXPRESS"
INSTRUMENT_ID = HRSC
INSTRUMENT_NAME = "HIGH RESOLUTION STEREO CAMERA"
MISSION_NAME = "MARS EXPRESS"
MISSION_PHASE_NAME = ME_Phase_11
PROCESSING_LEVEL_ID = 3
PRODUCT_CREATION_TIME = 2016-04-27T02:54:28.000Z
PRODUCT_ID = "H5189_0000_S13.JP2"
RELEASE_ID = 0059
REVISION_ID = 0000
/* QUALITY DATA ELEMENTS */
DATA_QUALITY_ID = 1
DATA_QUALITY_DESC = "Data calculated based on original SPICE kernels"
/* TIME DATA ELEMENTS */
SPACECRAFT_CLOCK_START_COUNT = "1/0148557345.07294"
SPACECRAFT_CLOCK_STOP_COUNT = "1/0148557612.63026"
START_TIME = 2008-01-16T09:55:48.940Z
STOP_TIME = 2008-01-16T09:59:15.701Z
/* ORBITAL DATA ELEMENTS */
ASCENDING_NODE_LONGITUDE = 120.16
MAXIMUM_RESOLUTION = 27.4
FOOTPRINT_POINT_LATITUDE = (20.6129,20.6131,20.6126,20.6117, 20.6099,20.614,20.3385,19.9243,19.6481, 19.3712,19.0975,18.8295,18.5607,18.2918 ,18.0225,17.7529,17.4832,17.0782, 16.8082,16.5374,16.1311,15.8596,15.5893 ,15.3264,15.0634,14.8001,14.5362, 14.1403,13.876,13.6119,13.2145,12.9496, 12.6843,12.4189,12.1533,11.8875,11.4883 ,11.2222,10.9558,10.6892,10.4225, 10.1559,9.88905,9.48849,9.22149,8.95402 ,8.55256,8.15099,7.88319,7.61524, 7.34717,7.17785,7.1776,7.17619,7.1746, 7.17325,7.44108,7.70906,7.97717,8.37911 ,8.78056,9.04829,9.31568,9.71651, 9.98356,10.2504,10.6506,10.9172,11.3168 ,11.583,11.849,12.2478,12.5133,12.7784, 13.1758,13.4407,13.8376,14.1023,14.4983 ,14.7624,15.026,15.2897,15.5531,15.9586 ,16.23,16.637,16.9078,17.1785,17.4492, 17.7192,17.9889,18.2585,18.6622,18.9308 ,19.1994,19.4765,19.7532,20.1682, 20.4442,20.6129)
FOOTPRINT_POINT_LONGITUDE = (262.974,262.629,262.432,262.235, 261.977,261.802,261.806,261.811,261.815 ,261.818,261.821,261.824,261.827,261.83 ,261.832,261.835,261.837,261.84,261.843 ,261.845,261.847,261.849,261.85,261.852 ,261.853,261.854,261.855,261.856, 261.857,261.858,261.858,261.859,261.859 ,261.859,261.859,261.859,261.859, 261.858,261.858,261.857,261.857,261.856 ,261.855,261.854,261.853,261.852,261.85 ,261.848,261.846,261.845,261.843, 261.987,262.176,262.511,262.757,262.914 ,262.997,262.997,262.998,262.999,263.0, 263.001,263.002,263.003,263.004,263.005 ,263.007,263.008,263.009,263.011, 263.012,263.014,263.015,263.016,263.018 ,263.02,263.022,263.023,263.026,263.027 ,263.029,263.03,263.032,263.035,263.036 ,263.039,263.041,263.043,263.045, 263.047,263.049,263.051,263.054,263.056 ,263.059,263.061,263.063,263.066, 263.069,262.974)
ORBIT_NUMBER = 5189
ORBITAL_ECCENTRICITY = 0.574
ORBITAL_INCLINATION = 86.73
ORBITAL_SEMIMAJOR_AXIS = 8734.36
PERIAPSIS_ALTITUDE = 323.77
PERIAPSIS_ARGUMENT_ANGLE = 165.47
PERIAPSIS_TIME = 2008-01-16T09:57:54.000Z
SPACECRAFT_ORIENTATION = (0.0,-1.0,0.0)
^MEX_ORIENTATION_DESC = "MEX_ORIENTATION_DESC.TXT"
SPACECRAFT_POINTING_MODE = NADIR
^MEX_POINTING_DESC = "MEX_POINTING_DESC.TXT"
RIGHT_ASCENSION = -1e+32
DECLINATION = -1e+32
OFFSET_ANGLE = -1e+32
SPACECRAFT_SOLAR_DISTANCE = 2.39482e+08
TARGET_NAME = MARS
/* CAMERA DATA ELEMENTS */
DETECTOR_TEMPERATURE = 17.1471
FOCAL_PLANE_TEMPERATURE = 7.9716
INST_CMPRS_NAME = "DISCRETE COSINE TRANSFORMATION (DCT)"
INST_CMPRS_RATIO = 8.29758
INST_CMPRS_QUALITY = 0
INST_CMPRS_QUANTZ_TBL_ID = 0
INSTRUMENT_TEMPERATURE = 11.0301
LENS_TEMPERATURE = 8.5833
MACROPIXEL_SIZE = 2
MISSING_FRAMES = 0
PIXEL_SUBSAMPLING_FLAG = N
SIGNAL_CHAIN_ID = 1
/* RADIOMETRIC DATA ELEMENTS */
BANDWIDTH = 180.0
CENTER_FILTER_WAVELENGTH = 677.0
RADIANCE_OFFSET = 3.34578
RADIANCE_SCALING_FACTOR = 0.0225455
REFLECTANCE_SCALING_FACTOR = 0.000674603
MEX:REFLECTANCE_OFFSET = 0.100112
/* IMAGE OBJECT DEFINITIONS */
OBJECT = IMAGE
  INTERCHANGE_FORMAT = BINARY
  LINES = 31786
  LINE_SAMPLES = 2963
  SAMPLE_TYPE = UNSIGNED_INTEGER
  SAMPLE_BITS = 8
  BANDS = 1
  BAND_STORAGE_TYPE = BAND_SEQUENTIAL
  MAXIMUM = 255
  MEAN = 140.107
  MINIMUM = 1
  STANDARD_DEVIATION = 16.2544
END_OBJECT = IMAGE
/* MAP OBJECT DEFINITIONS */
OBJECT = IMAGE_MAP_PROJECTION
  ^DATA_SET_MAP_PROJECTION_CATALOG= "DSMAP.CAT"
  A_AXIS_RADIUS = 3396.0
  B_AXIS_RADIUS = 3396.0
  C_AXIS_RADIUS = 3396.0
  CENTER_LATITUDE = 0.0
  CENTER_LONGITUDE = 262.0
  COORDINATE_SYSTEM_NAME = PLANETOGRAPHIC
  COORDINATE_SYSTEM_TYPE = "BODY-FIXED ROTATING"
  EASTERNMOST_LONGITUDE = 263.069
  FIRST_STANDARD_PARALLEL = "N/A"
  LINE_FIRST_PIXEL = 1
  LINE_LAST_PIXEL = 31786
  LINE_PROJECTION_OFFSET = 48812.75
  MAP_PROJECTION_ROTATION = 0.0
  MAP_PROJECTION_TYPE = SINUSOIDAL
  MAP_RESOLUTION = 2370.85521546667
  MAP_SCALE = 0.025
  MAXIMUM_LATITUDE = 20.614
  MINIMUM_LATITUDE = 7.17325
  POSITIVE_LONGITUDE_DIRECTION = EAST
  REFERENCE_LATITUDE = "N/A"
  REFERENCE_LONGITUDE = "N/A"
  SAMPLE_FIRST_PIXEL = 1
  SAMPLE_LAST_PIXEL = 2963
  SAMPLE_PROJECTION_OFFSET = 503.75
  SECOND_STANDARD_PARALLEL = "N/A"
  WESTERNMOST_LONGITUDE = 261.802
END_OBJECT = IMAGE_MAP_PROJECTION
/* The JPEG2000 image data file associated with this label. */
OBJECT = COMPRESSED_FILE
  FILE_NAME = "H5189_0000_S13.JP2"
  RECORD_TYPE = UNDEFINED
  FILE_RECORDS = UNK
  ENCODING_TYPE = "JP2"
  INTERCHANGE_FORMAT = BINARY
  UNCOMPRESSED_FILE_NAME = "H5189_0000_S13.IMG"
  REQUIRED_STORAGE_BYTES = "94205622"
  ^DESCRIPTION = "JP2INFO.TXT"
END_OBJECT = COMPRESSED_FILE
END
