PDS_VERSION_ID = PDS3
/* FILE DATA ELEMENTS */
RECORD_TYPE = STREAM
/* POINTERS TO DATA OBJECTS */
^COMPRESSED_FILE = "H5192_0000_ND3.JP2"
/* IDENTIFICATION DATA ELEMENTS */
DATA_SET_ID = "MEX-M-HRSC-5-REFDR-MAPPROJECTED-V3.0"
DATA_SET_NAME = "MARS EXPRESS HRSC MAP PROJECTED REFDR V3.0"
DETECTOR_ID = MEX_HRSC_NADIR
EVENT_TYPE = "MARS-REGIONAL-MAPPING-Im-Fl-Pf"
INSTRUMENT_HOST_ID = MEX
INSTRUMENT_HOST_NAME = "MARS EXPRESS"
INSTRUMENT_ID = HRSC
INSTRUMENT_NAME = "HIGH RESOLUTION STEREO CAMERA"
MISSION_NAME = "MARS EXPRESS"
MISSION_PHASE_NAME = ME_Phase_11
PROCESSING_LEVEL_ID = 3
PRODUCT_CREATION_TIME = 2016-04-27T02:54:28.000Z
PRODUCT_ID = "H5192_0000_ND3.JP2"
RELEASE_ID = 0059
REVISION_ID = 0000
/* QUALITY DATA ELEMENTS */
DATA_QUALITY_ID = 2
DATA_QUALITY_DESC = "Data calculated based on photogrammetrically improved orbit and attitude data"
/* TIME DATA ELEMENTS */
SPACECRAFT_CLOCK_START_COUNT = "1/0148630944.08246"
SPACECRAFT_CLOCK_STOP_COUNT = "1/0148631318.08402"
START_TIME = 2008-01-17T06:23:14.701Z
STOP_TIME = 2008-01-17T06:28:10.682Z
/* ORBITAL DATA ELEMENTS */
ASCENDING_NODE_LONGITUDE = 120.1
MAXIMUM_RESOLUTION = 13.3
FOOTPRINT_POINT_LATITUDE = (37.0011,36.9915,36.9802,36.9656,36.52, 36.0835,35.4302,35.0026,34.3636,33.9444 ,33.3185,32.9082,32.2927,31.8914, 31.4895,31.0868,30.6836,30.2797,29.8752 ,29.4702,29.0646,28.6583,28.2515, 27.8442,27.4363,26.8329,26.4902,26.147, 25.8036,25.4598,25.1157,24.7714,24.4267 ,24.0818,23.7365,23.3911,23.0453, 22.6993,22.3531,22.0067,21.66,21.3131, 20.9659,20.4484,20.1121,19.7756,19.4389 ,19.1021,18.765,18.4279,18.0759,18.0773 ,18.0773,18.4147,18.7521,19.0893, 19.4264,19.7633,20.1001,20.4369,20.9542 ,21.3017,21.649,21.9961,22.3428,22.6894 ,23.0357,23.3818,23.7277,24.0733, 24.4187,24.7637,25.1085,25.453,25.7971, 26.141,26.4846,26.8278,27.4292,27.8376, 28.2456,28.653,29.0599,29.4662,29.872, 30.2772,30.6818,31.0858,31.4891,31.8918 ,32.2939,32.9102,33.3214,33.9482, 34.3684,35.0085,35.4373,36.0919,36.5291 ,37.0011)
FOOTPRINT_POINT_LONGITUDE = (322.93,322.175,321.568,321.22,321.245, 321.269,321.304,321.325,321.356,321.376 ,321.404,321.421,321.447,321.462, 321.478,321.493,321.507,321.521,321.535 ,321.548,321.561,321.573,321.585, 321.596,321.607,321.623,321.631,321.639 ,321.647,321.654,321.662,321.669, 321.675,321.682,321.688,321.694,321.7, 321.706,321.711,321.716,321.721,321.726 ,321.73,321.736,321.739,321.743,321.746 ,321.749,321.752,321.755,321.902, 322.383,322.768,322.981,322.983,322.985 ,322.987,322.989,322.992,322.994, 322.997,322.999,323.002,323.004,323.007 ,323.009,323.012,323.014,323.017,323.02 ,323.022,323.025,323.028,323.03,323.033 ,323.036,323.039,323.042,323.047, 323.051,323.054,323.058,323.062,323.065 ,323.069,323.073,323.077,323.081, 323.085,323.089,323.093,323.099,323.103 ,323.11,323.114,323.121,323.125,323.132 ,323.137,322.93)
ORBIT_NUMBER = 5192
ORBITAL_ECCENTRICITY = 0.573
ORBITAL_INCLINATION = 86.74
ORBITAL_SEMIMAJOR_AXIS = 8717.01
PERIAPSIS_ALTITUDE = 324.63
PERIAPSIS_ARGUMENT_ANGLE = 164.94
PERIAPSIS_TIME = 2008-01-17T06:29:00.000Z
SPACECRAFT_ORIENTATION = (0.0,-1.0,0.0)
^MEX_ORIENTATION_DESC = "MEX_ORIENTATION_DESC.TXT"
SPACECRAFT_POINTING_MODE = NADIR
^MEX_POINTING_DESC = "MEX_POINTING_DESC.TXT"
RIGHT_ASCENSION = -1e+32
DECLINATION = -1e+32
OFFSET_ANGLE = -1e+32
SPACECRAFT_SOLAR_DISTANCE = 2.39615e+08
TARGET_NAME = MARS
/* CAMERA DATA ELEMENTS */
DETECTOR_TEMPERATURE = 18.3705
FOCAL_PLANE_TEMPERATURE = 7.7677
INST_CMPRS_NAME = "DISCRETE COSINE TRANSFORMATION (DCT)"
INST_CMPRS_RATIO = 6.52752
INST_CMPRS_QUALITY = 0
INST_CMPRS_QUANTZ_TBL_ID = 0
INSTRUMENT_TEMPERATURE = 11.0301
LENS_TEMPERATURE = 8.3794
MACROPIXEL_SIZE = 1
MISSING_FRAMES = 0
PIXEL_SUBSAMPLING_FLAG = N
SIGNAL_CHAIN_ID = 0
/* RADIOMETRIC DATA ELEMENTS */
BANDWIDTH = 177.0
CENTER_FILTER_WAVELENGTH = 677.5
RADIANCE_OFFSET = 2.09061
RADIANCE_SCALING_FACTOR = 0.0131485
REFLECTANCE_SCALING_FACTOR = 0.000401037
MEX:REFLECTANCE_OFFSET = 0.0637648
/* IMAGE OBJECT DEFINITIONS */
OBJECT = IMAGE
  INTERCHANGE_FORMAT = BINARY
  LINES = 89678
  LINE_SAMPLES = 7524
  SAMPLE_TYPE = UNSIGNED_INTEGER
  SAMPLE_BITS = 8
  BANDS = 1
  BAND_STORAGE_TYPE = BAND_SEQUENTIAL
  MAXIMUM = 255
  MEAN = 110.493
  MINIMUM = 1
  STANDARD_DEVIATION = 27.1131
END_OBJECT = IMAGE
/* MAP OBJECT DEFINITIONS */
OBJECT = IMAGE_MAP_PROJECTION
  ^DATA_SET_MAP_PROJECTION_CATALOG= "DSMAP.CAT"
  A_AXIS_RADIUS = 3396.0
  B_AXIS_RADIUS = 3396.0
  C_AXIS_RADIUS = 3396.0
  CENTER_LATITUDE = 0.0
  CENTER_LONGITUDE = 322.0
  COORDINATE_SYSTEM_NAME = PLANETOGRAPHIC
  COORDINATE_SYSTEM_TYPE = "BODY-FIXED ROTATING"
  EASTERNMOST_LONGITUDE = 323.137
  FIRST_STANDARD_PARALLEL = "N/A"
  LINE_FIRST_PIXEL = 1
  LINE_LAST_PIXEL = 89678
  LINE_PROJECTION_OFFSET = 175414.0
  MAP_PROJECTION_ROTATION = 0.0
  MAP_PROJECTION_TYPE = SINUSOIDAL
  MAP_RESOLUTION = 4741.71043093333
  MAP_SCALE = 0.0125
  MAXIMUM_LATITUDE = 37.0011
  MINIMUM_LATITUDE = 18.0759
  POSITIVE_LONGITUDE_DIRECTION = EAST
  REFERENCE_LATITUDE = "N/A"
  REFERENCE_LONGITUDE = "N/A"
  SAMPLE_FIRST_PIXEL = 1
  SAMPLE_LAST_PIXEL = 7524
  SAMPLE_PROJECTION_OFFSET = 2958.0
  SECOND_STANDARD_PARALLEL = "N/A"
  WESTERNMOST_LONGITUDE = 321.22
END_OBJECT = IMAGE_MAP_PROJECTION
/* The JPEG2000 image data file associated with this label. */
OBJECT = COMPRESSED_FILE
  FILE_NAME = "H5192_0000_ND3.JP2"
  RECORD_TYPE = UNDEFINED
  FILE_RECORDS = UNK
  ENCODING_TYPE = "JP2"
  INTERCHANGE_FORMAT = BINARY
  UNCOMPRESSED_FILE_NAME = "H5192_0000_ND3.IMG"
  REQUIRED_STORAGE_BYTES = "674767368"
  ^DESCRIPTION = "JP2INFO.TXT"
END_OBJECT = COMPRESSED_FILE
END
