PDS_VERSION_ID = PDS3
/* FILE DATA ELEMENTS */
RECORD_TYPE = STREAM
/* POINTERS TO DATA OBJECTS */
^COMPRESSED_FILE = "H5192_0000_S23.JP2"
/* IDENTIFICATION DATA ELEMENTS */
DATA_SET_ID = "MEX-M-HRSC-5-REFDR-MAPPROJECTED-V3.0"
DATA_SET_NAME = "MARS EXPRESS HRSC MAP PROJECTED REFDR V3.0"
DETECTOR_ID = MEX_HRSC_S2
EVENT_TYPE = "MARS-REGIONAL-MAPPING-Im-Fl-Pf"
INSTRUMENT_HOST_ID = MEX
INSTRUMENT_HOST_NAME = "MARS EXPRESS"
INSTRUMENT_ID = HRSC
INSTRUMENT_NAME = "HIGH RESOLUTION STEREO CAMERA"
MISSION_NAME = "MARS EXPRESS"
MISSION_PHASE_NAME = ME_Phase_11
PROCESSING_LEVEL_ID = 3
PRODUCT_CREATION_TIME = 2016-04-27T02:54:28.000Z
PRODUCT_ID = "H5192_0000_S23.JP2"
RELEASE_ID = 0059
REVISION_ID = 0000
/* QUALITY DATA ELEMENTS */
DATA_QUALITY_ID = 2
DATA_QUALITY_DESC = "Data calculated based on photogrammetrically improved orbit and attitude data"
/* TIME DATA ELEMENTS */
SPACECRAFT_CLOCK_START_COUNT = "1/0148630944.08246"
SPACECRAFT_CLOCK_STOP_COUNT = "1/0148631318.08402"
START_TIME = 2008-01-17T06:23:55.311Z
STOP_TIME = 2008-01-17T06:28:39.971Z
/* ORBITAL DATA ELEMENTS */
ASCENDING_NODE_LONGITUDE = 120.1
MAXIMUM_RESOLUTION = 27.7
FOOTPRINT_POINT_LATITUDE = (36.8056,36.7996,36.7908,36.6307, 36.4109,36.191,35.7532,35.3241,34.8946, 34.4695,34.0507,33.6319,33.0028,32.5834 ,32.163,31.5333,30.9036,30.2722,29.641, 29.22,28.8271,28.2978,27.9447,27.5918, 27.239,26.8856,26.5316,26.0031,25.6507, 25.2981,24.9451,24.5922,24.2393,23.8867 ,23.5342,23.1815,22.829,22.4772,21.966, 21.6252,21.2844,20.9449,20.4342,20.094, 19.7541,19.4135,19.075,18.7359,18.405, 18.0773,18.0635,18.0634,18.0637,18.2282 ,18.5564,18.8931,19.233,19.573,19.9132, 20.2526,20.5938,20.9346,21.2747,21.6154 ,21.9559,22.2975,22.82,23.1729,23.7023, 24.0552,24.5845,24.9376,25.2909,25.6442 ,26.1743,26.5274,26.881,27.4109,27.7644 ,28.1175,28.471,28.8243,29.4257,29.8471 ,30.2684,30.9,31.532,32.163,32.5837, 33.004,33.635,34.0546,34.474,35.114, 35.5438,35.9772,36.4174,36.6378,36.8583 ,36.8056)
FOOTPRINT_POINT_LONGITUDE = (322.534,322.092,321.532,321.289,321.3, 321.312,321.333,321.354,321.374,321.393 ,321.412,321.429,321.455,321.471, 321.487,321.509,321.531,321.551,321.571 ,321.583,321.594,321.608,321.617, 321.626,321.635,321.643,321.651,321.662 ,321.669,321.676,321.683,321.689, 321.696,321.702,321.707,321.712,321.718 ,321.723,321.729,321.733,321.737, 321.741,321.746,321.749,321.752,321.755 ,321.757,321.76,321.762,321.764,322.009 ,322.3,322.697,322.97,322.972,322.973, 322.975,322.977,322.978,322.98,322.982, 322.983,322.985,322.987,322.988,322.99, 322.993,322.995,322.998,323.0,323.003, 323.005,323.008,323.01,323.013,323.015, 323.018,323.021,323.023,323.026,323.028 ,323.03,323.035,323.037,323.04,323.045, 323.049,323.054,323.057,323.06,323.064, 323.067,323.07,323.075,323.078,323.081, 323.084,323.085,323.087,322.534)
ORBIT_NUMBER = 5192
ORBITAL_ECCENTRICITY = 0.573
ORBITAL_INCLINATION = 86.74
ORBITAL_SEMIMAJOR_AXIS = 8717.01
PERIAPSIS_ALTITUDE = 324.63
PERIAPSIS_ARGUMENT_ANGLE = 164.94
PERIAPSIS_TIME = 2008-01-17T06:29:00.000Z
SPACECRAFT_ORIENTATION = (0.0,-1.0,0.0)
^MEX_ORIENTATION_DESC = "MEX_ORIENTATION_DESC.TXT"
SPACECRAFT_POINTING_MODE = NADIR
^MEX_POINTING_DESC = "MEX_POINTING_DESC.TXT"
RIGHT_ASCENSION = -1e+32
DECLINATION = -1e+32
OFFSET_ANGLE = -1e+32
SPACECRAFT_SOLAR_DISTANCE = 2.39615e+08
TARGET_NAME = MARS
/* CAMERA DATA ELEMENTS */
DETECTOR_TEMPERATURE = 18.3705
FOCAL_PLANE_TEMPERATURE = 7.7677
INST_CMPRS_NAME = "DISCRETE COSINE TRANSFORMATION (DCT)"
INST_CMPRS_RATIO = 9.23381
INST_CMPRS_QUALITY = 0
INST_CMPRS_QUANTZ_TBL_ID = 0
INSTRUMENT_TEMPERATURE = 11.0301
LENS_TEMPERATURE = 8.3794
MACROPIXEL_SIZE = 2
MISSING_FRAMES = 0
PIXEL_SUBSAMPLING_FLAG = N
SIGNAL_CHAIN_ID = 1
/* RADIOMETRIC DATA ELEMENTS */
BANDWIDTH = 178.0
CENTER_FILTER_WAVELENGTH = 679.0
RADIANCE_OFFSET = 2.45589
RADIANCE_SCALING_FACTOR = 0.013825
REFLECTANCE_SCALING_FACTOR = 0.000420359
MEX:REFLECTANCE_OFFSET = 0.0746728
/* IMAGE OBJECT DEFINITIONS */
OBJECT = IMAGE
  INTERCHANGE_FORMAT = BINARY
  LINES = 44839
  LINE_SAMPLES = 3762
  SAMPLE_TYPE = UNSIGNED_INTEGER
  SAMPLE_BITS = 8
  BANDS = 1
  BAND_STORAGE_TYPE = BAND_SEQUENTIAL
  MAXIMUM = 255
  MEAN = 116.676
  MINIMUM = 1
  STANDARD_DEVIATION = 28.2708
END_OBJECT = IMAGE
/* MAP OBJECT DEFINITIONS */
OBJECT = IMAGE_MAP_PROJECTION
  ^DATA_SET_MAP_PROJECTION_CATALOG= "DSMAP.CAT"
  A_AXIS_RADIUS = 3396.0
  B_AXIS_RADIUS = 3396.0
  C_AXIS_RADIUS = 3396.0
  CENTER_LATITUDE = 0.0
  CENTER_LONGITUDE = 322.0
  COORDINATE_SYSTEM_NAME = PLANETOGRAPHIC
  COORDINATE_SYSTEM_TYPE = "BODY-FIXED ROTATING"
  EASTERNMOST_LONGITUDE = 323.087
  FIRST_STANDARD_PARALLEL = "N/A"
  LINE_FIRST_PIXEL = 1
  LINE_LAST_PIXEL = 44839
  LINE_PROJECTION_OFFSET = 87706.75
  MAP_PROJECTION_ROTATION = 0.0
  MAP_PROJECTION_TYPE = SINUSOIDAL
  MAP_RESOLUTION = 2370.85521546667
  MAP_SCALE = 0.025
  MAXIMUM_LATITUDE = 36.8583
  MINIMUM_LATITUDE = 18.0634
  POSITIVE_LONGITUDE_DIRECTION = EAST
  REFERENCE_LATITUDE = "N/A"
  REFERENCE_LONGITUDE = "N/A"
  SAMPLE_FIRST_PIXEL = 1
  SAMPLE_LAST_PIXEL = 3762
  SAMPLE_PROJECTION_OFFSET = 1478.75
  SECOND_STANDARD_PARALLEL = "N/A"
  WESTERNMOST_LONGITUDE = 321.289
END_OBJECT = IMAGE_MAP_PROJECTION
/* The JPEG2000 image data file associated with this label. */
OBJECT = COMPRESSED_FILE
  FILE_NAME = "H5192_0000_S23.JP2"
  RECORD_TYPE = UNDEFINED
  FILE_RECORDS = UNK
  ENCODING_TYPE = "JP2"
  INTERCHANGE_FORMAT = BINARY
  UNCOMPRESSED_FILE_NAME = "H5192_0000_S23.IMG"
  REQUIRED_STORAGE_BYTES = "168706890"
  ^DESCRIPTION = "JP2INFO.TXT"
END_OBJECT = COMPRESSED_FILE
END
