PDS_VERSION_ID = PDS3
/* FILE DATA ELEMENTS */
RECORD_TYPE = STREAM
/* POINTERS TO DATA OBJECTS */
^COMPRESSED_FILE = "H5195_0000_BL3.JP2"
/* IDENTIFICATION DATA ELEMENTS */
DATA_SET_ID = "MEX-M-HRSC-5-REFDR-MAPPROJECTED-V3.0"
DATA_SET_NAME = "MARS EXPRESS HRSC MAP PROJECTED REFDR V3.0"
DETECTOR_ID = MEX_HRSC_BLUE
EVENT_TYPE = "MARS-REGIONAL-MAPPING-Im-Fl"
INSTRUMENT_HOST_ID = MEX
INSTRUMENT_HOST_NAME = "MARS EXPRESS"
INSTRUMENT_ID = HRSC
INSTRUMENT_NAME = "HIGH RESOLUTION STEREO CAMERA"
MISSION_NAME = "MARS EXPRESS"
MISSION_PHASE_NAME = ME_Phase_11
PROCESSING_LEVEL_ID = 3
PRODUCT_CREATION_TIME = 2016-04-27T02:54:28.000Z
PRODUCT_ID = "H5195_0000_BL3.JP2"
RELEASE_ID = 0059
REVISION_ID = 0000
/* QUALITY DATA ELEMENTS */
DATA_QUALITY_ID = 2
DATA_QUALITY_DESC = "Data calculated based on photogrammetrically improved orbit and attitude data"
/* TIME DATA ELEMENTS */
SPACECRAFT_CLOCK_START_COUNT = "1/0148704806.09049"
SPACECRAFT_CLOCK_STOP_COUNT = "1/0148705062.63988"
START_TIME = 2008-01-18T02:54:26.521Z
STOP_TIME = 2008-01-18T02:57:17.798Z
/* ORBITAL DATA ELEMENTS */
ASCENDING_NODE_LONGITUDE = 120.05
MAXIMUM_RESOLUTION = 113.8
FOOTPRINT_POINT_LATITUDE = (37.9656,37.9615,37.9576,37.9533, 37.9483,37.9427,37.8166,37.5796,37.3431 ,37.1111,36.8788,36.6463,36.4142, 36.1867,35.959,35.731,35.3904,35.1674, 34.9443,34.7209,34.387,34.1687,33.9502, 33.7315,33.5127,33.296,32.9755,32.7619, 32.4411,32.2271,31.8093,31.3906,31.0763 ,30.8666,30.6569,30.4469,30.2368, 30.0268,29.8164,29.6058,29.2898,29.079, 28.8681,28.657,28.4458,28.2345,28.0231, 27.8115,27.5998,27.3882,27.1764,27.0782 ,27.0817,27.0847,27.2999,27.512,27.724, 27.9359,28.1476,28.3593,28.5708,28.7822 ,28.9935,29.2046,29.4157,29.7321, 29.9428,30.1534,30.3638,30.5741,30.7842 ,30.9942,31.2041,31.4139,31.6235, 32.0422,32.3585,32.5731,32.7875,33.0017 ,33.2157,33.5399,33.7591,34.0878, 34.3065,34.5266,34.7506,34.9744,35.1981 ,35.4216,35.7632,35.9916,36.2198, 36.4478,36.6807,36.9137,37.1465,37.3791 ,37.6165,37.9656)
FOOTPRINT_POINT_LONGITUDE = (23.2712,22.8645,22.565,22.2838,22.0036 ,21.724,21.3936,21.4066,21.4191,21.4314 ,21.4435,21.4555,21.4671,21.4783, 21.4895,21.5006,21.5169,21.5274,21.5376 ,21.5478,21.5622,21.5716,21.5811, 21.5903,21.5991,21.6081,21.6206,21.6274 ,21.6369,21.6449,21.6597,21.6762, 21.6879,21.6947,21.7014,21.7081,21.7146 ,21.7202,21.7264,21.7332,21.7425, 21.7482,21.754,21.7596,21.7651,21.7704, 21.7758,21.7811,21.7863,21.7904,21.7943 ,22.1311,22.4925,22.9473,23.1797, 23.1818,23.1836,23.186,23.1881,23.1906, 23.1924,23.1943,23.1962,23.1983,23.2009 ,23.2054,23.2076,23.2093,23.2114, 23.2133,23.2153,23.2171,23.2193,23.2217 ,23.2247,23.2281,23.2311,23.2336, 23.2354,23.2378,23.2394,23.244,23.2464, 23.2514,23.2532,23.2562,23.2589,23.262, 23.2657,23.2689,23.2744,23.2769,23.2796 ,23.2827,23.2861,23.2884,23.2911, 23.2937,23.2968,23.2712)
ORBIT_NUMBER = 5195
ORBITAL_ECCENTRICITY = 0.574
ORBITAL_INCLINATION = 86.72
ORBITAL_SEMIMAJOR_AXIS = 8723.79
PERIAPSIS_ALTITUDE = 324.8
PERIAPSIS_ARGUMENT_ANGLE = 164.42
PERIAPSIS_TIME = 2008-01-18T03:00:14.000Z
SPACECRAFT_ORIENTATION = (0.0,-1.0,0.0)
^MEX_ORIENTATION_DESC = "MEX_ORIENTATION_DESC.TXT"
SPACECRAFT_POINTING_MODE = ACROSSTRACK
^MEX_POINTING_DESC = "MEX_POINTING_DESC.TXT"
RIGHT_ASCENSION = -1e+32
DECLINATION = -1e+32
OFFSET_ANGLE = 0.24
SPACECRAFT_SOLAR_DISTANCE = 2.39747e+08
TARGET_NAME = MARS
/* CAMERA DATA ELEMENTS */
DETECTOR_TEMPERATURE = 18.1666
FOCAL_PLANE_TEMPERATURE = 7.5638
INST_CMPRS_NAME = "DISCRETE COSINE TRANSFORMATION (DCT)"
INST_CMPRS_RATIO = 9.95697
INST_CMPRS_QUALITY = 0
INST_CMPRS_QUANTZ_TBL_ID = 0
INSTRUMENT_TEMPERATURE = 11.0301
LENS_TEMPERATURE = 8.1755
MACROPIXEL_SIZE = 8
MISSING_FRAMES = 0
PIXEL_SUBSAMPLING_FLAG = N
SIGNAL_CHAIN_ID = 2
/* RADIOMETRIC DATA ELEMENTS */
BANDWIDTH = 76.0
CENTER_FILTER_WAVELENGTH = 444.0
RADIANCE_OFFSET = 0.319337
RADIANCE_SCALING_FACTOR = 0.00202455
REFLECTANCE_SCALING_FACTOR = 0.000119561
MEX:REFLECTANCE_OFFSET = 0.0188585
/* IMAGE OBJECT DEFINITIONS */
OBJECT = IMAGE
  INTERCHANGE_FORMAT = BINARY
  LINES = 6453
  LINE_SAMPLES = 958
  SAMPLE_TYPE = UNSIGNED_INTEGER
  SAMPLE_BITS = 8
  BANDS = 1
  BAND_STORAGE_TYPE = BAND_SEQUENTIAL
  MAXIMUM = 255
  MEAN = 146.732
  MINIMUM = 1
  STANDARD_DEVIATION = 25.6655
END_OBJECT = IMAGE
/* MAP OBJECT DEFINITIONS */
OBJECT = IMAGE_MAP_PROJECTION
  ^DATA_SET_MAP_PROJECTION_CATALOG= "DSMAP.CAT"
  A_AXIS_RADIUS = 3396.0
  B_AXIS_RADIUS = 3396.0
  C_AXIS_RADIUS = 3396.0
  CENTER_LATITUDE = 0.0
  CENTER_LONGITUDE = 22.0
  COORDINATE_SYSTEM_NAME = PLANETOGRAPHIC
  COORDINATE_SYSTEM_TYPE = "BODY-FIXED ROTATING"
  EASTERNMOST_LONGITUDE = 23.2968
  FIRST_STANDARD_PARALLEL = "N/A"
  LINE_FIRST_PIXEL = 1
  LINE_LAST_PIXEL = 6453
  LINE_PROJECTION_OFFSET = 22522.3125
  MAP_PROJECTION_ROTATION = 0.0
  MAP_PROJECTION_TYPE = SINUSOIDAL
  MAP_RESOLUTION = 592.713803866667
  MAP_SCALE = 0.1
  MAXIMUM_LATITUDE = 37.9656
  MINIMUM_LATITUDE = 27.0782
  POSITIVE_LONGITUDE_DIRECTION = EAST
  REFERENCE_LATITUDE = "N/A"
  REFERENCE_LONGITUDE = "N/A"
  SAMPLE_FIRST_PIXEL = 1
  SAMPLE_LAST_PIXEL = 958
  SAMPLE_PROJECTION_OFFSET = 306.1875
  SECOND_STANDARD_PARALLEL = "N/A"
  WESTERNMOST_LONGITUDE = 21.3936
END_OBJECT = IMAGE_MAP_PROJECTION
/* The JPEG2000 image data file associated with this label. */
OBJECT = COMPRESSED_FILE
  FILE_NAME = "H5195_0000_BL3.JP2"
  RECORD_TYPE = UNDEFINED
  FILE_RECORDS = UNK
  ENCODING_TYPE = "JP2"
  INTERCHANGE_FORMAT = BINARY
  UNCOMPRESSED_FILE_NAME = "H5195_0000_BL3.IMG"
  REQUIRED_STORAGE_BYTES = "6200176"
  ^DESCRIPTION = "JP2INFO.TXT"
END_OBJECT = COMPRESSED_FILE
END
