PDS_VERSION_ID = PDS3
/* FILE DATA ELEMENTS */
RECORD_TYPE = STREAM
/* POINTERS TO DATA OBJECTS */
^COMPRESSED_FILE = "H5196_0000_P13.JP2"
/* IDENTIFICATION DATA ELEMENTS */
DATA_SET_ID = "MEX-M-HRSC-5-REFDR-MAPPROJECTED-V3.0"
DATA_SET_NAME = "MARS EXPRESS HRSC MAP PROJECTED REFDR V3.0"
DETECTOR_ID = MEX_HRSC_P1
EVENT_TYPE = "MARS-REGIONAL-MAPPING-Fl-Lc-La"
INSTRUMENT_HOST_ID = MEX
INSTRUMENT_HOST_NAME = "MARS EXPRESS"
INSTRUMENT_ID = HRSC
INSTRUMENT_NAME = "HIGH RESOLUTION STEREO CAMERA"
MISSION_NAME = "MARS EXPRESS"
MISSION_PHASE_NAME = ME_Phase_11
PROCESSING_LEVEL_ID = 3
PRODUCT_CREATION_TIME = 2016-04-27T02:54:28.000Z
PRODUCT_ID = "H5196_0000_P13.JP2"
RELEASE_ID = 0059
REVISION_ID = 0000
/* QUALITY DATA ELEMENTS */
DATA_QUALITY_ID = 2
DATA_QUALITY_DESC = "Data calculated based on photogrammetrically improved orbit and attitude data"
/* TIME DATA ELEMENTS */
SPACECRAFT_CLOCK_START_COUNT = "1/0148730062.09067"
SPACECRAFT_CLOCK_STOP_COUNT = "1/0148730377.00976"
START_TIME = 2008-01-18T09:54:36.460Z
STOP_TIME = 2008-01-18T09:58:18.215Z
/* ORBITAL DATA ELEMENTS */
ASCENDING_NODE_LONGITUDE = 120.02
MAXIMUM_RESOLUTION = 30.8
FOOTPRINT_POINT_LATITUDE = (-1.16927,-1.17217,-1.15412,-1.40055, -1.64668,-2.01551,-2.26137,-2.50676, -2.75187,-2.99801,-3.24401,-3.61226, -3.85794,-4.10278,-4.3479,-4.62916, -4.92155,-5.36008,-5.65725,-6.09272, -6.38068,-6.67241,-6.96576,-7.42977, -7.73488,-8.02335,-8.44667,-8.8957, -9.15733,-9.58579,-9.86969,-10.31, -10.6058,-10.9003,-11.3486,-11.651, -12.1048,-12.4113,-12.7212,-13.1851, -13.5008,-13.8164,-14.1323,-14.4517, -14.7736,-15.0952,-15.4224,-15.4732, -15.4769,-15.4752,-15.4756,-15.4755, -15.4756,-15.3108,-14.9853,-14.6628, -14.3405,-14.0235,-13.7107,-13.394, -12.9264,-12.6165,-12.152,-11.8496, -11.5469,-11.093,-10.797,-10.5012, -10.205,-9.91085,-9.49629,-9.22342, -8.93922,-8.6466,-8.35697,-8.06536, -7.75819,-7.44363,-7.15092,-6.85939, -6.4223,-5.98354,-5.69203,-5.26102, -4.9604,-4.66783,-4.37894,-4.13351, -3.88763,-3.64193,-3.39538,-3.15713, -2.91182,-2.6657,-2.41677,-2.16828, -1.92302,-1.45134,-1.19668,-1.16927)
FOOTPRINT_POINT_LONGITUDE = (282.129,281.554,281.175,281.17,281.166 ,281.159,281.154,281.15,281.145,281.14, 281.135,281.127,281.122,281.117,281.111 ,281.105,281.098,281.088,281.078, 281.069,281.064,281.056,281.048,281.022 ,281.007,281.0,280.994,280.975,280.982, 280.972,280.966,280.954,280.946,280.937 ,280.924,280.915,280.9,280.891,280.88, 280.865,280.854,280.844,280.833,280.822 ,280.811,280.8,280.788,281.018,281.392, 281.659,281.907,282.155,282.42,282.618, 282.612,282.607,282.602,282.597,282.593 ,282.588,282.581,282.576,282.569, 282.565,282.561,282.556,282.552,282.548 ,282.545,282.542,282.542,282.543, 282.541,282.537,282.535,282.532,282.525 ,282.517,282.514,282.512,282.508, 282.505,282.503,282.501,282.498,282.496 ,282.494,282.493,282.491,282.49,282.489 ,282.489,282.488,282.487,282.485, 282.484,282.483,282.486,282.483, 282.129)
ORBIT_NUMBER = 5196
ORBITAL_ECCENTRICITY = 0.574
ORBITAL_INCLINATION = 86.73
ORBITAL_SEMIMAJOR_AXIS = 8726.85
PERIAPSIS_ALTITUDE = 324.56
PERIAPSIS_ARGUMENT_ANGLE = 164.25
PERIAPSIS_TIME = 2008-01-18T09:50:43.000Z
SPACECRAFT_ORIENTATION = (0.0,-1.0,0.0)
^MEX_ORIENTATION_DESC = "MEX_ORIENTATION_DESC.TXT"
SPACECRAFT_POINTING_MODE = ACROSSTRACK
^MEX_POINTING_DESC = "MEX_POINTING_DESC.TXT"
RIGHT_ASCENSION = -1e+32
DECLINATION = -1e+32
OFFSET_ANGLE = -0.28
SPACECRAFT_SOLAR_DISTANCE = 2.39791e+08
TARGET_NAME = MARS
/* CAMERA DATA ELEMENTS */
DETECTOR_TEMPERATURE = 17.351
FOCAL_PLANE_TEMPERATURE = 7.9716
INST_CMPRS_NAME = "DISCRETE COSINE TRANSFORMATION (DCT)"
INST_CMPRS_RATIO = 14.6429
INST_CMPRS_QUALITY = 0
INST_CMPRS_QUANTZ_TBL_ID = 0
INSTRUMENT_TEMPERATURE = 11.0301
LENS_TEMPERATURE = 7.9716
MACROPIXEL_SIZE = 2
MISSING_FRAMES = 0
PIXEL_SUBSAMPLING_FLAG = N
SIGNAL_CHAIN_ID = 3
/* RADIOMETRIC DATA ELEMENTS */
BANDWIDTH = 174.0
CENTER_FILTER_WAVELENGTH = 675.0
RADIANCE_OFFSET = 2.13406
RADIANCE_SCALING_FACTOR = 0.0222535
REFLECTANCE_SCALING_FACTOR = 0.000688254
MEX:REFLECTANCE_OFFSET = 0.0660018
/* IMAGE OBJECT DEFINITIONS */
OBJECT = IMAGE
  INTERCHANGE_FORMAT = BINARY
  LINES = 33735
  LINE_SAMPLES = 4507
  SAMPLE_TYPE = UNSIGNED_INTEGER
  SAMPLE_BITS = 8
  BANDS = 1
  BAND_STORAGE_TYPE = BAND_SEQUENTIAL
  MAXIMUM = 255
  MEAN = 96.7419
  MINIMUM = 1
  STANDARD_DEVIATION = 29.5689
END_OBJECT = IMAGE
/* MAP OBJECT DEFINITIONS */
OBJECT = IMAGE_MAP_PROJECTION
  ^DATA_SET_MAP_PROJECTION_CATALOG= "DSMAP.CAT"
  A_AXIS_RADIUS = 3396.0
  B_AXIS_RADIUS = 3396.0
  C_AXIS_RADIUS = 3396.0
  CENTER_LATITUDE = 0.0
  CENTER_LONGITUDE = 282.0
  COORDINATE_SYSTEM_NAME = PLANETOGRAPHIC
  COORDINATE_SYSTEM_TYPE = "BODY-FIXED ROTATING"
  EASTERNMOST_LONGITUDE = 282.618
  FIRST_STANDARD_PARALLEL = "N/A"
  LINE_FIRST_PIXEL = 1
  LINE_LAST_PIXEL = 33735
  LINE_PROJECTION_OFFSET = -2532.75
  MAP_PROJECTION_ROTATION = 0.0
  MAP_PROJECTION_TYPE = SINUSOIDAL
  MAP_RESOLUTION = 2370.85521546667
  MAP_SCALE = 0.025
  MAXIMUM_LATITUDE = -1.15412
  MINIMUM_LATITUDE = -15.4769
  POSITIVE_LONGITUDE_DIRECTION = EAST
  REFERENCE_LATITUDE = "N/A"
  REFERENCE_LONGITUDE = "N/A"
  SAMPLE_FIRST_PIXEL = 1
  SAMPLE_LAST_PIXEL = 4507
  SAMPLE_PROJECTION_OFFSET = 2948.75
  SECOND_STANDARD_PARALLEL = "N/A"
  WESTERNMOST_LONGITUDE = 280.788
END_OBJECT = IMAGE_MAP_PROJECTION
/* The JPEG2000 image data file associated with this label. */
OBJECT = COMPRESSED_FILE
  FILE_NAME = "H5196_0000_P13.JP2"
  RECORD_TYPE = UNDEFINED
  FILE_RECORDS = UNK
  ENCODING_TYPE = "JP2"
  INTERCHANGE_FORMAT = BINARY
  UNCOMPRESSED_FILE_NAME = "H5196_0000_P13.IMG"
  REQUIRED_STORAGE_BYTES = "152070687"
  ^DESCRIPTION = "JP2INFO.TXT"
END_OBJECT = COMPRESSED_FILE
END
