PDS_VERSION_ID = PDS3
/* FILE DATA ELEMENTS */
RECORD_TYPE = STREAM
/* POINTERS TO DATA OBJECTS */
^COMPRESSED_FILE = "H5196_0000_RE3.JP2"
/* IDENTIFICATION DATA ELEMENTS */
DATA_SET_ID = "MEX-M-HRSC-5-REFDR-MAPPROJECTED-V3.0"
DATA_SET_NAME = "MARS EXPRESS HRSC MAP PROJECTED REFDR V3.0"
DETECTOR_ID = MEX_HRSC_RED
EVENT_TYPE = "MARS-REGIONAL-MAPPING-Fl-Lc-La"
INSTRUMENT_HOST_ID = MEX
INSTRUMENT_HOST_NAME = "MARS EXPRESS"
INSTRUMENT_ID = HRSC
INSTRUMENT_NAME = "HIGH RESOLUTION STEREO CAMERA"
MISSION_NAME = "MARS EXPRESS"
MISSION_PHASE_NAME = ME_Phase_11
PROCESSING_LEVEL_ID = 3
PRODUCT_CREATION_TIME = 2016-04-27T02:54:28.000Z
PRODUCT_ID = "H5196_0000_RE3.JP2"
RELEASE_ID = 0059
REVISION_ID = 0000
/* QUALITY DATA ELEMENTS */
DATA_QUALITY_ID = 2
DATA_QUALITY_DESC = "Data calculated based on photogrammetrically improved orbit and attitude data"
/* TIME DATA ELEMENTS */
SPACECRAFT_CLOCK_START_COUNT = "1/0148730062.09067"
SPACECRAFT_CLOCK_STOP_COUNT = "1/0148730377.00976"
START_TIME = 2008-01-18T09:55:25.550Z
STOP_TIME = 2008-01-18T09:59:29.373Z
/* ORBITAL DATA ELEMENTS */
ASCENDING_NODE_LONGITUDE = 120.02
MAXIMUM_RESOLUTION = 128.9
FOOTPRINT_POINT_LATITUDE = (-0.992245,-0.985831,-0.977353, -0.984111,-1.39338,-1.66672,-1.93896, -2.34825,-2.75622,-3.02702,-3.29693, -3.56678,-3.83572,-4.23926,-4.50718, -4.7745,-5.0396,-5.30726,-5.57323, -5.96348,-6.23402,-6.50829,-6.77838, -7.04629,-7.30661,-7.56097,-7.83381, -8.10833,-8.39832,-8.66209,-9.10377, -9.40215,-9.82909,-10.1149,-10.4048, -10.694,-10.9857,-11.2807,-11.5738, -11.8702,-12.1691,-12.619,-12.9213, -13.224,-13.5319,-13.8386,-14.1496, -14.4615,-14.7762,-15.1035,-15.1113, -15.1152,-15.1226,-15.1258,-14.8099, -14.3397,-14.0267,-13.7161,-13.409, -12.9514,-12.6499,-12.201,-11.9021, -11.6056,-11.3118,-10.8712,-10.5824, -10.2928,-9.8522,-9.55929,-9.26641, -8.97626,-8.69846,-8.41831,-8.00322, -7.48678,-7.21255,-6.94357,-6.67374, -6.40227,-6.12575,-5.86901,-5.6037, -5.33372,-4.93874,-4.67147,-4.40396, -4.13575,-3.86713,-3.4644,-3.18802, -2.91661,-2.64613,-2.37724,-2.10566, -1.83241,-1.5451,-1.27518,-1.00952, -0.992245)
FOOTPRINT_POINT_LONGITUDE = (282.193,281.853,281.448,281.168, 281.163,281.157,281.151,281.142,281.134 ,281.127,281.121,281.115,281.108, 281.098,281.091,281.085,281.077,281.07, 281.063,281.048,281.043,281.038,281.03, 281.021,281.007,280.986,280.977,280.968 ,280.966,280.948,280.948,280.946, 280.932,280.923,280.913,280.904,280.894 ,280.884,280.873,280.863,280.852, 280.835,280.823,280.812,280.8,280.787, 280.775,280.762,280.75,281.013,281.402, 281.697,282.177,282.704,282.696,282.685 ,282.678,282.672,282.665,282.656, 282.649,282.64,282.634,282.628,282.623, 282.615,282.61,282.605,282.601,282.599, 282.597,282.596,282.591,282.587,282.581 ,282.563,282.56,282.556,282.553,282.55, 282.548,282.543,282.54,282.539,282.533, 282.53,282.528,282.525,282.523,282.519, 282.518,282.516,282.514,282.511,282.509 ,282.507,282.509,282.507,282.504, 282.193)
ORBIT_NUMBER = 5196
ORBITAL_ECCENTRICITY = 0.574
ORBITAL_INCLINATION = 86.73
ORBITAL_SEMIMAJOR_AXIS = 8726.85
PERIAPSIS_ALTITUDE = 324.56
PERIAPSIS_ARGUMENT_ANGLE = 164.25
PERIAPSIS_TIME = 2008-01-18T09:50:43.000Z
SPACECRAFT_ORIENTATION = (0.0,-1.0,0.0)
^MEX_ORIENTATION_DESC = "MEX_ORIENTATION_DESC.TXT"
SPACECRAFT_POINTING_MODE = ACROSSTRACK
^MEX_POINTING_DESC = "MEX_POINTING_DESC.TXT"
RIGHT_ASCENSION = -1e+32
DECLINATION = -1e+32
OFFSET_ANGLE = -0.28
SPACECRAFT_SOLAR_DISTANCE = 2.39791e+08
TARGET_NAME = MARS
/* CAMERA DATA ELEMENTS */
DETECTOR_TEMPERATURE = 18.3705
FOCAL_PLANE_TEMPERATURE = 7.9716
INST_CMPRS_NAME = "DISCRETE COSINE TRANSFORMATION (DCT)"
INST_CMPRS_RATIO = 13.5976
INST_CMPRS_QUALITY = 0
INST_CMPRS_QUANTZ_TBL_ID = 0
INSTRUMENT_TEMPERATURE = 11.0301
LENS_TEMPERATURE = 7.9716
MACROPIXEL_SIZE = 8
MISSING_FRAMES = 0
PIXEL_SUBSAMPLING_FLAG = N
SIGNAL_CHAIN_ID = 2
/* RADIOMETRIC DATA ELEMENTS */
BANDWIDTH = 48.0
CENTER_FILTER_WAVELENGTH = 748.0
RADIANCE_OFFSET = 0.5049
RADIANCE_SCALING_FACTOR = 0.00664258
REFLECTANCE_SCALING_FACTOR = 0.000871626
MEX:REFLECTANCE_OFFSET = 0.066252
/* IMAGE OBJECT DEFINITIONS */
OBJECT = IMAGE
  INTERCHANGE_FORMAT = BINARY
  LINES = 8434
  LINE_SAMPLES = 1127
  SAMPLE_TYPE = UNSIGNED_INTEGER
  SAMPLE_BITS = 8
  BANDS = 1
  BAND_STORAGE_TYPE = BAND_SEQUENTIAL
  MAXIMUM = 255
  MEAN = 94.0837
  MINIMUM = 1
  STANDARD_DEVIATION = 31.1981
END_OBJECT = IMAGE
/* MAP OBJECT DEFINITIONS */
OBJECT = IMAGE_MAP_PROJECTION
  ^DATA_SET_MAP_PROJECTION_CATALOG= "DSMAP.CAT"
  A_AXIS_RADIUS = 3396.0
  B_AXIS_RADIUS = 3396.0
  C_AXIS_RADIUS = 3396.0
  CENTER_LATITUDE = 0.0
  CENTER_LONGITUDE = 282.0
  COORDINATE_SYSTEM_NAME = PLANETOGRAPHIC
  COORDINATE_SYSTEM_TYPE = "BODY-FIXED ROTATING"
  EASTERNMOST_LONGITUDE = 282.704
  FIRST_STANDARD_PARALLEL = "N/A"
  LINE_FIRST_PIXEL = 1
  LINE_LAST_PIXEL = 8434
  LINE_PROJECTION_OFFSET = -633.5625
  MAP_PROJECTION_ROTATION = 0.0
  MAP_PROJECTION_TYPE = SINUSOIDAL
  MAP_RESOLUTION = 592.713803866667
  MAP_SCALE = 0.1
  MAXIMUM_LATITUDE = -0.977353
  MINIMUM_LATITUDE = -15.1258
  POSITIVE_LONGITUDE_DIRECTION = EAST
  REFERENCE_LATITUDE = "N/A"
  REFERENCE_LONGITUDE = "N/A"
  SAMPLE_FIRST_PIXEL = 1
  SAMPLE_LAST_PIXEL = 1127
  SAMPLE_PROJECTION_OFFSET = 736.8125
  SECOND_STANDARD_PARALLEL = "N/A"
  WESTERNMOST_LONGITUDE = 280.75
END_OBJECT = IMAGE_MAP_PROJECTION
/* The JPEG2000 image data file associated with this label. */
OBJECT = COMPRESSED_FILE
  FILE_NAME = "H5196_0000_RE3.JP2"
  RECORD_TYPE = UNDEFINED
  FILE_RECORDS = UNK
  ENCODING_TYPE = "JP2"
  INTERCHANGE_FORMAT = BINARY
  UNCOMPRESSED_FILE_NAME = "H5196_0000_RE3.IMG"
  REQUIRED_STORAGE_BYTES = "9524277"
  ^DESCRIPTION = "JP2INFO.TXT"
END_OBJECT = COMPRESSED_FILE
END
