PDS_VERSION_ID = PDS3
/* FILE DATA ELEMENTS */
RECORD_TYPE = STREAM
/* POINTERS TO DATA OBJECTS */
^COMPRESSED_FILE = "H5199_0000_S13.JP2"
/* IDENTIFICATION DATA ELEMENTS */
DATA_SET_ID = "MEX-M-HRSC-5-REFDR-MAPPROJECTED-V3.0"
DATA_SET_NAME = "MARS EXPRESS HRSC MAP PROJECTED REFDR V3.0"
DETECTOR_ID = MEX_HRSC_S1
EVENT_TYPE = "MARS-LOCAL-STEREO-Fl-Eb-Tc"
INSTRUMENT_HOST_ID = MEX
INSTRUMENT_HOST_NAME = "MARS EXPRESS"
INSTRUMENT_ID = HRSC
INSTRUMENT_NAME = "HIGH RESOLUTION STEREO CAMERA"
MISSION_NAME = "MARS EXPRESS"
MISSION_PHASE_NAME = ME_Phase_11
PROCESSING_LEVEL_ID = 3
PRODUCT_CREATION_TIME = 2016-04-27T02:54:28.000Z
PRODUCT_ID = "H5199_0000_S13.JP2"
RELEASE_ID = 0059
REVISION_ID = 0000
/* QUALITY DATA ELEMENTS */
DATA_QUALITY_ID = 1
DATA_QUALITY_DESC = "Data calculated based on original SPICE kernels"
/* TIME DATA ELEMENTS */
SPACECRAFT_CLOCK_START_COUNT = "1/0148803559.08428"
SPACECRAFT_CLOCK_STOP_COUNT = "1/0148803751.26236"
START_TIME = 2008-01-19T06:19:22.954Z
STOP_TIME = 2008-01-19T06:21:34.710Z
/* ORBITAL DATA ELEMENTS */
ASCENDING_NODE_LONGITUDE = 119.97
MAXIMUM_RESOLUTION = 14.4
FOOTPRINT_POINT_LATITUDE = (23.3804,23.3803,23.3793,23.3778, 23.3757,23.3208,23.07,22.9021,22.7357, 22.571,22.4052,22.2377,21.9887,21.7357, 21.5661,21.3989,21.2318,21.0559,20.7976 ,20.6284,20.3753,20.2143,20.0462, 19.8752,19.7044,19.5343,19.3635,19.1934 ,19.0214,18.8527,18.5972,18.4265,18.256 ,18.0845,17.9129,17.7415,17.5701, 17.3143,17.0652,16.8988,16.7325,16.5659 ,16.3996,16.232,16.0632,15.8987,15.6482 ,15.4811,15.3138,15.1471,14.8971, 14.8912,14.8906,14.8892,15.1403,15.3083 ,15.4759,15.6436,15.811,15.9792,16.1466 ,16.3132,16.4801,16.7303,16.8977, 17.0641,17.23,17.3941,17.563,17.7286, 17.8995,18.0709,18.3304,18.5092,18.7652 ,18.9363,19.1064,19.277,19.5327,19.7892 ,19.9604,20.1312,20.3014,20.4713, 20.6302,20.8806,21.0491,21.3087,21.4847 ,21.6515,21.82,21.9875,22.1533,22.3183, 22.4887,22.6597,22.8292,22.9974,23.1625 ,23.3804)
FOOTPRINT_POINT_LONGITUDE = (342.648,342.421,342.115,341.902, 341.675,341.429,341.434,341.437,341.44, 341.443,341.447,341.449,341.454,341.458 ,341.46,341.463,341.466,341.466,341.468 ,341.471,341.474,341.478,341.481, 341.482,341.484,341.486,341.487,341.489 ,341.491,341.493,341.495,341.497, 341.498,341.5,341.501,341.502,341.503, 341.505,341.507,341.508,341.509,341.51, 341.511,341.511,341.511,341.513,341.514 ,341.515,341.515,341.516,341.517, 341.904,342.413,342.619,342.747,342.748 ,342.749,342.75,342.751,342.751,342.752 ,342.753,342.754,342.756,342.757, 342.758,342.759,342.761,342.762,342.765 ,342.767,342.768,342.769,342.768,342.77 ,342.771,342.772,342.773,342.775, 342.777,342.778,342.779,342.78,342.781, 342.786,342.789,342.79,342.791,342.79, 342.792,342.794,342.795,342.797,342.8, 342.801,342.801,342.802,342.804,342.806 ,342.648)
ORBIT_NUMBER = 5199
ORBITAL_ECCENTRICITY = 0.573
ORBITAL_INCLINATION = 86.74
ORBITAL_SEMIMAJOR_AXIS = 8716.75
PERIAPSIS_ALTITUDE = 325.41
PERIAPSIS_ARGUMENT_ANGLE = 163.69
PERIAPSIS_TIME = 2008-01-19T06:21:49.000Z
SPACECRAFT_ORIENTATION = (0.0,-1.0,0.0)
^MEX_ORIENTATION_DESC = "MEX_ORIENTATION_DESC.TXT"
SPACECRAFT_POINTING_MODE = NADIR
^MEX_POINTING_DESC = "MEX_POINTING_DESC.TXT"
RIGHT_ASCENSION = -1e+32
DECLINATION = -1e+32
OFFSET_ANGLE = -1e+32
SPACECRAFT_SOLAR_DISTANCE = 2.39922e+08
TARGET_NAME = MARS
/* CAMERA DATA ELEMENTS */
DETECTOR_TEMPERATURE = 17.1471
FOCAL_PLANE_TEMPERATURE = 8.3794
INST_CMPRS_NAME = "DISCRETE COSINE TRANSFORMATION (DCT)"
INST_CMPRS_RATIO = 6.21032
INST_CMPRS_QUALITY = 0
INST_CMPRS_QUANTZ_TBL_ID = 0
INSTRUMENT_TEMPERATURE = 11.0301
LENS_TEMPERATURE = 8.5833
MACROPIXEL_SIZE = 1
MISSING_FRAMES = 0
PIXEL_SUBSAMPLING_FLAG = N
SIGNAL_CHAIN_ID = 2
/* RADIOMETRIC DATA ELEMENTS */
BANDWIDTH = 180.0
CENTER_FILTER_WAVELENGTH = 677.0
RADIANCE_OFFSET = 2.48498
RADIANCE_SCALING_FACTOR = 0.0219263
REFLECTANCE_SCALING_FACTOR = 0.000658486
MEX:REFLECTANCE_OFFSET = 0.0746284
/* IMAGE OBJECT DEFINITIONS */
OBJECT = IMAGE
  INTERCHANGE_FORMAT = BINARY
  LINES = 39740
  LINE_SAMPLES = 5947
  SAMPLE_TYPE = UNSIGNED_INTEGER
  SAMPLE_BITS = 8
  BANDS = 1
  BAND_STORAGE_TYPE = BAND_SEQUENTIAL
  MAXIMUM = 255
  MEAN = 114.613
  MINIMUM = 1
  STANDARD_DEVIATION = 39.7923
END_OBJECT = IMAGE
/* MAP OBJECT DEFINITIONS */
OBJECT = IMAGE_MAP_PROJECTION
  ^DATA_SET_MAP_PROJECTION_CATALOG= "DSMAP.CAT"
  A_AXIS_RADIUS = 3396.0
  B_AXIS_RADIUS = 3396.0
  C_AXIS_RADIUS = 3396.0
  CENTER_LATITUDE = 0.0
  CENTER_LONGITUDE = 342.0
  COORDINATE_SYSTEM_NAME = PLANETOGRAPHIC
  COORDINATE_SYSTEM_TYPE = "BODY-FIXED ROTATING"
  EASTERNMOST_LONGITUDE = 342.806
  FIRST_STANDARD_PARALLEL = "N/A"
  LINE_FIRST_PIXEL = 1
  LINE_LAST_PIXEL = 39740
  LINE_PROJECTION_OFFSET = 110490.0
  MAP_PROJECTION_ROTATION = 0.0
  MAP_PROJECTION_TYPE = SINUSOIDAL
  MAP_RESOLUTION = 4741.71043093333
  MAP_SCALE = 0.0125
  MAXIMUM_LATITUDE = 23.3804
  MINIMUM_LATITUDE = 14.8892
  POSITIVE_LONGITUDE_DIRECTION = EAST
  REFERENCE_LATITUDE = "N/A"
  REFERENCE_LONGITUDE = "N/A"
  SAMPLE_FIRST_PIXEL = 1
  SAMPLE_LAST_PIXEL = 5947
  SAMPLE_PROJECTION_OFFSET = 2464.0
  SECOND_STANDARD_PARALLEL = "N/A"
  WESTERNMOST_LONGITUDE = 341.429
END_OBJECT = IMAGE_MAP_PROJECTION
/* The JPEG2000 image data file associated with this label. */
OBJECT = COMPRESSED_FILE
  FILE_NAME = "H5199_0000_S13.JP2"
  RECORD_TYPE = UNDEFINED
  FILE_RECORDS = UNK
  ENCODING_TYPE = "JP2"
  INTERCHANGE_FORMAT = BINARY
  UNCOMPRESSED_FILE_NAME = "H5199_0000_S13.IMG"
  REQUIRED_STORAGE_BYTES = "236363515"
  ^DESCRIPTION = "JP2INFO.TXT"
END_OBJECT = COMPRESSED_FILE
END
