PDS_VERSION_ID = PDS3
/* FILE DATA ELEMENTS */
RECORD_TYPE = STREAM
/* POINTERS TO DATA OBJECTS */
^COMPRESSED_FILE = "H5201_0000_P13.JP2"
/* IDENTIFICATION DATA ELEMENTS */
DATA_SET_ID = "MEX-M-HRSC-5-REFDR-MAPPROJECTED-V3.0"
DATA_SET_NAME = "MARS EXPRESS HRSC MAP PROJECTED REFDR V3.0"
DETECTOR_ID = MEX_HRSC_P1
EVENT_TYPE = "MARS-REGIONAL-MAPPING-Vo-Eo-La"
INSTRUMENT_HOST_ID = MEX
INSTRUMENT_HOST_NAME = "MARS EXPRESS"
INSTRUMENT_ID = HRSC
INSTRUMENT_NAME = "HIGH RESOLUTION STEREO CAMERA"
MISSION_NAME = "MARS EXPRESS"
MISSION_PHASE_NAME = ME_Phase_11
PROCESSING_LEVEL_ID = 3
PRODUCT_CREATION_TIME = 2016-05-13T12:18:58.000Z
PRODUCT_ID = "H5201_0000_P13.JP2"
RELEASE_ID = 0060
REVISION_ID = 0000
/* QUALITY DATA ELEMENTS */
DATA_QUALITY_ID = 2
DATA_QUALITY_DESC = "Data calculated based on photogrammetrically improved orbit and attitude data"
/* TIME DATA ELEMENTS */
SPACECRAFT_CLOCK_START_COUNT = "1/0148853042.09078"
SPACECRAFT_CLOCK_STOP_COUNT = "1/0148853299.17975"
START_TIME = 2008-01-19T20:04:15.873Z
STOP_TIME = 2008-01-19T20:07:24.341Z
/* ORBITAL DATA ELEMENTS */
ASCENDING_NODE_LONGITUDE = 119.92
MAXIMUM_RESOLUTION = 56.2
FOOTPRINT_POINT_LATITUDE = (9.1588,9.16011,9.16102,9.16164,9.16201 ,9.01528,8.77806,8.42881,8.18966, 7.95076,7.71198,7.47362,7.11579,6.87702 ,6.63863,6.4002,6.0427,5.67369,5.42709, 5.18046,4.93422,4.56413,4.31743,4.0703, 3.70008,3.45379,3.20789,2.96217,2.71545 ,2.46836,2.09919,1.7255,1.47087,1.21663 ,0.962132,0.580218,0.197996,-0.183019, -0.437117,-0.691358,-0.945558,-1.19934, -1.45301,-1.70647,-1.95597,-2.2119, -2.58777,-2.84517,-3.09356,-3.26803, -3.26897,-3.27168,-3.27759,-3.27124, -3.27231,-3.02369,-2.64728,-2.26969, -2.01654,-1.63606,-1.38215,-1.12797, -0.874366,-0.620358,-0.239199,0.015227, 0.270357,0.52428,0.778822,1.16115, 1.41604,1.67076,1.92229,2.29174,2.53802 ,2.78728,3.03155,3.27788,3.52506, 3.77214,4.01883,4.26565,4.51244,4.7594, 5.00625,5.37642,5.62333,5.99347,6.23213 ,6.58917,6.94779,7.18655,7.42503, 7.66373,7.90228,8.14116,8.38021,8.73823 ,8.97634,9.1588)
FOOTPRINT_POINT_LONGITUDE = (142.481,142.269,142.08,141.891,141.579 ,141.389,141.387,141.388,141.386, 141.384,141.382,141.38,141.377,141.375, 141.372,141.37,141.367,141.363,141.36, 141.358,141.355,141.351,141.348,141.345 ,141.34,141.337,141.334,141.331,141.328 ,141.324,141.319,141.313,141.309, 141.306,141.302,141.295,141.289,141.282 ,141.278,141.273,141.269,141.264, 141.259,141.255,141.251,141.245,141.239 ,141.233,141.229,141.394,141.551,141.93 ,142.166,142.374,142.531,142.626, 142.625,142.624,142.622,142.62,142.619, 142.617,142.616,142.615,142.613,142.612 ,142.611,142.61,142.609,142.607,142.606 ,142.605,142.605,142.604,142.604, 142.602,142.602,142.602,142.601,142.601 ,142.6,142.6,142.6,142.599,142.599, 142.599,142.599,142.598,142.598,142.599 ,142.598,142.598,142.598,142.599, 142.599,142.599,142.599,142.599,142.599 ,142.481)
ORBIT_NUMBER = 5201
ORBITAL_ECCENTRICITY = 0.573
ORBITAL_INCLINATION = 86.72
ORBITAL_SEMIMAJOR_AXIS = 8722.09
PERIAPSIS_ALTITUDE = 325.69
PERIAPSIS_ARGUMENT_ANGLE = 163.38
PERIAPSIS_TIME = 2008-01-19T20:02:48.000Z
SPACECRAFT_ORIENTATION = (0.0,-1.0,0.0)
^MEX_ORIENTATION_DESC = "MEX_ORIENTATION_DESC.TXT"
SPACECRAFT_POINTING_MODE = NADIR
^MEX_POINTING_DESC = "MEX_POINTING_DESC.TXT"
RIGHT_ASCENSION = -1e+32
DECLINATION = -1e+32
OFFSET_ANGLE = -1e+32
SPACECRAFT_SOLAR_DISTANCE = 2.40008e+08
TARGET_NAME = MARS
/* CAMERA DATA ELEMENTS */
DETECTOR_TEMPERATURE = 17.5549
FOCAL_PLANE_TEMPERATURE = 7.9716
INST_CMPRS_NAME = "DISCRETE COSINE TRANSFORMATION (DCT)"
INST_CMPRS_RATIO = 13.3714
INST_CMPRS_QUALITY = 0
INST_CMPRS_QUANTZ_TBL_ID = 0
INSTRUMENT_TEMPERATURE = 10.8262
LENS_TEMPERATURE = 8.3794
MACROPIXEL_SIZE = 4
MISSING_FRAMES = 0
PIXEL_SUBSAMPLING_FLAG = N
SIGNAL_CHAIN_ID = 3
/* RADIOMETRIC DATA ELEMENTS */
BANDWIDTH = 174.0
CENTER_FILTER_WAVELENGTH = 675.0
RADIANCE_OFFSET = 3.61794
RADIANCE_SCALING_FACTOR = 0.0151034
REFLECTANCE_SCALING_FACTOR = 0.000467963
MEX:REFLECTANCE_OFFSET = 0.112098
/* IMAGE OBJECT DEFINITIONS */
OBJECT = IMAGE
  INTERCHANGE_FORMAT = BINARY
  LINES = 14601
  LINE_SAMPLES = 1762
  SAMPLE_TYPE = UNSIGNED_INTEGER
  SAMPLE_BITS = 8
  BANDS = 1
  BAND_STORAGE_TYPE = BAND_SEQUENTIAL
  MAXIMUM = 255
  MEAN = 129.013
  MINIMUM = 1
  STANDARD_DEVIATION = 13.6831
END_OBJECT = IMAGE
/* MAP OBJECT DEFINITIONS */
OBJECT = IMAGE_MAP_PROJECTION
  ^DATA_SET_MAP_PROJECTION_CATALOG= "DSMAP.CAT"
  A_AXIS_RADIUS = 3396.0
  B_AXIS_RADIUS = 3396.0
  C_AXIS_RADIUS = 3396.0
  CENTER_LATITUDE = 0.0
  CENTER_LONGITUDE = 142.0
  COORDINATE_SYSTEM_NAME = PLANETOGRAPHIC
  COORDINATE_SYSTEM_TYPE = "BODY-FIXED ROTATING"
  EASTERNMOST_LONGITUDE = 142.626
  FIRST_STANDARD_PARALLEL = "N/A"
  LINE_FIRST_PIXEL = 1
  LINE_LAST_PIXEL = 14601
  LINE_PROJECTION_OFFSET = 10936.875
  MAP_PROJECTION_ROTATION = 0.0
  MAP_PROJECTION_TYPE = SINUSOIDAL
  MAP_RESOLUTION = 1185.42760773333
  MAP_SCALE = 0.05
  MAXIMUM_LATITUDE = 9.16201
  MINIMUM_LATITUDE = -3.27759
  POSITIVE_LONGITUDE_DIRECTION = EAST
  REFERENCE_LATITUDE = "N/A"
  REFERENCE_LONGITUDE = "N/A"
  SAMPLE_FIRST_PIXEL = 1
  SAMPLE_LAST_PIXEL = 1762
  SAMPLE_PROJECTION_OFFSET = 970.125
  SECOND_STANDARD_PARALLEL = "N/A"
  WESTERNMOST_LONGITUDE = 141.229
END_OBJECT = IMAGE_MAP_PROJECTION
/* The JPEG2000 image data file associated with this label. */
OBJECT = COMPRESSED_FILE
  FILE_NAME = "H5201_0000_P13.JP2"
  RECORD_TYPE = UNDEFINED
  FILE_RECORDS = UNK
  ENCODING_TYPE = "JP2"
  INTERCHANGE_FORMAT = BINARY
  UNCOMPRESSED_FILE_NAME = "H5201_0000_P13.IMG"
  REQUIRED_STORAGE_BYTES = "25748106"
  ^DESCRIPTION = "JP2INFO.TXT"
END_OBJECT = COMPRESSED_FILE
END
