PDS_VERSION_ID = PDS3
/* FILE DATA ELEMENTS */
RECORD_TYPE = STREAM
/* POINTERS TO DATA OBJECTS */
^COMPRESSED_FILE = "H5203_0000_IR3.JP2"
/* IDENTIFICATION DATA ELEMENTS */
DATA_SET_ID = "MEX-M-HRSC-5-REFDR-MAPPROJECTED-V3.0"
DATA_SET_NAME = "MARS EXPRESS HRSC MAP PROJECTED REFDR V3.0"
DETECTOR_ID = MEX_HRSC_IR
EVENT_TYPE = "MARS-REGIONAL-MAPPING-Vo-Te"
INSTRUMENT_HOST_ID = MEX
INSTRUMENT_HOST_NAME = "MARS EXPRESS"
INSTRUMENT_ID = HRSC
INSTRUMENT_NAME = "HIGH RESOLUTION STEREO CAMERA"
MISSION_NAME = "MARS EXPRESS"
MISSION_PHASE_NAME = ME_Phase_11
PROCESSING_LEVEL_ID = 3
PRODUCT_CREATION_TIME = 2016-05-13T12:18:58.000Z
PRODUCT_ID = "H5203_0000_IR3.JP2"
RELEASE_ID = 0060
REVISION_ID = 0000
/* QUALITY DATA ELEMENTS */
DATA_QUALITY_ID = 2
DATA_QUALITY_DESC = "Data calculated based on photogrammetrically improved orbit and attitude data"
/* TIME DATA ELEMENTS */
SPACECRAFT_CLOCK_START_COUNT = "1/0148901602.09059"
SPACECRAFT_CLOCK_STOP_COUNT = "1/0148901871.50269"
START_TIME = 2008-01-20T09:33:40.957Z
STOP_TIME = 2008-01-20T09:36:19.601Z
/* ORBITAL DATA ELEMENTS */
ASCENDING_NODE_LONGITUDE = 119.88
MAXIMUM_RESOLUTION = 87.2
FOOTPRINT_POINT_LATITUDE = (50.9921,50.9904,50.9884,50.9855, 50.9818,50.9773,50.972,50.9659,50.9589, 50.9511,50.9425,50.9255,50.9148,50.7173 ,50.542,50.362,50.0932,49.8249,49.5635, 49.3882,49.1261,48.9517,48.7796,48.6065 ,48.4339,48.1763,48.0043,47.8342, 47.5795,47.4127,47.2442,47.0758,46.9088 ,46.7421,46.5759,46.4117,46.2466, 46.0817,45.9188,45.7558,45.5926,45.431, 45.2698,45.1081,44.9478,44.7887,44.629, 44.3907,44.0763,43.6081,43.2971,42.9904 ,42.6082,42.4964,42.5018,42.5079, 42.5117,42.5146,42.5144,42.6675,43.0525 ,43.3607,43.5948,43.9847,44.2216, 44.5371,44.6974,44.9377,45.0982,45.2602 ,45.4221,45.5839,45.7479,45.9118, 46.1576,46.4067,46.5723,46.7393,46.9068 ,47.0739,47.3279,47.4973,47.665,47.8358 ,48.0066,48.1786,48.352,48.5252,48.6999 ,48.8735,49.0483,49.2245,49.4888,49.756 ,50.0237,50.2032,50.3822,50.5646, 50.7452,50.9921)
FOOTPRINT_POINT_LONGITUDE = (303.44,302.998,302.727,302.456,302.186 ,301.916,301.647,301.378,301.11,300.842 ,300.575,300.107,299.84,299.824,299.852 ,299.878,299.917,299.955,299.993, 300.017,300.053,300.076,300.099,300.122 ,300.144,300.176,300.197,300.218, 300.249,300.269,300.289,300.308,300.327 ,300.346,300.365,300.383,300.401, 300.419,300.436,300.453,300.47,300.487, 300.503,300.519,300.535,300.551,300.566 ,300.589,300.619,300.662,300.689, 300.716,300.748,301.031,301.261,301.629 ,302.022,302.509,303.022,303.245, 303.255,303.263,303.269,303.281,303.288 ,303.297,303.302,303.309,303.313, 303.318,303.323,303.328,303.333,303.338 ,303.345,303.353,303.358,303.363, 303.368,303.374,303.382,303.387,303.394 ,303.4,303.406,303.411,303.417,303.422, 303.428,303.435,303.441,303.447,303.457 ,303.467,303.477,303.484,303.491, 303.497,303.504,303.44)
ORBIT_NUMBER = 5203
ORBITAL_ECCENTRICITY = 0.573
ORBITAL_INCLINATION = 86.73
ORBITAL_SEMIMAJOR_AXIS = 8721.08
PERIAPSIS_ALTITUDE = 325.61
PERIAPSIS_ARGUMENT_ANGLE = 163.03
PERIAPSIS_TIME = 2008-01-20T09:43:51.000Z
SPACECRAFT_ORIENTATION = (0.0,-1.0,0.0)
^MEX_ORIENTATION_DESC = "MEX_ORIENTATION_DESC.TXT"
SPACECRAFT_POINTING_MODE = ACROSSTRACK
^MEX_POINTING_DESC = "MEX_POINTING_DESC.TXT"
RIGHT_ASCENSION = -1e+32
DECLINATION = -1e+32
OFFSET_ANGLE = 0.35
SPACECRAFT_SOLAR_DISTANCE = 2.40095e+08
TARGET_NAME = MARS
/* CAMERA DATA ELEMENTS */
DETECTOR_TEMPERATURE = 17.5549
FOCAL_PLANE_TEMPERATURE = 8.5833
INST_CMPRS_NAME = "DISCRETE COSINE TRANSFORMATION (DCT)"
INST_CMPRS_RATIO = 15.3365
INST_CMPRS_QUALITY = 0
INST_CMPRS_QUANTZ_TBL_ID = 0
INSTRUMENT_TEMPERATURE = 11.234
LENS_TEMPERATURE = 8.3794
MACROPIXEL_SIZE = 4
MISSING_FRAMES = 0
PIXEL_SUBSAMPLING_FLAG = N
SIGNAL_CHAIN_ID = 2
/* RADIOMETRIC DATA ELEMENTS */
BANDWIDTH = 81.0
CENTER_FILTER_WAVELENGTH = 955.5
RADIANCE_OFFSET = 0.504192
RADIANCE_SCALING_FACTOR = 0.00535931
REFLECTANCE_SCALING_FACTOR = 0.000666499
MEX:REFLECTANCE_OFFSET = 0.0627027
/* IMAGE OBJECT DEFINITIONS */
OBJECT = IMAGE
  INTERCHANGE_FORMAT = BINARY
  LINES = 4956
  LINE_SAMPLES = 1266
  SAMPLE_TYPE = UNSIGNED_INTEGER
  SAMPLE_BITS = 8
  BANDS = 1
  BAND_STORAGE_TYPE = BAND_SEQUENTIAL
  MAXIMUM = 255
  MEAN = 120.952
  MINIMUM = 1
  STANDARD_DEVIATION = 19.3958
END_OBJECT = IMAGE
/* MAP OBJECT DEFINITIONS */
OBJECT = IMAGE_MAP_PROJECTION
  ^DATA_SET_MAP_PROJECTION_CATALOG= "DSMAP.CAT"
  A_AXIS_RADIUS = 3396.0
  B_AXIS_RADIUS = 3396.0
  C_AXIS_RADIUS = 3396.0
  CENTER_LATITUDE = 0.0
  CENTER_LONGITUDE = 302.0
  COORDINATE_SYSTEM_NAME = PLANETOGRAPHIC
  COORDINATE_SYSTEM_TYPE = "BODY-FIXED ROTATING"
  EASTERNMOST_LONGITUDE = 303.504
  FIRST_STANDARD_PARALLEL = "N/A"
  LINE_FIRST_PIXEL = 1
  LINE_LAST_PIXEL = 4956
  LINE_PROJECTION_OFFSET = 30012.125
  MAP_PROJECTION_ROTATION = 0.0
  MAP_PROJECTION_TYPE = SINUSOIDAL
  MAP_RESOLUTION = 592.713803866667
  MAP_SCALE = 0.1
  MAXIMUM_LATITUDE = 50.9921
  MINIMUM_LATITUDE = 42.4964
  POSITIVE_LONGITUDE_DIRECTION = EAST
  REFERENCE_LATITUDE = "N/A"
  REFERENCE_LONGITUDE = "N/A"
  SAMPLE_FIRST_PIXEL = 1
  SAMPLE_LAST_PIXEL = 1266
  SAMPLE_PROJECTION_OFFSET = 762.125
  SECOND_STANDARD_PARALLEL = "N/A"
  WESTERNMOST_LONGITUDE = 299.824
END_OBJECT = IMAGE_MAP_PROJECTION
/* The JPEG2000 image data file associated with this label. */
OBJECT = COMPRESSED_FILE
  FILE_NAME = "H5203_0000_IR3.JP2"
  RECORD_TYPE = UNDEFINED
  FILE_RECORDS = UNK
  ENCODING_TYPE = "JP2"
  INTERCHANGE_FORMAT = BINARY
  UNCOMPRESSED_FILE_NAME = "H5203_0000_IR3.IMG"
  REQUIRED_STORAGE_BYTES = "6293286"
  ^DESCRIPTION = "JP2INFO.TXT"
END_OBJECT = COMPRESSED_FILE
END
