PDS_VERSION_ID = PDS3
/* FILE DATA ELEMENTS */
RECORD_TYPE = STREAM
/* POINTERS TO DATA OBJECTS */
^COMPRESSED_FILE = "H5203_0000_S23.JP2"
/* IDENTIFICATION DATA ELEMENTS */
DATA_SET_ID = "MEX-M-HRSC-5-REFDR-MAPPROJECTED-V3.0"
DATA_SET_NAME = "MARS EXPRESS HRSC MAP PROJECTED REFDR V3.0"
DETECTOR_ID = MEX_HRSC_S2
EVENT_TYPE = "MARS-REGIONAL-MAPPING-Vo-Te"
INSTRUMENT_HOST_ID = MEX
INSTRUMENT_HOST_NAME = "MARS EXPRESS"
INSTRUMENT_ID = HRSC
INSTRUMENT_NAME = "HIGH RESOLUTION STEREO CAMERA"
MISSION_NAME = "MARS EXPRESS"
MISSION_PHASE_NAME = ME_Phase_11
PROCESSING_LEVEL_ID = 3
PRODUCT_CREATION_TIME = 2016-05-13T12:18:58.000Z
PRODUCT_ID = "H5203_0000_S23.JP2"
RELEASE_ID = 0060
REVISION_ID = 0000
/* QUALITY DATA ELEMENTS */
DATA_QUALITY_ID = 2
DATA_QUALITY_DESC = "Data calculated based on photogrammetrically improved orbit and attitude data"
/* TIME DATA ELEMENTS */
SPACECRAFT_CLOCK_START_COUNT = "1/0148901602.09059"
SPACECRAFT_CLOCK_STOP_COUNT = "1/0148901871.50269"
START_TIME = 2008-01-20T09:35:45.250Z
STOP_TIME = 2008-01-20T09:37:53.635Z
/* ORBITAL DATA ELEMENTS */
ASCENDING_NODE_LONGITUDE = 119.88
MAXIMUM_RESOLUTION = 37.1
FOOTPRINT_POINT_LATITUDE = (50.1017,50.0895,50.0761,50.0617, 50.0462,50.0295,49.9164,49.7361,49.4684 ,49.2926,49.1164,48.9394,48.766,48.593, 48.4195,48.1606,47.9909,47.82,47.5635, 47.3962,47.2285,47.0609,46.8934,46.7273 ,46.5622,46.3973,46.2324,46.0684, 45.9061,45.6633,45.5011,45.3397,45.1008 ,44.9416,44.7822,44.5442,44.3877, 44.2302,44.0738,43.9172,43.6844,43.4538 ,43.2999,43.1463,42.9925,42.8417, 42.6156,42.4647,42.3126,42.1619,41.9016 ,41.9172,41.9269,41.9382,41.9472, 41.9589,42.1836,42.3345,42.4858,42.6371 ,42.864,43.0152,43.1685,43.3232,43.4779 ,43.6318,43.8627,44.0203,44.1787, 44.3353,44.4938,44.7301,44.8903,45.1304 ,45.2911,45.4511,45.6139,45.7766, 46.0206,46.1833,46.3489,46.597,46.8452, 47.097,47.2654,47.4338,47.6033,47.7759, 47.9475,48.1188,48.29,48.4633,48.7228, 48.9843,49.2496,49.4265,49.692,49.8717, 50.1411,50.1017)
FOOTPRINT_POINT_LONGITUDE = (302.613,302.174,301.736,301.301, 300.867,300.433,300.197,300.219,300.251 ,300.272,300.292,300.313,300.332, 300.351,300.371,300.399,300.416,300.434 ,300.461,300.478,300.495,300.512, 300.528,300.544,300.56,300.576,300.591, 300.606,300.621,300.643,300.657,300.671 ,300.692,300.706,300.719,300.739, 300.752,300.765,300.777,300.79,300.808, 300.826,300.838,300.849,300.861,300.872 ,300.888,300.899,300.91,300.921,301.017 ,301.472,301.771,302.13,302.451,302.875 ,303.005,303.006,303.008,303.009, 303.011,303.013,303.014,303.016,303.018 ,303.019,303.022,303.024,303.026, 303.027,303.03,303.032,303.033,303.036, 303.038,303.04,303.041,303.043,303.045, 303.046,303.048,303.05,303.052,303.055, 303.056,303.058,303.06,303.063,303.065, 303.067,303.068,303.07,303.071,303.074, 303.077,303.078,303.081,303.083,303.085 ,302.613)
ORBIT_NUMBER = 5203
ORBITAL_ECCENTRICITY = 0.573
ORBITAL_INCLINATION = 86.73
ORBITAL_SEMIMAJOR_AXIS = 8721.08
PERIAPSIS_ALTITUDE = 325.61
PERIAPSIS_ARGUMENT_ANGLE = 163.03
PERIAPSIS_TIME = 2008-01-20T09:43:51.000Z
SPACECRAFT_ORIENTATION = (0.0,-1.0,0.0)
^MEX_ORIENTATION_DESC = "MEX_ORIENTATION_DESC.TXT"
SPACECRAFT_POINTING_MODE = ACROSSTRACK
^MEX_POINTING_DESC = "MEX_POINTING_DESC.TXT"
RIGHT_ASCENSION = -1e+32
DECLINATION = -1e+32
OFFSET_ANGLE = 0.35
SPACECRAFT_SOLAR_DISTANCE = 2.40095e+08
TARGET_NAME = MARS
/* CAMERA DATA ELEMENTS */
DETECTOR_TEMPERATURE = 18.5744
FOCAL_PLANE_TEMPERATURE = 8.5833
INST_CMPRS_NAME = "DISCRETE COSINE TRANSFORMATION (DCT)"
INST_CMPRS_RATIO = 11.3893
INST_CMPRS_QUALITY = 0
INST_CMPRS_QUANTZ_TBL_ID = 0
INSTRUMENT_TEMPERATURE = 11.234
LENS_TEMPERATURE = 8.3794
MACROPIXEL_SIZE = 2
MISSING_FRAMES = 0
PIXEL_SUBSAMPLING_FLAG = N
SIGNAL_CHAIN_ID = 1
/* RADIOMETRIC DATA ELEMENTS */
BANDWIDTH = 178.0
CENTER_FILTER_WAVELENGTH = 679.0
RADIANCE_OFFSET = 2.10307
RADIANCE_SCALING_FACTOR = 0.0203011
REFLECTANCE_SCALING_FACTOR = 0.000619746
MEX:REFLECTANCE_OFFSET = 0.0642018
/* IMAGE OBJECT DEFINITIONS */
OBJECT = IMAGE
  INTERCHANGE_FORMAT = BINARY
  LINES = 9911
  LINE_SAMPLES = 2532
  SAMPLE_TYPE = UNSIGNED_INTEGER
  SAMPLE_BITS = 8
  BANDS = 1
  BAND_STORAGE_TYPE = BAND_SEQUENTIAL
  MAXIMUM = 255
  MEAN = 130.6
  MINIMUM = 1
  STANDARD_DEVIATION = 17.839
END_OBJECT = IMAGE
/* MAP OBJECT DEFINITIONS */
OBJECT = IMAGE_MAP_PROJECTION
  ^DATA_SET_MAP_PROJECTION_CATALOG= "DSMAP.CAT"
  A_AXIS_RADIUS = 3396.0
  B_AXIS_RADIUS = 3396.0
  C_AXIS_RADIUS = 3396.0
  CENTER_LATITUDE = 0.0
  CENTER_LONGITUDE = 302.0
  COORDINATE_SYSTEM_NAME = PLANETOGRAPHIC
  COORDINATE_SYSTEM_TYPE = "BODY-FIXED ROTATING"
  EASTERNMOST_LONGITUDE = 303.085
  FIRST_STANDARD_PARALLEL = "N/A"
  LINE_FIRST_PIXEL = 1
  LINE_LAST_PIXEL = 9911
  LINE_PROJECTION_OFFSET = 60024.75
  MAP_PROJECTION_ROTATION = 0.0
  MAP_PROJECTION_TYPE = SINUSOIDAL
  MAP_RESOLUTION = 1185.42760773333
  MAP_SCALE = 0.05
  MAXIMUM_LATITUDE = 50.1411
  MINIMUM_LATITUDE = 41.9016
  POSITIVE_LONGITUDE_DIRECTION = EAST
  REFERENCE_LATITUDE = "N/A"
  REFERENCE_LONGITUDE = "N/A"
  SAMPLE_FIRST_PIXEL = 1
  SAMPLE_LAST_PIXEL = 2532
  SAMPLE_PROJECTION_OFFSET = 1524.75
  SECOND_STANDARD_PARALLEL = "N/A"
  WESTERNMOST_LONGITUDE = 300.197
END_OBJECT = IMAGE_MAP_PROJECTION
/* The JPEG2000 image data file associated with this label. */
OBJECT = COMPRESSED_FILE
  FILE_NAME = "H5203_0000_S23.JP2"
  RECORD_TYPE = UNDEFINED
  FILE_RECORDS = UNK
  ENCODING_TYPE = "JP2"
  INTERCHANGE_FORMAT = BINARY
  UNCOMPRESSED_FILE_NAME = "H5203_0000_S23.IMG"
  REQUIRED_STORAGE_BYTES = "25114908"
  ^DESCRIPTION = "JP2INFO.TXT"
END_OBJECT = COMPRESSED_FILE
END
