PDS_VERSION_ID = PDS3
/* FILE DATA ELEMENTS */
RECORD_TYPE = STREAM
/* POINTERS TO DATA OBJECTS */
^COMPRESSED_FILE = "H5203_0001_GR3.JP2"
/* IDENTIFICATION DATA ELEMENTS */
DATA_SET_ID = "MEX-M-HRSC-5-REFDR-MAPPROJECTED-V3.0"
DATA_SET_NAME = "MARS EXPRESS HRSC MAP PROJECTED REFDR V3.0"
DETECTOR_ID = MEX_HRSC_GREEN
EVENT_TYPE = "MARS-REGIONAL-STEREO-Fl"
INSTRUMENT_HOST_ID = MEX
INSTRUMENT_HOST_NAME = "MARS EXPRESS"
INSTRUMENT_ID = HRSC
INSTRUMENT_NAME = "HIGH RESOLUTION STEREO CAMERA"
MISSION_NAME = "MARS EXPRESS"
MISSION_PHASE_NAME = ME_Phase_11
PROCESSING_LEVEL_ID = 3
PRODUCT_CREATION_TIME = 2016-05-13T12:18:58.000Z
PRODUCT_ID = "H5203_0001_GR3.JP2"
RELEASE_ID = 0060
REVISION_ID = 0000
/* QUALITY DATA ELEMENTS */
DATA_QUALITY_ID = 2
DATA_QUALITY_DESC = "Data calculated based on photogrammetrically improved orbit and attitude data"
/* TIME DATA ELEMENTS */
SPACECRAFT_CLOCK_START_COUNT = "1/0148902004.08252"
SPACECRAFT_CLOCK_STOP_COUNT = "1/0148902306.25045"
START_TIME = 2008-01-20T09:40:39.199Z
STOP_TIME = 2008-01-20T09:44:34.246Z
/* ORBITAL DATA ELEMENTS */
ASCENDING_NODE_LONGITUDE = 119.88
MAXIMUM_RESOLUTION = 105.3
FOOTPRINT_POINT_LATITUDE = (28.6615,28.662,28.662,28.6613,28.6589, 28.4645,28.1195,27.7703,27.4134,26.8855 ,26.5334,26.183,25.8473,25.5482,25.2517 ,24.9627,24.5169,24.2194,23.7744, 23.4768,23.1811,22.734,22.4359,22.1375, 21.8385,21.54,21.2417,20.942,20.6429, 20.3435,20.044,19.7443,19.2976,19.0081, 18.717,18.281,17.9903,17.6994,17.4082, 17.1172,16.8259,16.5347,16.2433,15.9519 ,15.6604,15.3688,15.078,14.7961,14.3733 ,13.9503,13.668,13.407,13.4056,13.4026, 13.4003,13.6825,13.9647,14.2469,14.6702 ,15.0933,15.3848,15.822,16.1141,16.5511 ,16.8424,17.1342,17.4254,17.862,18.153, 18.5895,18.8802,19.3161,19.7638,20.0636 ,20.3629,20.6632,20.9623,21.2614, 21.5607,21.86,22.1588,22.4573,22.7561, 23.0549,23.3518,23.6504,24.0962,24.5417 ,24.8365,25.1336,25.4268,25.7204,26.213 ,26.5657,26.9214,27.2729,27.6246, 27.9755,28.3237,28.6615)
FOOTPRINT_POINT_LONGITUDE = (302.921,302.638,302.424,302.144,301.72 ,301.502,301.512,301.521,301.527, 301.538,301.546,301.553,301.56,301.565, 301.57,301.578,301.585,301.59,301.597, 301.601,301.606,301.612,301.616,301.62, 301.623,301.627,301.63,301.633,301.636, 301.639,301.642,301.644,301.648,301.65, 301.652,301.655,301.656,301.658,301.659 ,301.661,301.662,301.663,301.664, 301.664,301.665,301.666,301.666,301.666 ,301.667,301.667,301.667,301.666, 301.971,302.446,302.844,302.845,302.846 ,302.847,302.848,302.849,302.85,302.852 ,302.853,302.855,302.856,302.857, 302.858,302.86,302.862,302.864,302.865, 302.868,302.87,302.872,302.874,302.875, 302.877,302.879,302.881,302.883,302.884 ,302.886,302.888,302.889,302.893, 302.894,302.898,302.901,302.907,302.908 ,302.915,302.922,302.921,302.924, 302.922,302.925,302.928,302.931,302.938 ,302.921)
ORBIT_NUMBER = 5203
ORBITAL_ECCENTRICITY = 0.573
ORBITAL_INCLINATION = 86.73
ORBITAL_SEMIMAJOR_AXIS = 8721.08
PERIAPSIS_ALTITUDE = 325.61
PERIAPSIS_ARGUMENT_ANGLE = 163.03
PERIAPSIS_TIME = 2008-01-20T09:43:51.000Z
SPACECRAFT_ORIENTATION = (0.0,-1.0,0.0)
^MEX_ORIENTATION_DESC = "MEX_ORIENTATION_DESC.TXT"
SPACECRAFT_POINTING_MODE = ACROSSTRACK
^MEX_POINTING_DESC = "MEX_POINTING_DESC.TXT"
RIGHT_ASCENSION = -1e+32
DECLINATION = -1e+32
OFFSET_ANGLE = 0.35
SPACECRAFT_SOLAR_DISTANCE = 2.40095e+08
TARGET_NAME = MARS
/* CAMERA DATA ELEMENTS */
DETECTOR_TEMPERATURE = 19.39
FOCAL_PLANE_TEMPERATURE = 8.3794
INST_CMPRS_NAME = "DISCRETE COSINE TRANSFORMATION (DCT)"
INST_CMPRS_RATIO = 11.9603
INST_CMPRS_QUALITY = 0
INST_CMPRS_QUANTZ_TBL_ID = 0
INSTRUMENT_TEMPERATURE = 12.6613
LENS_TEMPERATURE = 8.7872
MACROPIXEL_SIZE = 8
MISSING_FRAMES = 0
PIXEL_SUBSAMPLING_FLAG = N
SIGNAL_CHAIN_ID = 2
/* RADIOMETRIC DATA ELEMENTS */
BANDWIDTH = 88.0
CENTER_FILTER_WAVELENGTH = 538.0
RADIANCE_OFFSET = 0.769366
RADIANCE_SCALING_FACTOR = 0.00667248
REFLECTANCE_SCALING_FACTOR = 0.000331163
MEX:REFLECTANCE_OFFSET = 0.0381845
/* IMAGE OBJECT DEFINITIONS */
OBJECT = IMAGE
  INTERCHANGE_FORMAT = BINARY
  LINES = 9030
  LINE_SAMPLES = 798
  SAMPLE_TYPE = UNSIGNED_INTEGER
  SAMPLE_BITS = 8
  BANDS = 1
  BAND_STORAGE_TYPE = BAND_SEQUENTIAL
  MAXIMUM = 255
  MEAN = 115.198
  MINIMUM = 1
  STANDARD_DEVIATION = 23.9634
END_OBJECT = IMAGE
/* MAP OBJECT DEFINITIONS */
OBJECT = IMAGE_MAP_PROJECTION
  ^DATA_SET_MAP_PROJECTION_CATALOG= "DSMAP.CAT"
  A_AXIS_RADIUS = 3396.0
  B_AXIS_RADIUS = 3396.0
  C_AXIS_RADIUS = 3396.0
  CENTER_LATITUDE = 0.0
  CENTER_LONGITUDE = 302.0
  COORDINATE_SYSTEM_NAME = PLANETOGRAPHIC
  COORDINATE_SYSTEM_TYPE = "BODY-FIXED ROTATING"
  EASTERNMOST_LONGITUDE = 302.938
  FIRST_STANDARD_PARALLEL = "N/A"
  LINE_FIRST_PIXEL = 1
  LINE_LAST_PIXEL = 9030
  LINE_PROJECTION_OFFSET = 16977.8125
  MAP_PROJECTION_ROTATION = 0.0
  MAP_PROJECTION_TYPE = SINUSOIDAL
  MAP_RESOLUTION = 592.713803866667
  MAP_SCALE = 0.1
  MAXIMUM_LATITUDE = 28.662
  MINIMUM_LATITUDE = 13.4003
  POSITIVE_LONGITUDE_DIRECTION = EAST
  REFERENCE_LATITUDE = "N/A"
  REFERENCE_LONGITUDE = "N/A"
  SAMPLE_FIRST_PIXEL = 1
  SAMPLE_LAST_PIXEL = 798
  SAMPLE_PROJECTION_OFFSET = 272.4375
  SECOND_STANDARD_PARALLEL = "N/A"
  WESTERNMOST_LONGITUDE = 301.502
END_OBJECT = IMAGE_MAP_PROJECTION
/* The JPEG2000 image data file associated with this label. */
OBJECT = COMPRESSED_FILE
  FILE_NAME = "H5203_0001_GR3.JP2"
  RECORD_TYPE = UNDEFINED
  FILE_RECORDS = UNK
  ENCODING_TYPE = "JP2"
  INTERCHANGE_FORMAT = BINARY
  UNCOMPRESSED_FILE_NAME = "H5203_0001_GR3.IMG"
  REQUIRED_STORAGE_BYTES = "7223496"
  ^DESCRIPTION = "JP2INFO.TXT"
END_OBJECT = COMPRESSED_FILE
END
