PDS_VERSION_ID = PDS3
/* FILE DATA ELEMENTS */
RECORD_TYPE = STREAM
/* POINTERS TO DATA OBJECTS */
^COMPRESSED_FILE = "H5204_0000_P23.JP2"
/* IDENTIFICATION DATA ELEMENTS */
DATA_SET_ID = "MEX-M-HRSC-5-REFDR-MAPPROJECTED-V3.0"
DATA_SET_NAME = "MARS EXPRESS HRSC MAP PROJECTED REFDR V3.0"
DETECTOR_ID = MEX_HRSC_P2
EVENT_TYPE = "MARS-REGIONAL-MAPPING-Vo-Eo-La"
INSTRUMENT_HOST_ID = MEX
INSTRUMENT_HOST_NAME = "MARS EXPRESS"
INSTRUMENT_ID = HRSC
INSTRUMENT_NAME = "HIGH RESOLUTION STEREO CAMERA"
MISSION_NAME = "MARS EXPRESS"
MISSION_PHASE_NAME = ME_Phase_11
PROCESSING_LEVEL_ID = 3
PRODUCT_CREATION_TIME = 2016-05-13T12:18:58.000Z
PRODUCT_ID = "H5204_0000_P23.JP2"
RELEASE_ID = 0060
REVISION_ID = 0000
/* QUALITY DATA ELEMENTS */
DATA_QUALITY_ID = 2
DATA_QUALITY_DESC = "Data calculated based on photogrammetrically improved orbit and attitude data"
/* TIME DATA ELEMENTS */
SPACECRAFT_CLOCK_START_COUNT = "1/0148926817.07301"
SPACECRAFT_CLOCK_STOP_COUNT = "1/0148927022.56654"
START_TIME = 2008-01-20T16:34:29.989Z
STOP_TIME = 2008-01-20T16:36:54.308Z
/* ORBITAL DATA ELEMENTS */
ASCENDING_NODE_LONGITUDE = 119.86
MAXIMUM_RESOLUTION = 53.6
FOOTPRINT_POINT_LATITUDE = (17.1579,17.1574,17.1566,17.1718, 16.9858,16.7998,16.6138,16.4279,16.242, 16.0562,15.8705,15.6847,15.4991,15.3135 ,15.128,14.9426,14.7572,14.5718,14.3866 ,14.2014,14.0163,13.8312,13.6462, 13.4613,13.2765,13.0918,12.8148,12.6302 ,12.4457,12.2614,12.0771,11.8929, 11.7088,11.5248,11.2489,11.0648,10.7889 ,10.6052,10.3297,10.0545,9.77973, 9.59643,9.31457,9.12551,8.93666,8.7479, 8.55917,8.37043,8.18183,7.99357,7.82467 ,7.82386,7.82289,7.82251,7.91784, 8.10651,8.38947,8.67256,8.86141,9.05087 ,9.24003,9.42948,9.7993,10.0744,10.2578 ,10.4413,10.625,10.9008,11.0846,11.2686 ,11.4525,11.6366,11.8208,12.0051, 12.1895,12.3739,12.5584,12.743,12.9277, 13.1125,13.3898,13.5747,13.7598,14.0375 ,14.3154,14.5008,14.6863,14.9645, 15.1501,15.3358,15.5215,15.7073,15.986, 16.1719,16.3578,16.5439,16.73,16.9159, 17.1022,17.1579)
FOOTPRINT_POINT_LONGITUDE = (202.245,201.941,201.56,201.241,201.242 ,201.242,201.243,201.243,201.243, 201.244,201.244,201.244,201.244,201.244 ,201.244,201.244,201.244,201.244, 201.244,201.244,201.244,201.243,201.243 ,201.243,201.242,201.242,201.241,201.24 ,201.24,201.239,201.238,201.237,201.236 ,201.236,201.234,201.233,201.232, 201.231,201.229,201.227,201.225,201.224 ,201.222,201.221,201.219,201.217, 201.216,201.214,201.212,201.21,201.525, 201.751,202.034,202.227,202.424,202.424 ,202.424,202.423,202.423,202.423, 202.423,202.423,202.423,202.423,202.423 ,202.423,202.423,202.423,202.423, 202.423,202.423,202.423,202.423,202.424 ,202.424,202.424,202.424,202.424, 202.424,202.424,202.425,202.425,202.425 ,202.426,202.426,202.426,202.427, 202.427,202.428,202.428,202.428,202.429 ,202.429,202.43,202.43,202.43,202.431, 202.431,202.432,202.245)
ORBIT_NUMBER = 5204
ORBITAL_ECCENTRICITY = 0.573
ORBITAL_INCLINATION = 86.73
ORBITAL_SEMIMAJOR_AXIS = 8718.47
PERIAPSIS_ALTITUDE = 325.78
PERIAPSIS_ARGUMENT_ANGLE = 162.82
PERIAPSIS_TIME = 2008-01-20T16:34:17.000Z
SPACECRAFT_ORIENTATION = (0.0,-1.0,0.0)
^MEX_ORIENTATION_DESC = "MEX_ORIENTATION_DESC.TXT"
SPACECRAFT_POINTING_MODE = NADIR
^MEX_POINTING_DESC = "MEX_POINTING_DESC.TXT"
RIGHT_ASCENSION = -1e+32
DECLINATION = -1e+32
OFFSET_ANGLE = -1e+32
SPACECRAFT_SOLAR_DISTANCE = 2.40138e+08
TARGET_NAME = MARS
/* CAMERA DATA ELEMENTS */
DETECTOR_TEMPERATURE = 18.5744
FOCAL_PLANE_TEMPERATURE = 8.7872
INST_CMPRS_NAME = "DISCRETE COSINE TRANSFORMATION (DCT)"
INST_CMPRS_RATIO = 6.37083
INST_CMPRS_QUALITY = 0
INST_CMPRS_QUANTZ_TBL_ID = 0
INSTRUMENT_TEMPERATURE = 11.4379
LENS_TEMPERATURE = 8.9911
MACROPIXEL_SIZE = 4
MISSING_FRAMES = 0
PIXEL_SUBSAMPLING_FLAG = N
SIGNAL_CHAIN_ID = 3
/* RADIOMETRIC DATA ELEMENTS */
BANDWIDTH = 177.0
CENTER_FILTER_WAVELENGTH = 676.5
RADIANCE_OFFSET = 3.49023
RADIANCE_SCALING_FACTOR = 0.0185589
REFLECTANCE_SCALING_FACTOR = 0.000567454
MEX:REFLECTANCE_OFFSET = 0.106717
/* IMAGE OBJECT DEFINITIONS */
OBJECT = IMAGE
  INTERCHANGE_FORMAT = BINARY
  LINES = 11161
  LINE_SAMPLES = 1511
  SAMPLE_TYPE = UNSIGNED_INTEGER
  SAMPLE_BITS = 8
  BANDS = 1
  BAND_STORAGE_TYPE = BAND_SEQUENTIAL
  MAXIMUM = 255
  MEAN = 147.854
  MINIMUM = 1
  STANDARD_DEVIATION = 17.413
END_OBJECT = IMAGE
/* MAP OBJECT DEFINITIONS */
OBJECT = IMAGE_MAP_PROJECTION
  ^DATA_SET_MAP_PROJECTION_CATALOG= "DSMAP.CAT"
  A_AXIS_RADIUS = 3396.0
  B_AXIS_RADIUS = 3396.0
  C_AXIS_RADIUS = 3396.0
  CENTER_LATITUDE = 0.0
  CENTER_LONGITUDE = 202.0
  COORDINATE_SYSTEM_NAME = PLANETOGRAPHIC
  COORDINATE_SYSTEM_TYPE = "BODY-FIXED ROTATING"
  EASTERNMOST_LONGITUDE = 202.432
  FIRST_STANDARD_PARALLEL = "N/A"
  LINE_FIRST_PIXEL = 1
  LINE_LAST_PIXEL = 11161
  LINE_PROJECTION_OFFSET = 20378.375
  MAP_PROJECTION_ROTATION = 0.0
  MAP_PROJECTION_TYPE = SINUSOIDAL
  MAP_RESOLUTION = 1185.42760773333
  MAP_SCALE = 0.05
  MAXIMUM_LATITUDE = 17.1718
  MINIMUM_LATITUDE = 7.82251
  POSITIVE_LONGITUDE_DIRECTION = EAST
  REFERENCE_LATITUDE = "N/A"
  REFERENCE_LONGITUDE = "N/A"
  SAMPLE_FIRST_PIXEL = 1
  SAMPLE_LAST_PIXEL = 1511
  SAMPLE_PROJECTION_OFFSET = 969.125
  SECOND_STANDARD_PARALLEL = "N/A"
  WESTERNMOST_LONGITUDE = 201.21
END_OBJECT = IMAGE_MAP_PROJECTION
/* The JPEG2000 image data file associated with this label. */
OBJECT = COMPRESSED_FILE
  FILE_NAME = "H5204_0000_P23.JP2"
  RECORD_TYPE = UNDEFINED
  FILE_RECORDS = UNK
  ENCODING_TYPE = "JP2"
  INTERCHANGE_FORMAT = BINARY
  UNCOMPRESSED_FILE_NAME = "H5204_0000_P23.IMG"
  REQUIRED_STORAGE_BYTES = "16883914"
  ^DESCRIPTION = "JP2INFO.TXT"
END_OBJECT = COMPRESSED_FILE
END
